Workbook
Name 「성장사다리펀드2」___딥테크_창업기업: 작성요령!$A$413:$B$413
Name 「성장사다리펀드2」___세컨더리_매칭: 작성요령!$A$416:$B$416
Name 경력구분: 작성요령!$F$401:$F$403
Name 공동투자약정_유형: 작성요령!$F$404:$F$408
Name 납입방식: 작성요령!$C$408:$C$409
Name 동반투자자유형: 작성요령!$C$396:$C$401
Name 법인유형: 작성요령!$F$387:$F$390
Name 손상차손_인식여부: 작성요령!$C$401:$C$403
Name 여부: 작성요령!$F$350:$F$351
Name 운용사유형: 작성요령!$C$382:$C$390
Name 운용인력직무구분: 작성요령!$F$352:$F$353
Name 일반인력_경력: '3.4.2.일반운용인력 경력'!$E$11:$O$500
Name 일반인력_투자현황: '3.2.2.일반운용인력 투자현황'!$E$11:$AP$503
Name 재직회사법인유형: 작성요령!$F$397:$F$400
Name 제안사_투자현황: '2.4.제안사 투자현황'!$D$11:$AI$1000
Name 제안사_펀드현황: '2.3.제안사 펀드현황'!$D$11:$BT$200
Name 제안서작성기준일: 작성요령!$C$65
Name 주식및주식연계채권: 작성요령!$F$354:$F$358
Name 참여인력_개요: '3.1.참여인력 개요'!$D$11:$AC$200
Name 참여인력구분: 작성요령!$F$347:$F$349
Name 참여인력투자법인유형: 작성요령!$F$392:$F$395
Name 출자예상내역: '1.2.출자예상내역'!$D$11:$I$37
Name 출자자유형: 작성요령!$C$362:$C$376
Name 출자자확정구분: 작성요령!$C$378:$C$381
Name 탄녹위_5대분야: 작성요령!#REF!
Name 투자계정구분: 작성요령!$F$385:$F$386
Name 투자유형: 작성요령!$F$354:$F$361
Name 펀드_거래: '4.1.펀드 거래'!$A$2:$D$2000
Name 펀드_인력변경이력: '4.2.펀드 인력변경 이력'!$A$2:$E$165
Name 펀드거래유형: 작성요령!$F$380:$F$384
Name 펀드법적유형: 작성요령!$C$346:$C$359
Name 펀드상태: 작성요령!$C$391:$C$395
Name 펀드유형: 작성요령!$C$360:$C$361
Name 펀드투자유형: 작성요령!$F$363:$F$364
Name 핵심인력_경력: '3.4.1.핵심운용인력 경력'!$E$11:$O$500
Name 핵심인력_투자현황: '3.2.1.핵심운용인력 투자현황'!$E$11:$AP$502
Name 회수구분: 작성요령!$F$366:$F$368
Name 회수유형: 작성요령!$F$369:$F$379

Sheet 작성요령
A1: Ⅰ. 작성요령
A3: [공통사항]
A4: 1. 별첨(1.1~4.2) 자료 작성전 하기 사항을 반드시 숙지하여 작성 (별첨번호는 Sheet명에서 확인 가능)
A5: 2. 일자는 yyyy-mm-dd, 사업자등록번호는 000-00-00000, 법인등록번호는 000000-0000000 형식으로 입력
A6: 3. Drop down 목록이 있는 셀은 목록에서 선택
A7: 4. 'Alt+Enter'나 연이은 공백은 입력하지 말 것
A8: 5. 연록색으로 음영처리된 셀은 자동 반영되거나 고정된 값이므로 별도의 입력은 하지 말 것
A9: - 당사와 사전 협의 없이 수식을 편집한 경우는 허위사실 기재로 간주될 수 있음
A10: - 셀 서식을 수정하지 말것
A11: 6. 펀드명, 회사명 등은 정식명칭을 기입하기 바람
A12: 7. 11행부터 자료를 입력하고 1행~10행은 절대 삭제 및 수정 금지("4.1. 펀드거래", "4.2. 펀드 인력변경이력" 제외), Sheet 삭제 및 명칭변경 금지
A13: 8. 단위 : 백만원("4.1. 펀드거래"는 단위를 "원"으로 함), 천USD, %, 건
... A63: Ⅱ. 용어의 정의 등
A65: 제안서작성기준일 | C65: 46022
A66: 설립일 | C66: 제안사 법인등기부등본 상의 설립일
A67: 펀드운용업무시작일 | C67: 제안사가 펀드법적유형중 하나에 해당하는 자격을 가지고 있는 경우 해당 자격 취득일
C68: 자격이 필요 없는 경우는 조직개편일 등
C69: ※ M&A 또는 회사분할 등이 있었던 경우 변경전의 펀드운용업무시작일을 기재
A70: 운용펀드최초결성일 | C70: 펀드 투자규약(정관, 신탁계약서 등) 상에 제안사가 운용사로 기재된 펀드로서
C71: 결성일이 가장 빠른 펀드의 펀드결성일
C72: ※ M&A이전 운용 펀드와 회사분할 후 운용한 펀드는 고려하되
C73: 회사분할 이전에 청산한 펀드는 고려하지 말 것
A74: 펀드결성(예정)일 | C74: 관련 법령에 따라 감독기관에 등록한 날 또는 그 예정일.
C75: 등록이 필요없는 경우 결성총회일, 창립총회일 또는 계약체결일
A76: 펀드 | C76: ⅰ) 부동산 또는 부실채권 이외 자산의 주식 또는 주식연계채권 등(프로젝트 투자 제외)에 주로 투자하는
C77: - 「벤처투자촉진에관한법」제2조 제11호에 따른 벤처투자조합
C78: - 「여신전문금융업법」제2조 제14의5호에 따른 신기술사업투자조합
C79: - 「중소기업창업 지원법」제2조 제5호에 따른 중소기업창업투자조합
C80: - 「벤처기업육성에 관한 특별조치법」제4조의3에 따른 한국벤처투자조합
C81: - 「부품·소재전문기업 등의 육성에 관한 특별조치법」제2조 제6호에 따른 소재·부품·장비전문투자조합
C82: - 「산업발전법」(법률 제9584호 산업발전법 전부개정법률로 개정되기 전의 것을 말함) 제15조에 따라 등록된 기업구조조정조합 및 「산업발전법」제20조에 따른 기업구조개선 사모투자전문회사
C83: - 「자본시장과 금융투자업에 관한 법률」제9조 제19항에 따른 사모집합투자기구 등 사모펀드(또는 이와 유사한 외국집합투자기구)
C84: ii) 평가대상 펀드는 펀드결성목적 또는 주요투자대상이 중소·벤처·중견기업인 펀드로 한정
C85: iii) 단, 펀드 결성부터 해산까지 기간이 1년 이내인 펀드는 제외 / 프로젝트 투자(벤처투자촉진에관한법률 제2조 1호 다목 및 동법 시행규칙 제2조)방법으로 주로 운용하는 펀드 / 단기 수익 획득 목적으로 주로 운용하는 펀드(상장주식 매매 등)은 작성대상에서 제외
A86: 펀드운용 | C86: 투자대상 발굴, 투자검토, 투자실행, 사후관리, 회수 등
A87: 약정총액 | C87: 펀드 투자규약(정관, 신탁계약서 등)에 따라 각 출자자가 출자이행을 확약한 총액
C88: 헤지펀드 등 펀드 투자규약(정관, 신탁계약서 등) 상에 약정총액이 정해지지 않은 경우에는 제안사가 펀드운용 목적 달성을 위해 판단하고 있는 펀드설정원본
A89: 납입총액 | C89: 약정총액(또는 펀드설정원본) 한도 내에서 출자자가 펀드에 실제 납입한 금액
A90: 투자기간종료(예정)일 | C90: 펀드 투자규약(정관, 신탁계약서 등) 상에 기재된 투자기간 종료(예정)일
C91: 프로젝트 펀드 등 펀드 투자규약(정관, 신탁계약서 등) 상에 투자기간이 정해지지 않은 경우에는 제안사가 펀드운용 목적 달성을 위해 판단하고 있는 투자기간의 종료(예정)일
...

Sheet 1.1.제안펀드
A1: RFPID | B1: PropFundID | C1: PropGPID1 | D1: PropGPID2 | E1: PropGPID3 | F1: PropGPReportYMD | G1: FundName | H1: QualificationSelect | I1: InvestAreaSelect | J1: FundPlanContractAmt | K1: MLPReqContractAmt | L1: PropFundUsefulYears | M1: PropFundInvestYears | N1: PayInMethodSelect | O1: TargetIRR | P1: HurdleRate | Q1: PlanContingentFeeDesc | R1: PlanManagingFeeDesc | S1: PropGPName1 | T1: PropGPNo1 | U1: PropGPPlanContractAmt1 | V1: PropGPLossCoverRate1 | W1: PropGPCoreFundMgrHC1 | X1: PropGPOrdiFundMgrHC1 | Y1: PropGPName2 | Z1: PropGPNo2 | AA1: PropGPPlanContractAmt2 | AB1: PropGPLossCoverRate2 | AC1: PropGPCoreFundMgrHC2 | AD1: PropGPOrdiFundMgrHC2 | AE1: PropGPName3 | AF1: PropGPNo3 | AG1: PropGPPlanContractAmt3 | AH1: PropGPLossCoverRate3 | AI1: PropGPCoreFundMgrHC3 | AJ1: PropGPOrdiFundMgrHC3 | AK1: PropFundMgrName | AL1: PropFundMgrCompany | AM1: PropFundMgrTelNo
F3: 제안서 작성 기준일 | G3: 제안펀드 | P3: 보수 | S3: 제안사1 | Y3: 제안사2 | AE3: 제안사3 | AK3: 제안펀드 담당자
A4: 모집단위ID | B4: 제안펀드ID | C4: 제안사1_ID | D4: 제안사2_ID | E4: 제안사3_ID | G4: 펀드명 | H4: 투자기구 | I4: 지원분야 | J4: 최소 결성금액 | K4: 총 출자요청액 | L4: 존속기간 | M4: 투자기간 | N4: 납입방식 | O4: 목표 수익률 (IRR) | P4: 기준 수익률 | Q4: 성과보수제안 | R4: 관리보수제안 | S4: 회사명 | T4: 법인등록번호 | U4: 출자약정액 | V4: 후순위 출자 비율 | W4: 참여 핵심 운용 인력수 | X4: 참여 일반 운용 인력수 | Y4: 회사명 | Z4: 법인등록번호 | AA4: 출자약정액 | AB4: 후순위 출자 비율 | AC4: 참여 핵심 운용 인력수 | AD4: 참여 일반 운용 인력수 | AE4: 회사명 | AF4: 법인등록번호 | AG4: 출자약정액 | AH4: 후순위 출자 비율 | AI4: 참여 핵심 운용 인력수 | AJ4: 참여 일반 운용 인력수 | AK4: 성명 | AL4: 소속 | AM4: 연락처
F11: =제안서작성기준일 -> 46022 | G11: 000 펀드 | H11: 벤처투자조합 | I11: 「2기 방산기술혁신펀드(1차)」 소형 | J11: =K11*2 -> 240 | K11: =IF(I11="「2기 방산기술혁신펀드(1차)」 소형",120,200) -> 120 | L11: 10 | M11: 4 | N11: 수시납 | O11: oo% | P11: =IF(I11="「2기 방산기술혁신펀드(1차)」 소형",6%,8%) -> 0.06 | S11: 가인베스트먼트 | T11: 000000-0000000 | U11: 10000 | V11: 0 | W11: 3 | X11: 2 | Y11: 나인베스트먼트 | Z11: 000000-0000000 | AA11: 10000 | AB11: 0 | AC11: 3 | AD11: 2 | AE11: 다인베스트먼트 | AF11: 000000-0000000 | AG11: 10000 | AH11: 0 | AI11: 3 | AJ11: 2 | AK11: 홍길동 | AL11: 가인베스트먼트 | AM11: 070-2222-2222
Z13: .
I14: `

Sheet 1.2.출자예상내역
A1: RFPID | B1: PropFundID | C1: LineNum | D1: FundMemberType | E1: FundMemberName | F1: CommitStatus | G1: FundingAmt | H1: LossCoverRate | I1: Remark
A4: 모집단위ID | B4: 제안펀드ID | C4: 순번 | D4: 출자자유형 | E4: 출자자명 | F4: 출자확정구분 | G4: 출자약정예상액 (단위 : 백만원) | H4: 기타 제안조건 | I4: 비고
D11: 정책출자자 | E11: 방산기술혁신펀드 | F11: 미정 | G11: =IF('1.1.제안펀드'!I11="「2기 방산기술혁신펀드(1차)」 소형",12000,20000) -> 12000
D12: 제안사(회사) | E12: 가인베스트먼트 | F12: 운용사 | G12: 1000
D13: 제안사계열사/특수관계인 | E13: 나캐피탈 | F13: LOC | G13: 2000
D14: 보험사 | E14: 다화재보험 | F14: LOC | G14: 3000
D15: 연기금 | E15: 라연금 | F15: 미정 | G15: 8000
D16: 공제회 | E16: 마공제회 | F16: 미정 | G16: 4000
D38: 계 | G38: =SUM(G11:G37) -> 30000 | I38: =IF(G38='1.1.제안펀드'!J11,"","차이 확인필요") -> 차이 확인필요

Sheet 2.1.제안사 개요
A1: RFPID | B1: GPID | C1: GPNAME | D1: CompanyNo | E1: CompanySSN | F1: CEO | G1: GPType | H1: FoundationYMD | I1: FundMngBegYMD | J1: FundBegRegisterYMD | K1: ZipCode | L1: Addr | M1: Addr2 | N1: HeadCount | O1: FundFundMgrHC | P1: ComFundMgrHC | Q1: ContactPersonName | R1: ContactPersonBuName | S1: ContactPersonJobTitle | T1: ContactPersonTelNo | U1: ContactPersonFaxNo | V1: ContactPersonMBTLTelNo | W1: ContactPersonEmail
C3: 기본정보 | H3: 업력 | K3: 주소 | N3: 인원 | Q3: 담당자
A4: 모집단위ID | B4: 운용사ID | C4: 제안사명 | D4: 법인등록번호 | E4: 사업자등록번호 | F4: 대표자명 | G4: 제안사유형 | H4: 설립일 | I4: 펀드운용업무 시작일 | J4: 운용펀드 최초결성일 | K4: 우편번호 | L4: 주소 | M4: 주소상세 | N4: 전체 인원수 | O4: 펀드운용 담당 인력수 | P4: 고유계정투자담당인력수 | Q4: 성명 | R4: 부서 | S4: 직위 | T4: 전화 | U4: 팩스 | V4: 휴대전화번호 | W4: Email
C11: 가인베스트먼트㈜ | D11: 000000-0000000 | E11: 000-00-00000 | F11: 홍길동 | G11: 중소기업창업투자회사 | H11: 36892 | I11: 40178 | J11: 40207 | K11: 000-000 | L11: 서울 영등포구 여의도동 | M11: 여의나루로 76 XXXX투자운용 | N11: 50 | O11: 25 | P11: 20 | Q11: 홍길동 | R11: 관리부 | S11: 부장 | T11: 000-0000-0000 | U11: 000-0000-0000 | V11: 000-0000-0000 | W11: 000@0000.oo.oo
C14: 청산완료 펀드 (전체펀드건) | L14: 운용(결성)예정/운용중/청산중 펀드 (전체펀드건) | U14: 고유계정 투자 (전체투자건) | AC14: 펀드계정 투자 (전체투자건)
C15: 펀드수 | D15: 약정총액 | E15: 납입총액 | F15: 투자총액 | G15: 회수총액 | H15: 출자자앞 분배총액 | I15: 성과보수 지급총액 | J15: 납입총액 가중평균 펀드 수익률 (IRR) | K15: 펀드 수익률 (Multiple) | L15: 펀드수 | M15: 약정총액 | N15: 납입총액 | O15: 투자총액 | P15: 회수총액 | Q15: 출자자앞분배총액 | R15: 성과보수 지급총액 | S15: 펀드 순자산 | T15: 추가투자 예상금액 | U15: 투자건수 | V15: 투자건수 (회수료) | W15: 투자총액 | X15: 회수총액 | Y15: 미회수 투자자산투자원금 총액 | Z15: 미회수 투자자산 가치총액 | AA15: 투자금액 가중평균 수익률 | AB15: 투자금액 가중평균수익률 (회수료) | AC15: 투자건수 | AD15: 투자건수 (회수료) | AE15: 투자총액 | AF15: 회수총액 | AG15: 미회수 투자자산투자원금 총액 | AH15: 미회수 투자자산가치총액 | AI15: 투자금액 가중수익률 | AJ15: 투자금액 가중평균수익률 (회수료)
C16: =SUMPRODUCT( (OFFSET(제안사_펀드현황,0,2,ROWS(제안사_펀드현황),1)="청산료")*1 ) -> 2 | D16: =SUMPRODUCT( (OFFSET(제안사_펀드현황,0,2,ROWS(제안사_펀드현황),1)="청산료")*1, OFFSET(제안사_펀드현황,0,9,ROWS(제안사_펀드현황),1) ) -> 13000 | E16: =SUMPRODUCT( (OFFSET(제안사_펀드현황,0,2,ROWS(제안사_펀드현황),1)="청산료")*1, OFFSET(제안사_펀드현황,0,10,ROWS(제안사_펀드현황),1) ) -> 13000 | F16: =SUMPRODUCT( (OFFSET(제안사_펀드현황,0,2,ROWS(제안사_펀드현황),1)="청산료")*1, OFFSET(제안사_펀드현황,0,22,ROWS(제안사_펀드현황),1) ) -> 14999.991 | G16: =SUMPRODUCT( (OFFSET(제안사_펀드현황,0,2,ROWS(제안사_펀드현황),1)="청산료")*1, OFFSET(제안사_펀드현황,0,23,ROWS(제안사_펀드현황),1) ) -> 6450 | H16: =SUMPRODUCT( (OFFSET(제안사_펀드현황,0,2,ROWS(제안사_펀드현황),1)="청산료")*1, OFFSET(제안사_펀드현황,0,26,ROWS(제안사_펀드현황),1) ) -> 20290 | I16: =SUMPRODUCT( (OFFSET(제안사_펀드현황,0,2,ROWS(제안사_펀드현황),1)="청산료")*1, OFFSET(제안사_펀드현황,0,27,ROWS(제안사_펀드현황),1) ) -> 0 | J16: =SUMPRODUCT( (OFFSET(제안사_펀드현황,0,2,ROWS(제안사_펀드현황),1)="청산료")*1, OFFSET(제안사_펀드현황,0,10,ROWS(제안사_펀드현황),1), OFFSET(제안사_펀드현황,0,19,ROWS(제안사_펀드현황),1) )/E16 -> 0.10959221 | K16: =(H16+I16)/E16 -> 1.5607692 | L16: =SUMPRODUCT( (OFFSET(제안사_펀드현황,0,2,ROWS(제안사_펀드현황),1)<>"청산료")*1, (OFFSET(제안사_펀드현황,0,2,ROWS(제안사_펀드현황),1)<>"")*1 ) -> 2 | M16: =SUMPRODUCT( (OFFSET(제안사_펀드현황,0,2,ROWS(제안사_펀드현황),1)<>"청산료")*1, (OFFSET(제안사_펀드현황,0,2,ROWS(제안사_펀드현황),1)<>"")*1, OFFSET(제안사_펀드현황,0,9,ROWS(제안사_펀드현황),1) ) -> 10000 | N16: =SUMPRODUCT( (OFFSET(제안사_펀드현황,0,2,ROWS(제안사_펀드현황),1)<>"청산료")*1, (OFFSET(제안사_펀드현황,0,2,ROWS(제안사_펀드현황),1)<>"")*1, OFFSET(제안사_펀드현황,0,10,ROWS(제안사_펀드현황),1) ) -> 10000 | O16: =SUMPRODUCT( (OFFSET(제안사_펀드현황,0,2,ROWS(제안사_펀드현황),1)<>"청산료")*1, (OFFSET(제안사_펀드현황,0,2,ROWS(제안사_펀드현황),1)<>"")*1, OFFSET(제안사_펀드현황,0,22,ROWS(제안사_펀드현황),1) ) -> 4000 | P16: =SUMPRODUCT( (OFFSET(제안사_펀드현황,0,2,ROWS(제안사_펀드현황),1)<>"청산료")*1, (OFFSET(제안사_펀드현황,0,2,ROWS(제안사_펀드현황),1)<>"")*1, OFFSET(제안사_펀드현황,0,23,ROWS(제안사_펀드현황),1) ) -> 0 | Q16: =SUMPRODUCT( (OFFSET(제안사_펀드현황,0,2,ROWS(제안사_펀드현황),1)<>"청산료")*1, (OFFSET(제안사_펀드현황,0,2,ROWS(제안사_펀드현황),1)<>"")*1, OFFSET(제안사_펀드현황,0,26,ROWS(제안사_펀드현황),1) ) -> 11419.569 | R16: =SUMPRODUCT( (OFFSET(제안사_펀드현황,0,2,ROWS(제안사_펀드현황),1)<>"청산료")*1, (OFFSET(제안사_펀드현황,0,2,ROWS(제안사_펀드현황),1)<>"")*1, OFFSET(제안사_펀드현황,0,27,ROWS(제안사_펀드현황),1) ) -> 0 | S16: =SUMPRODUCT( (OFFSET(제안사_펀드현황,0,2,ROWS(제안사_펀드현황),1)<>"청산료")*1, (OFFSET(제안사_펀드현황,0,2,ROWS(제안사_펀드현황),1)<>"")*1, OFFSET(제안사_펀드현황,0,32,ROWS(제안사_펀드현황),1) ) -> 2020 | T16: =SUMPRODUCT( (OFFSET(제안사_펀드현황,0,2,ROWS(제안사_펀드현황),1)<>"청산료")*1, (OFFSET(제안사_펀드현황,0,2,ROWS(제안사_펀드현황),1)<>"")*1, OFFSET(제안사_펀드현황,0,33,ROWS(제안사_펀드현황),1) ) -> 0 | U16: =SUMPRODUCT( (OFFSET(제안사_투자현황,0,0,ROWS(제안사_투자현황),1)="고유계정")*1 ) -> 0 | V16: =SUMPRODUCT( (OFFSET(제안사_투자현황,0,0,ROWS(제안사_투자현황),1)="고유계정")*1, (OFFSET(제안사_투자현황,0,10,ROWS(제안사_투자현황),1)="회수료")*1 ) -> 0 | W16: =SUMPRODUCT( (OFFSET(제안사_투자현황,0,0,ROWS(제안사_투자현황),1)="고유계정")*1, OFFSET(제안사_투자현황,0,9,ROWS(제안사_투자현황),1) ) -> 0 | X16: =SUMPRODUCT( (OFFSET(제안사_투자현황,0,0,ROWS(제안사_투자현황),1)="고유계정")*1, OFFSET(제안사_투자현황,0,14,ROWS(제안사_투자현황),1) ) -> 0 | Y16: =SUMPRODUCT( (OFFSET(제안사_투자현황,0,0,ROWS(제안사_투자현황),1)="고유계정")*1, OFFSET(제안사_투자현황,0,19,ROWS(제안사_투자현황),1) ) -> 0 | Z16: =SUMPRODUCT( (OFFSET(제안사_투자현황,0,0,ROWS(제안사_투자현황),1)="고유계정")*1, OFFSET(제안사_투자현황,0,20,ROWS(제안사_투자현황),1) ) -> 0 | AA16: =IF(W16=0,"N/A", SUMPRODUCT( (OFFSET(제안사_투자현황,0,0,ROWS(제안사_투자현황),1)="고유계정")*1, OFFSET(제안사_투자현황,0,9,ROWS(제안사_투자현황),1), OFFSET(제안사_투자현황,0,11,ROWS(제안사_투자현황),1) ) / W16) -> N/A | AB16: =IF( SUMPRODUCT( (OFFSET(제안사_투자현황,0,0,ROWS(제안사_투자현황),1)="고유계정")*1, OFFSET(제안사_투자현황,0,9,ROWS(제안사_투자현황),1), (OFFSET(제안사_투자현황,0,10,ROWS(제안사_투자현황),1)="회수료")*1) = 0, "N/A", SUMPRODUCT( (OFFSET(제안사_투자현황,0,0,ROWS(제안사_투자현황),1)="고유계정")*1, OFFSET(제안사_투자현황,0,9,ROWS(제안사_투자현황),1), (OFFSET(제안사_투자현황,0,10,ROWS(제안사_투자현황),1)="회수료")*1, OFFSET(제안사_투자현황,0,11,ROWS(제안사_투자현황),1) ) / SUMPRODUCT( (OFFSET(제안사_투자현황,0,0,ROWS(제안사_투자현황),1)="고유계정")*1, OFFSET(제안사_투자현황,0,9,ROWS(제안사_투자현황),1), (OFFSET(제안사_투자현황,0,10,ROWS(제안사_투자현황),1)="회수료")*1) ) -> N/A | AC16: =SUMPRODUCT( (OFFSET(제안사_투자현황,0,0,ROWS(제안사_투자현황),1)="펀드계정")*1 ) -> 8 | AD16: =SUMPRODUCT( (OFFSET(제안사_투자현황,0,0,ROWS(제안사_투자현황),1)="펀드계정")*1, (OFFSET(제안사_투자현황,0,10,ROWS(제안사_투자현황),1)="회수료")*1 ) -> 2 | AE16: =SUMPRODUCT( (OFFSET(제안사_투자현황,0,0,ROWS(제안사_투자현황),1)="펀드계정")*1, OFFSET(제안사_투자현황,0,9,ROWS(제안사_투자현황),1) ) -> 18999.991 | AF16: =SUMPRODUCT( (OFFSET(제안사_투자현황,0,0,ROWS(제안사_투자현황),1)="펀드계정")*1, OFFSET(제안사_투자현황,0,14,ROWS(제안사_투자현황),1) ) -> 6450 | AG16: =SUMPRODUCT( (OFFSET(제안사_투자현황,0,0,ROWS(제안사_투자현황),1)="펀드계정")*1, OFFSET(제안사_투자현황,0,19,ROWS(제안사_투자현황),1) ) -> 13879.992 | AH16: =SUMPRODUCT( (OFFSET(제안사_투자현황,0,0,ROWS(제안사_투자현황),1)="펀드계정")*1, OFFSET(제안사_투자현황,0,20,ROWS(제안사_투자현황),1) ) -> 13439.569 | AI16: =IF(AE16=0,"N/A", SUMPRODUCT( (OFFSET(제안사_투자현황,0,0,ROWS(제안사_투자현황),1)="펀드계정")*1, OFFSET(제안사_투자현황,0,9,ROWS(제안사_투자현황),1), OFFSET(제안사_투자현황,0,11,ROWS(제안사_투자현황),1) ) / AE16) -> 0.0063157893 | AJ16: =IF( SUMPRODUCT( (OFFSET(제안사_투자현황,0,0,ROWS(제안사_투자현황),1)="펀드계정")*1, OFFSET(제안사_투자현황,0,9,ROWS(제안사_투자현황),1), (OFFSET(제안사_투자현황,0,10,ROWS(제안사_투자현황),1)="회수료")*1) = 0, "N/A", SUMPRODUCT( (OFFSET(제안사_투자현황,0,0,ROWS(제안사_투자현황),1)="펀드계정")*1, OFFSET(제안사_투자현황,0,9,ROWS(제안사_투자현황),1), (OFFSET(제안사_투자현황,0,10,ROWS(제안사_투자현황),1)="회수료")*1, OFFSET(제안사_투자현황,0,11,ROWS(제안사_투자현황),1) ) / SUMPRODUCT( (OFFSET(제안사_투자현황,0,0,ROWS(제안사_투자현황),1)="펀드계정")*1, OFFSET(제안사_투자현황,0,9,ROWS(제안사_투자현황),1), (OFFSET(제안사_투자현황,0,10,ROWS(제안사_투자현황),1)="회수료")*1) ) -> 0.029999992
C19: 최초결성운용펀드명칭 | E19: 최초결성운용펀드개요 | K19: 최초결성운용펀드규모 | M19: 최초결성운용펀드 존속기간
C20: 최초결성 운용펀드명 | D20: 펀드 사업자 등록번호 | E20: 펀드 상태 | F20: 펀드법적유형 | G20: 펀드유형 (투자대상확정여부) | H20: 펀드결성목적 또는 주요투자대상 | I20: 투자기업의 주된 법인유형 | J20: 펀드의 주된 투자유형 | K20: 약정 총액 | L20: 납입 총액 | M20: 결성(예정)일 | N20: 투자기간 종료(예정)일 | O20: 해산(예정)일 | P20: 기간(연)
C21: 펀드1호 | D21: 000-00-00000 | E21: 청산료 | F21: 중소기업창업투자조합 | G21: 블라인드펀드 | H21: 일반 중소기업 | I21: 국내설립법인 또는 해외현지법인 | J21: 주식 또는 주식연계채권 | K21: 2000 | L21: 2000 | M21: =J11 -> 40207 | N21: 40572 | O21: 40937 | P21: =IF(ISBLANK(M21),"",DATEDIF(M21,O21,"d")/365) -> 2
C24: 주요주주 현황
C25: 주주명 | D25: 지분율(%) | E25: 최대주주와의 관계 | H25: 비고
C36: 합계 | D36: 1
C37: ※ 지분율 높은 순으로 기재(3%미만은 기타로 분류하여 기재)

Sheet 2.2.제안사 재무현황
A1: RFPID | B1: GPID | C1: FYearEndYMD | E1: Assets | F1: CurrentAssets | G1: Liabilities | H1: CurrentLiabilities | I1: Equity | J1: CapitalStock | K1: Sales | L1: COS | M1: NetIncome | N1: CurrentRatio | O1: DebtRatio | P1: CapitalDeficitRatio | Q1: OperatingProfitRatio | R1: ReturnOnEquity
A4: 모집단위ID | B4: 운용사ID | C4: 결산일자 | D4: 결산여부 | E4: 총자산 | F4: 유동자산 | G4: 총부채 | H4: 유동부채 | I4: 자기자본(자본총계) | J4: 자본금+자본잉여금 | K4: 영업수익 | L4: 영업비용 | M4: 당기순이익 | N4: 유동비율 | O4: 부채비율 | P4: 자본충실률 | Q4: 영업수지율 | R4: 자기자본순이익률
C11: 46022 | D11: 감사보고서 | E11: 10000 | F11: 9000 | G11: 3000 | H11: 1000 | I11: 7000 | J11: 4000 | K11: 2000 | L11: 1500 | M11: 200 | N11: =F11/H11 -> 9 | O11: =G11/I11 -> 0.42857143 | P11: =I11/J11 -> 1.75 | Q11: =K11/L11 -> 1.3333333 | R11: =M11/I11 -> 0.028571429
C12: 45657 | D12: 감사보고서 | E12: 10000 | F12: 9000 | G12: 3000 | H12: 1000 | I12: 7000 | J12: 4000 | K12: 2000 | L12: 1500 | M12: 200 | N12: =F12/H12 -> 9 | O12: =G12/I12 -> 0.42857143 | P12: =I12/J12 -> 1.75 | Q12: =K12/L12 -> 1.3333333 | R12: =M12/I12 -> 0.028571429
C13: 45291 | D13: 감사보고서 | E13: 8000 | F13: 7000 | G13: 3000 | H13: 1000 | I13: 1000 | J13: 500 | K13: 600 | L13: 500 | M13: -100 | N13: =F13/H13 -> 7 | O13: =G13/I13 -> 3 | P13: =I13/J13 -> 2 | Q13: =K13/L13 -> 1.2 | R13: =M13/I13 -> -0.1

Sheet 2.3.제안사 펀드현황
A1: RFPID | B1: GPID | C1: Seq | D1: FundName | E1: FundCompanySSN | F1: FundStatusDesc | G1: FundTypeDesc | H1: IsInvtComFixedDesc | K1: MainInvestTargetDesc | M1: FundContractAmt | N1: FundPayInAmt | O1: RegisterYMD | P1: InvestEndYMD | Q1: PropFundSettleYMD | S1: PropFundUsefulYears | T1: HurdleRate | U1: RFPContingentFeeDesc | V1: RFPManagingFeeDesc | W1: FundIRR | X1: FundMultiple | Y1: InvtComCount | Z1: InvestAmt | AA1: CollectAmt | AB1: InvestBalBV | AC1: InvestBalEvalAmt | AD1: PayOutAmt | AE1: ContingentFeeAmt | AF1: PropManagingFeeAmt | AG1: OtherExpenseAmt | AH1: OtherAssetAmt | AI1: OtherDebtAmt | AJ1: FundNetAmt | AK1: AddInvestPlanAmt | AL1: CoreFundMgrName1 | AM1: CoreFundMgrBegYMD1 | AN1: CoreFundMgrEndYMD1 | AO1: IsCoreFundMgrWorking1 | AP1: CoreFundMgrName2 | AQ1: CoreFundMgrBegYMD2 | AR1: CoreFundMgrEndYMD2 | AS1: IsCoreFundMgrWorking2 | AT1: CoreFundMgrName3 | AU1: CoreFundMgrBegYMD3 | AV1: CoreFundMgrEndYMD3 | AW1: IsCoreFundMgrWorking3 | AX1: CoreFundMgrChangeNo | BA1: GPName | BB1: GPContractAmt | BC1: PropGPLossCoverAmt | BD1: JointGPName1 | BE1: JointGPPayInAmt1 | BF1: JointGPLossCoverAmt1 | BG1: JointGPName2 | BH1: JointGPPayInAmt2 | BI1: JointGPLossCoverAmt2 | BJ1: LPName1 | BK1: LPPayInAmt1 | BL1: LPName2 | BM1: LPPayInAmt2 | BN1: LPName3 | BO1: LPPayInAmt3 | BP1: LPName3 | BQ1: LPPayInAmt3 | BR1: LPName3 | BS1: LPPayInAmt3 | BT1: OtherLPPayInAmt
D2: Offset | E2: 1 | F2: 2 | G2: 3 | H2: 4 | I2: 5 | J2: 6 | K2: 7 | M2: 9 | N2: 10 | O2: 11 | P2: 12 | Q2: 13 | R2: 14 | S2: 15 | T2: 16 | U2: 17 | V2: 18 | W2: 19 | X2: 20 | Y2: 21 | Z2: 22 | AA2: 23 | AB2: 24 | AC2: 25 | AD2: 26 | AE2: 27 | AF2: 28 | AG2: 29 | AH2: 30 | AI2: 31 | AJ2: 32 | AK2: 33 | AL2: 34 | AM2: 35 | AN2: 36 | AO2: 37 | AP2: 38 | AQ2: 39 | AR2: 40 | AS2: 41 | AT2: 42 | AU2: 43 | AV2: 44 | AW2: 45 | AX2: 46 | AY2: 47 | AZ2: 48 | BA2: 49 | BB2: 50 | BC2: 51 | BD2: 52 | BE2: 53 | BF2: 54 | BG2: 55 | BH2: 56 | BI2: 57 | BJ2: 58 | BK2: 59 | BL2: 60 | BM2: 61 | BN2: 62 | BO2: 63 | BP2: 64 | BQ2: 65 | BR2: 66 | BS2: 67 | BT2: 68
D3: 펀드명칭 | I3: 펀드개요 | M3: 펀드규모 | O3: 펀드 존속기간 | T3: 보수 | W3: 펀드수익률 | Y3: 투자 및 회수 | AB3: 미회수투자자산 | AD3: 분배 및 비용 | AH3: 예금 등 투자자산 이외 자산총액 | AI3: 미지급등 부채총액 | AJ3: 펀드 순자산 | AK3: 추가투자 예상금액 | AL3: 핵심운용인력1 | AP3: 핵심운용인력2 | AT3: 핵심운용인력3 | AX3: 핵심운용인력 유지율 | BA3: 제안사출자 | BD3: 공동운용사1출자 | BG3: 공동운용사2출자 | BJ3: 투자자1 출자 | BL3: 투자자2 출자 | BN3: 투자자3 출자 | BP3: 관계사1 출자 | BR3: 관계사2 출자 | BT3: 기타투자자 출자 약정액
A4: 모집단위ID | B4: 운용사ID | C4: 일련번호 | D4: 펀드명 | E4: 펀드 사업자 등록번호 | F4: 펀드 상태 | G4: 펀드법적유형 | H4: 펀드유형(투자대상확정여부) | I4: 펀드결성목적 또는 주요투자대상 | J4: 투자자산의 주된 유형 | K4: 펀드의 주된 투자유형 | L4: 성장금융 위탁펀드 여부 | M4: 약정 총액 | N4: 납입 총액 | O4: 결성(예정)일 | P4: 투자기간 종료(예정)일 | Q4: 해산(예정)일 | R4: 청산(예정)일 | S4: 기간(연) | T4: 기준 수익률 | U4: 성과보수 | V4: 관리보수 | W4: IRR | X4: Multiple | Y4: 투자건수 | Z4: 투자 총액 | AA4: 회수 총액 | AB4: 투자 원금 총액 | AC4: 가치 총액 | AD4: 출자자앞 분배총액 | AE4: 성과보수지급총액 | AF4: 관리보수 지급총액 | AG4: 기타비용 지급총액 | AL4: 성명 | AM4: 시작일 | AN4: 종료일 | AO4: 재직여부 | AP4: 성명 | AQ4: 시작일 | AR4: 종료일 | AS4: 재직여부 | AT4: 성명 | AU4: 시작일 | AV4: 종료일 | AW4: 재직여부 | AX4: 펀드설립시 핵심운용인력수 | AY4: 핵심운용인력 유출횟수 | AZ4: 유지율 | BA4: 제안사명 | BB4: 약정액 | BC4: 우선손실 충당액 | BD4: 운용사명 | BE4: 약정액 | BF4: 우선손실 충당액 | BG4: 운용사명 | BH4: 약정액 | BI4: 우선손실 충당액 | BJ4: 출자자명 | BK4: 약정액 | BL4: 출자자명 | BM4: 약정액 | BN4: 출자자명 | BO4: 약정액 | BP4: 출자자명 | BQ4: 약정액 | BR4: 출자자명 | BS4: 약정액
D11: 펀드1호 | E11: 000-00-00000 | F11: 청산료 | G11: 중소기업창업투자조합 | H11: 블라인드펀드 | I11: 일반 중소기업 | J11: 국내설립법인 또는 해외현지법인 | K11: 주식 또는 주식연계채권 | L11: YES | M11: 3000 | N11: 3000 | O11: 39448 | P11: 40544 | Q11: 40556 | S11: =IF(ISBLANK(O11),"",DATEDIF(O11,Q11,"d")/365) -> 3.0356164 | T11: 0.1 | U11: 초과수익의 20% | V11: 초기3년 약정액의 3.0%, 잔여기간 투자잔액의 3.0% | W11: =IF(ISBLANK($D11), "", IF( ISERROR( XIRR( OFFSET(펀드_거래,MATCH($D11,OFFSET(펀드_거래,0,0,ROWS(펀드_거래),1),0)-1,2,COUNTIF(펀드_거래,$D11),1), OFFSET(펀드_거래,MATCH($D11,OFFSET(펀드_거래,0,0,ROWS(펀드_거래),1),0)-1,3,COUNTIF(펀드_거래,$D11),1) ) ), "N/A", XIRR( OFFSET(펀드_거래,MATCH($D11,OFFSET(펀드_거래,0,0,ROWS(펀드_거래),1),0)-1,2,COUNTIF(펀드_거래,$D11),1), OFFSET(펀드_거래,MATCH($D11,OFFSET(펀드_거래,0,0,ROWS(펀드_거래),1),0)-1,3,COUNTIF(펀드_거래,$D11),1), IF(SUM(OFFSET(펀드_거래,MATCH($D11,OFFSET(펀드_거래,0,0,ROWS(펀드_거래),1),0)-1,2,COUNTIF(펀드_거래,$D11),1))>0, 1%, -1%) ) ) ) -> 0.19785229 | X11: =IF( ISBLANK($D11), "", IF(ISNUMBER(N11), (AC11+AD11+AE11+AH11-AI11)/N11, "N/A") ) -> 6.5916811 | Y11: =IF( ISBLANK($D11), "", SUMPRODUCT( (OFFSET(제안사_투자현황,0,1,ROWS(제안사_투자현황),1)=$D11)*1, ISTEXT(OFFSET(제안사_투자현황,0,3,ROWS(제안사_투자현황),1))*1 ) ) -> 3 | Z11: =IF( ISBLANK($D11), "0", SUMPRODUCT( (OFFSET(제안사_투자현황,0,1,ROWS(제안사_투자현황),1)=$D11)*1, OFFSET(제안사_투자현황,0,9,ROWS(제안사_투자현황),1)) ) -> 5999.9919 | AA11: =IF( ISBLANK($D11), "", SUMPRODUCT( (OFFSET(제안사_투자현황,0,1,ROWS(제안사_투자현황),1)=$D11)*1, OFFSET(제안사_투자현황,0,14,ROWS(제안사_투자현황),1)) ) -> 4000 | AB11: =IF( ISBLANK($D11), "", SUMPRODUCT( (OFFSET(제안사_투자현황,0,1,ROWS(제안사_투자현황),1)=$D11)*1, OFFSET(제안사_투자현황,0,19,ROWS(제안사_투자현황),1)) ) -> 2999.9919 | AC11: =IF( ISBLANK($D11), "", SUMPRODUCT( (OFFSET(제안사_투자현황,0,1,ROWS(제안사_투자현황),1)=$D11)*1, OFFSET(제안사_투자현황,0,20,ROWS(제안사_투자현황),1)) ) -> 3075.0434 | AD11: =IF( ISBLANK($D11), "", SUMPRODUCT( (OFFSET(펀드_거래,0,0,ROWS(펀드_거래),1)=$D11)*1, (OFFSET(펀드_거래,0,1,ROWS(펀드_거래),1)="현금분배")*1, OFFSET(펀드_거래,0,2,ROWS(펀드_거래),1)/1000000 ) + SUMPRODUCT( (OFFSET(펀드_거래,0,0,ROWS(펀드_거래),1)=$D11)*1, (OFFSET(펀드_거래,0,1,ROWS(펀드_거래),1)="현물분배")*1, OFFSET(펀드_거래,0,2,ROWS(펀드_거래),1)/1000000 ) ) -> 16700 | AE11: =IF( ISBLANK($D11), "", SUMPRODUCT( (OFFSET(펀드_거래,0,0,ROWS(펀드_거래),1)=$D11)*1, (OFFSET(펀드_거래,0,1,ROWS(펀드_거래),1)="성과보수")*1, OFFSET(펀드_거래,0,2,ROWS(펀드_거래),1)/1000000) ) -> 0 | AJ11: =IF( ISERROR(AC11+AH11-AI11), "", AC11+AH11-AI11 ) -> 3075.0434 | AX11: =SUMIF('4.2.펀드 인력변경 이력'!A:A,D11,'4.2.펀드 인력변경 이력'!F:F) -> 3 | AY11: =SUMIF('4.2.펀드 인력변경 이력'!A:A,D11,'4.2.펀드 인력변경 이력'!G:G) -> 3 | AZ11: =IF(D11="","",IF(AY11=0,3,IF(AX11/AY11>3,3,AX11/AY11))) -> 1
D12: 펀드2호 | E12: 000-00-00001 | F12: 청산료 | G12: 기업구조조정조합 | H12: 블라인드펀드 | I12: 중소기업의 해외진출 지원 | J12: 외국법인 | K12: 주식 또는 주식연계채권 | L12: NO | M12: 10000 | N12: 10000 | O12: 39448 | P12: 41307 | Q12: 41359 | S12: =IF(ISBLANK(O12),"",DATEDIF(O12,Q12,"d")/365) -> 5.2356164 | T12: 0.1 | U12: 초과수익의 20% | V12: 투자잔액의 3.0% | W12: =IF(ISBLANK($D12), "", IF( ISERROR( XIRR( OFFSET(펀드_거래,MATCH($D12,OFFSET(펀드_거래,0,0,ROWS(펀드_거래),1),0)-1,2,COUNTIF(펀드_거래,$D12),1), OFFSET(펀드_거래,MATCH($D12,OFFSET(펀드_거래,0,0,ROWS(펀드_거래),1),0)-1,3,COUNTIF(펀드_거래,$D12),1) ) ), "N/A", XIRR( OFFSET(펀드_거래,MATCH($D12,OFFSET(펀드_거래,0,0,ROWS(펀드_거래),1),0)-1,2,COUNTIF(펀드_거래,$D12),1), OFFSET(펀드_거래,MATCH($D12,OFFSET(펀드_거래,0,0,ROWS(펀드_거래),1),0)-1,3,COUNTIF(펀드_거래,$D12),1), IF(SUM(OFFSET(펀드_거래,MATCH($D12,OFFSET(펀드_거래,0,0,ROWS(펀드_거래),1),0)-1,2,COUNTIF(펀드_거래,$D12),1))>0, 1%, -1%) ) ) ) -> 0.083114181 | X12: =IF( ISBLANK($D12), "", IF(ISNUMBER(N12), (AC12+AD12+AE12+AH12-AI12)/N12, "N/A") ) -> 1.1934526 | Y12: =IF( ISBLANK($D12), "", SUMPRODUCT( (OFFSET(제안사_투자현황,0,1,ROWS(제안사_투자현황),1)=$D12)*1, ISTEXT(OFFSET(제안사_투자현황,0,3,ROWS(제안사_투자현황),1))*1 ) ) -> 3 | Z12: =IF( ISBLANK($D12), "0", SUMPRODUCT( (OFFSET(제안사_투자현황,0,1,ROWS(제안사_투자현황),1)=$D12)*1, OFFSET(제안사_투자현황,0,9,ROWS(제안사_투자현황),1)) ) -> 8999.999 | AA12: =IF( ISBLANK($D12), "", SUMPRODUCT( (OFFSET(제안사_투자현황,0,1,ROWS(제안사_투자현황),1)=$D12)*1, OFFSET(제안사_투자현황,0,14,ROWS(제안사_투자현황),1)) ) -> 2450 | AB12: =IF( ISBLANK($D12), "", SUMPRODUCT( (OFFSET(제안사_투자현황,0,1,ROWS(제안사_투자현황),1)=$D12)*1, OFFSET(제안사_투자현황,0,19,ROWS(제안사_투자현황),1)) ) -> 6900 | AC12: =IF( ISBLANK($D12), "", SUMPRODUCT( (OFFSET(제안사_투자현황,0,1,ROWS(제안사_투자현황),1)=$D12)*1, OFFSET(제안사_투자현황,0,20,ROWS(제안사_투자현황),1)) ) -> 8344.5257 | AD12: =IF( ISBLANK($D12), "", SUMPRODUCT( (OFFSET(펀드_거래,0,0,ROWS(펀드_거래),1)=$D12)*1, (OFFSET(펀드_거래,0,1,ROWS(펀드_거래),1)="현금분배")*1, OFFSET(펀드_거래,0,2,ROWS(펀드_거래),1)/1000000 ) + SUMPRODUCT( (OFFSET(펀드_거래,0,0,ROWS(펀드_거래),1)=$D12)*1, (OFFSET(펀드_거래,0,1,ROWS(펀드_거래),1)="현물분배")*1, OFFSET(펀드_거래,0,2,ROWS(펀드_거래),1)/1000000 ) ) -> 3590 | AE12: =IF( ISBLANK($D12), "", SUMPRODUCT( (OFFSET(펀드_거래,0,0,ROWS(펀드_거래),1)=$D12)*1, (OFFSET(펀드_거래,0,1,ROWS(펀드_거래),1)="성과보수")*1, OFFSET(펀드_거래,0,2,ROWS(펀드_거래),1)/1000000) ) -> 0 | AJ12: =IF( ISERROR(AC12+AH12-AI12), "", AC12+AH12-AI12 ) -> 8344.5257 | AX12: =SUMIF('4.2.펀드 인력변경 이력'!A:A,D12,'4.2.펀드 인력변경 이력'!F:F) -> 3 | AY12: =SUMIF('4.2.펀드 인력변경 이력'!A:A,D12,'4.2.펀드 인력변경 이력'!G:G) -> 0 | AZ12: =IF(D12="","",IF(AY12=0,3,IF(AX12/AY12>3,3,AX12/AY12))) -> 3
D13: 펀드3호 | E13: 000-00-00002 | F13: 운용중 | G13: 중소기업창업투자조합 | H13: 블라인드펀드 | I13: 아시아 지역 투자 | J13: 국내설립법인 또는 해외현지법인 | K13: 기타 | L13: NO | M13: 10000 | N13: 10000 | O13: 39448 | P13: 42460 | Q13: 42893 | S13: =IF(ISBLANK(O13),"",DATEDIF(O13,Q13,"d")/365) -> 9.4383562 | T13: 0.1 | U13: 초과수익의 20% | V13: 투자잔액의 2.5% | W13: =IF(ISBLANK($D13), "", IF( ISERROR( XIRR( OFFSET(펀드_거래,MATCH($D13,OFFSET(펀드_거래,0,0,ROWS(펀드_거래),1),0)-1,2,COUNTIF(펀드_거래,$D13),1), OFFSET(펀드_거래,MATCH($D13,OFFSET(펀드_거래,0,0,ROWS(펀드_거래),1),0)-1,3,COUNTIF(펀드_거래,$D13),1) ) ), "N/A", XIRR( OFFSET(펀드_거래,MATCH($D13,OFFSET(펀드_거래,0,0,ROWS(펀드_거래),1),0)-1,2,COUNTIF(펀드_거래,$D13),1), OFFSET(펀드_거래,MATCH($D13,OFFSET(펀드_거래,0,0,ROWS(펀드_거래),1),0)-1,3,COUNTIF(펀드_거래,$D13),1), IF(SUM(OFFSET(펀드_거래,MATCH($D13,OFFSET(펀드_거래,0,0,ROWS(펀드_거래),1),0)-1,2,COUNTIF(펀드_거래,$D13),1))>0, 1%, -1%) ) ) ) -> 0.082898526 | X13: =IF( ISBLANK($D13), "", IF(ISNUMBER(N13), (AC13+AD13+AE13+AH13-AI13)/N13, "N/A") ) -> 1.3439569 | Y13: =IF( ISBLANK($D13), "", SUMPRODUCT( (OFFSET(제안사_투자현황,0,1,ROWS(제안사_투자현황),1)=$D13)*1, ISTEXT(OFFSET(제안사_투자현황,0,3,ROWS(제안사_투자현황),1))*1 ) ) -> 2 | Z13: =IF( ISBLANK($D13), "0", SUMPRODUCT( (OFFSET(제안사_투자현황,0,1,ROWS(제안사_투자현황),1)=$D13)*1, OFFSET(제안사_투자현황,0,9,ROWS(제안사_투자현황),1)) ) -> 4000 | AA13: =IF( ISBLANK($D13), "", SUMPRODUCT( (OFFSET(제안사_투자현황,0,1,ROWS(제안사_투자현황),1)=$D13)*1, OFFSET(제안사_투자현황,0,14,ROWS(제안사_투자현황),1)) ) -> 0 | AB13: =IF( ISBLANK($D13), "", SUMPRODUCT( (OFFSET(제안사_투자현황,0,1,ROWS(제안사_투자현황),1)=$D13)*1, OFFSET(제안사_투자현황,0,19,ROWS(제안사_투자현황),1)) ) -> 3980 | AC13: =IF( ISBLANK($D13), "", SUMPRODUCT( (OFFSET(제안사_투자현황,0,1,ROWS(제안사_투자현황),1)=$D13)*1, OFFSET(제안사_투자현황,0,20,ROWS(제안사_투자현황),1)) ) -> 2020 | AD13: =IF( ISBLANK($D13), "", SUMPRODUCT( (OFFSET(펀드_거래,0,0,ROWS(펀드_거래),1)=$D13)*1, (OFFSET(펀드_거래,0,1,ROWS(펀드_거래),1)="현금분배")*1, OFFSET(펀드_거래,0,2,ROWS(펀드_거래),1)/1000000 ) + SUMPRODUCT( (OFFSET(펀드_거래,0,0,ROWS(펀드_거래),1)=$D13)*1, (OFFSET(펀드_거래,0,1,ROWS(펀드_거래),1)="현물분배")*1, OFFSET(펀드_거래,0,2,ROWS(펀드_거래),1)/1000000 ) ) -> 11419.569 | AE13: =IF( ISBLANK($D13), "", SUMPRODUCT( (OFFSET(펀드_거래,0,0,ROWS(펀드_거래),1)=$D13)*1, (OFFSET(펀드_거래,0,1,ROWS(펀드_거래),1)="성과보수")*1, OFFSET(펀드_거래,0,2,ROWS(펀드_거래),1)/1000000) ) -> 0 | AJ13: =IF( ISERROR(AC13+AH13-AI13), "", AC13+AH13-AI13 ) -> 2020 | AX13: =SUMIF('4.2.펀드 인력변경 이력'!A:A,D13,'4.2.펀드 인력변경 이력'!F:F) -> 3 | AY13: =SUMIF('4.2.펀드 인력변경 이력'!A:A,D13,'4.2.펀드 인력변경 이력'!G:G) -> 1 | AZ13: =IF(D13="","",IF(AY13=0,3,IF(AX13/AY13>3,3,AX13/AY13))) -> 3
D14: 펀드4호 | E14: 000-00-00003 | F14: 운용중 | G14: 신기술사업투자조합 | H14: 블라인드펀드 | I14: LP지분유동화 | J14: 사모펀드 LP지분 | K14: 기타 | L14: NO | S14: =IF(ISBLANK(O14),"",DATEDIF(O14,Q14,"d")/365) | W14: =IF(ISBLANK($D14), "", IF( ISERROR( XIRR( OFFSET(펀드_거래,MATCH($D14,OFFSET(펀드_거래,0,0,ROWS(펀드_거래),1),0)-1,2,COUNTIF(펀드_거래,$D14),1), OFFSET(펀드_거래,MATCH($D14,OFFSET(펀드_거래,0,0,ROWS(펀드_거래),1),0)-1,3,COUNTIF(펀드_거래,$D14),1) ) ), "N/A", XIRR( OFFSET(펀드_거래,MATCH($D14,OFFSET(펀드_거래,0,0,ROWS(펀드_거래),1),0)-1,2,COUNTIF(펀드_거래,$D14),1), OFFSET(펀드_거래,MATCH($D14,OFFSET(펀드_거래,0,0,ROWS(펀드_거래),1),0)-1,3,COUNTIF(펀드_거래,$D14),1), IF(SUM(OFFSET(펀드_거래,MATCH($D14,OFFSET(펀드_거래,0,0,ROWS(펀드_거래),1),0)-1,2,COUNTIF(펀드_거래,$D14),1))>0, 1%, -1%) ) ) ) -> N/A | X14: =IF( ISBLANK($D14), "", IF(ISNUMBER(N14), (AC14+AD14+AE14+AH14-AI14)/N14, "N/A") ) -> N/A | Y14: =IF( ISBLANK($D14), "", SUMPRODUCT( (OFFSET(제안사_투자현황,0,1,ROWS(제안사_투자현황),1)=$D14)*1, ISTEXT(OFFSET(제안사_투자현황,0,3,ROWS(제안사_투자현황),1))*1 ) ) -> 0 | Z14: =IF( ISBLANK($D14), "0", SUMPRODUCT( (OFFSET(제안사_투자현황,0,1,ROWS(제안사_투자현황),1)=$D14)*1, OFFSET(제안사_투자현황,0,9,ROWS(제안사_투자현황),1)) ) -> 0 | AA14: =IF( ISBLANK($D14), "", SUMPRODUCT( (OFFSET(제안사_투자현황,0,1,ROWS(제안사_투자현황),1)=$D14)*1, OFFSET(제안사_투자현황,0,14,ROWS(제안사_투자현황),1)) ) -> 0 | AB14: =IF( ISBLANK($D14), "", SUMPRODUCT( (OFFSET(제안사_투자현황,0,1,ROWS(제안사_투자현황),1)=$D14)*1, OFFSET(제안사_투자현황,0,19,ROWS(제안사_투자현황),1)) ) -> 0 | AC14: =IF( ISBLANK($D14), "", SUMPRODUCT( (OFFSET(제안사_투자현황,0,1,ROWS(제안사_투자현황),1)=$D14)*1, OFFSET(제안사_투자현황,0,20,ROWS(제안사_투자현황),1)) ) -> 0 | AD14: =IF( ISBLANK($D14), "", SUMPRODUCT( (OFFSET(펀드_거래,0,0,ROWS(펀드_거래),1)=$D14)*1, (OFFSET(펀드_거래,0,1,ROWS(펀드_거래),1)="현금분배")*1, OFFSET(펀드_거래,0,2,ROWS(펀드_거래),1)/1000000 ) + SUMPRODUCT( (OFFSET(펀드_거래,0,0,ROWS(펀드_거래),1)=$D14)*1, (OFFSET(펀드_거래,0,1,ROWS(펀드_거래),1)="현물분배")*1, OFFSET(펀드_거래,0,2,ROWS(펀드_거래),1)/1000000 ) ) -> 0 | AE14: =IF( ISBLANK($D14), "", SUMPRODUCT( (OFFSET(펀드_거래,0,0,ROWS(펀드_거래),1)=$D14)*1, (OFFSET(펀드_거래,0,1,ROWS(펀드_거래),1)="성과보수")*1, OFFSET(펀드_거래,0,2,ROWS(펀드_거래),1)/1000000) ) -> 0 | AJ14: =IF( ISERROR(AC14+AH14-AI14), "", AC14+AH14-AI14 ) -> 0 | AX14: =SUMIF('4.2.펀드 인력변경 이력'!A:A,D14,'4.2.펀드 인력변경 이력'!F:F) -> 0 | AY14: =SUMIF('4.2.펀드 인력변경 이력'!A:A,D14,'4.2.펀드 인력변경 이력'!G:G) -> 0 | AZ14: =IF(D14="","",IF(AY14=0,3,IF(AX14/AY14>3,3,AX14/AY14))) -> 3
S15: =IF(ISBLANK(O15),"",DATEDIF(O15,Q15,"d")/365) | W15: =IF(ISBLANK($D15), "", IF( ISERROR( XIRR( OFFSET(펀드_거래,MATCH($D15,OFFSET(펀드_거래,0,0,ROWS(펀드_거래),1),0)-1,2,COUNTIF(펀드_거래,$D15),1), OFFSET(펀드_거래,MATCH($D15,OFFSET(펀드_거래,0,0,ROWS(펀드_거래),1),0)-1,3,COUNTIF(펀드_거래,$D15),1) ) ), "N/A", XIRR( OFFSET(펀드_거래,MATCH($D15,OFFSET(펀드_거래,0,0,ROWS(펀드_거래),1),0)-1,2,COUNTIF(펀드_거래,$D15),1), OFFSET(펀드_거래,MATCH($D15,OFFSET(펀드_거래,0,0,ROWS(펀드_거래),1),0)-1,3,COUNTIF(펀드_거래,$D15),1), IF(SUM(OFFSET(펀드_거래,MATCH($D15,OFFSET(펀드_거래,0,0,ROWS(펀드_거래),1),0)-1,2,COUNTIF(펀드_거래,$D15),1))>0, 1%, -1%) ) ) ) | X15: =IF( ISBLANK($D15), "", IF(ISNUMBER(N15), (AC15+AD15+AE15+AH15-AI15)/N15, "N/A") ) | Y15: =IF( ISBLANK($D15), "", SUMPRODUCT( (OFFSET(제안사_투자현황,0,1,ROWS(제안사_투자현황),1)=$D15)*1, ISTEXT(OFFSET(제안사_투자현황,0,3,ROWS(제안사_투자현황),1))*1 ) ) | Z15: =IF( ISBLANK($D15), "0", SUMPRODUCT( (OFFSET(제안사_투자현황,0,1,ROWS(제안사_투자현황),1)=$D15)*1, OFFSET(제안사_투자현황,0,9,ROWS(제안사_투자현황),1)) ) -> 0 | AA15: =IF( ISBLANK($D15), "", SUMPRODUCT( (OFFSET(제안사_투자현황,0,1,ROWS(제안사_투자현황),1)=$D15)*1, OFFSET(제안사_투자현황,0,14,ROWS(제안사_투자현황),1)) ) | AB15: =IF( ISBLANK($D15), "", SUMPRODUCT( (OFFSET(제안사_투자현황,0,1,ROWS(제안사_투자현황),1)=$D15)*1, OFFSET(제안사_투자현황,0,19,ROWS(제안사_투자현황),1)) ) | AC15: =IF( ISBLANK($D15), "", SUMPRODUCT( (OFFSET(제안사_투자현황,0,1,ROWS(제안사_투자현황),1)=$D15)*1, OFFSET(제안사_투자현황,0,20,ROWS(제안사_투자현황),1)) ) | AD15: =IF( ISBLANK($D15), "", SUMPRODUCT( (OFFSET(펀드_거래,0,0,ROWS(펀드_거래),1)=$D15)*1, (OFFSET(펀드_거래,0,1,ROWS(펀드_거래),1)="현금분배")*1, OFFSET(펀드_거래,0,2,ROWS(펀드_거래),1)/1000000 ) + SUMPRODUCT( (OFFSET(펀드_거래,0,0,ROWS(펀드_거래),1)=$D15)*1, (OFFSET(펀드_거래,0,1,ROWS(펀드_거래),1)="현물분배")*1, OFFSET(펀드_거래,0,2,ROWS(펀드_거래),1)/1000000 ) ) | AE15: =IF( ISBLANK($D15), "", SUMPRODUCT( (OFFSET(펀드_거래,0,0,ROWS(펀드_거래),1)=$D15)*1, (OFFSET(펀드_거래,0,1,ROWS(펀드_거래),1)="성과보수")*1, OFFSET(펀드_거래,0,2,ROWS(펀드_거래),1)/1000000) ) | AJ15: =IF( ISERROR(AC15+AH15-AI15), "", AC15+AH15-AI15 ) | AX15: =SUMIF('4.2.펀드 인력변경 이력'!A:A,D15,'4.2.펀드 인력변경 이력'!F:F) -> 0 | AY15: =SUMIF('4.2.펀드 인력변경 이력'!A:A,D15,'4.2.펀드 인력변경 이력'!G:G) -> 0 | AZ15: =IF(D15="","",IF(AY15=0,3,IF(AX15/AY15>3,3,AX15/AY15)))
S16: =IF(ISBLANK(O16),"",DATEDIF(O16,Q16,"d")/365) | W16: =IF(ISBLANK($D16), "", IF( ISERROR( XIRR( OFFSET(펀드_거래,MATCH($D16,OFFSET(펀드_거래,0,0,ROWS(펀드_거래),1),0)-1,2,COUNTIF(펀드_거래,$D16),1), OFFSET(펀드_거래,MATCH($D16,OFFSET(펀드_거래,0,0,ROWS(펀드_거래),1),0)-1,3,COUNTIF(펀드_거래,$D16),1) ) ), "N/A", XIRR( OFFSET(펀드_거래,MATCH($D16,OFFSET(펀드_거래,0,0,ROWS(펀드_거래),1),0)-1,2,COUNTIF(펀드_거래,$D16),1), OFFSET(펀드_거래,MATCH($D16,OFFSET(펀드_거래,0,0,ROWS(펀드_거래),1),0)-1,3,COUNTIF(펀드_거래,$D16),1), IF(SUM(OFFSET(펀드_거래,MATCH($D16,OFFSET(펀드_거래,0,0,ROWS(펀드_거래),1),0)-1,2,COUNTIF(펀드_거래,$D16),1))>0, 1%, -1%) ) ) ) | X16: =IF( ISBLANK($D16), "", IF(ISNUMBER(N16), (AC16+AD16+AE16+AH16-AI16)/N16, "N/A") ) | Y16: =IF( ISBLANK($D16), "", SUMPRODUCT( (OFFSET(제안사_투자현황,0,1,ROWS(제안사_투자현황),1)=$D16)*1, ISTEXT(OFFSET(제안사_투자현황,0,3,ROWS(제안사_투자현황),1))*1 ) ) | Z16: =IF( ISBLANK($D16), "0", SUMPRODUCT( (OFFSET(제안사_투자현황,0,1,ROWS(제안사_투자현황),1)=$D16)*1, OFFSET(제안사_투자현황,0,9,ROWS(제안사_투자현황),1)) ) -> 0 | AA16: =IF( ISBLANK($D16), "", SUMPRODUCT( (OFFSET(제안사_투자현황,0,1,ROWS(제안사_투자현황),1)=$D16)*1, OFFSET(제안사_투자현황,0,14,ROWS(제안사_투자현황),1)) ) | AB16: =IF( ISBLANK($D16), "", SUMPRODUCT( (OFFSET(제안사_투자현황,0,1,ROWS(제안사_투자현황),1)=$D16)*1, OFFSET(제안사_투자현황,0,19,ROWS(제안사_투자현황),1)) ) | AC16: =IF( ISBLANK($D16), "", SUMPRODUCT( (OFFSET(제안사_투자현황,0,1,ROWS(제안사_투자현황),1)=$D16)*1, OFFSET(제안사_투자현황,0,20,ROWS(제안사_투자현황),1)) ) | AD16: =IF( ISBLANK($D16), "", SUMPRODUCT( (OFFSET(펀드_거래,0,0,ROWS(펀드_거래),1)=$D16)*1, (OFFSET(펀드_거래,0,1,ROWS(펀드_거래),1)="현금분배")*1, OFFSET(펀드_거래,0,2,ROWS(펀드_거래),1)/1000000 ) + SUMPRODUCT( (OFFSET(펀드_거래,0,0,ROWS(펀드_거래),1)=$D16)*1, (OFFSET(펀드_거래,0,1,ROWS(펀드_거래),1)="현물분배")*1, OFFSET(펀드_거래,0,2,ROWS(펀드_거래),1)/1000000 ) ) | AE16: =IF( ISBLANK($D16), "", SUMPRODUCT( (OFFSET(펀드_거래,0,0,ROWS(펀드_거래),1)=$D16)*1, (OFFSET(펀드_거래,0,1,ROWS(펀드_거래),1)="성과보수")*1, OFFSET(펀드_거래,0,2,ROWS(펀드_거래),1)/1000000) ) | AJ16: =IF( ISERROR(AC16+AH16-AI16), "", AC16+AH16-AI16 ) | AX16: =SUMIF('4.2.펀드 인력변경 이력'!A:A,D16,'4.2.펀드 인력변경 이력'!F:F) -> 0 | AY16: =SUMIF('4.2.펀드 인력변경 이력'!A:A,D16,'4.2.펀드 인력변경 이력'!G:G) -> 0 | AZ16: =IF(D16="","",IF(AY16=0,3,IF(AX16/AY16>3,3,AX16/AY16)))
S17: =IF(ISBLANK(O17),"",DATEDIF(O17,Q17,"d")/365) | W17: =IF(ISBLANK($D17), "", IF( ISERROR( XIRR( OFFSET(펀드_거래,MATCH($D17,OFFSET(펀드_거래,0,0,ROWS(펀드_거래),1),0)-1,2,COUNTIF(펀드_거래,$D17),1), OFFSET(펀드_거래,MATCH($D17,OFFSET(펀드_거래,0,0,ROWS(펀드_거래),1),0)-1,3,COUNTIF(펀드_거래,$D17),1) ) ), "N/A", XIRR( OFFSET(펀드_거래,MATCH($D17,OFFSET(펀드_거래,0,0,ROWS(펀드_거래),1),0)-1,2,COUNTIF(펀드_거래,$D17),1), OFFSET(펀드_거래,MATCH($D17,OFFSET(펀드_거래,0,0,ROWS(펀드_거래),1),0)-1,3,COUNTIF(펀드_거래,$D17),1), IF(SUM(OFFSET(펀드_거래,MATCH($D17,OFFSET(펀드_거래,0,0,ROWS(펀드_거래),1),0)-1,2,COUNTIF(펀드_거래,$D17),1))>0, 1%, -1%) ) ) ) | X17: =IF( ISBLANK($D17), "", IF(ISNUMBER(N17), (AC17+AD17+AE17+AH17-AI17)/N17, "N/A") ) | Y17: =IF( ISBLANK($D17), "", SUMPRODUCT( (OFFSET(제안사_투자현황,0,1,ROWS(제안사_투자현황),1)=$D17)*1, ISTEXT(OFFSET(제안사_투자현황,0,3,ROWS(제안사_투자현황),1))*1 ) ) | Z17: =IF( ISBLANK($D17), "0", SUMPRODUCT( (OFFSET(제안사_투자현황,0,1,ROWS(제안사_투자현황),1)=$D17)*1, OFFSET(제안사_투자현황,0,9,ROWS(제안사_투자현황),1)) ) -> 0 | AA17: =IF( ISBLANK($D17), "", SUMPRODUCT( (OFFSET(제안사_투자현황,0,1,ROWS(제안사_투자현황),1)=$D17)*1, OFFSET(제안사_투자현황,0,14,ROWS(제안사_투자현황),1)) ) | AB17: =IF( ISBLANK($D17), "", SUMPRODUCT( (OFFSET(제안사_투자현황,0,1,ROWS(제안사_투자현황),1)=$D17)*1, OFFSET(제안사_투자현황,0,19,ROWS(제안사_투자현황),1)) ) | AC17: =IF( ISBLANK($D17), "", SUMPRODUCT( (OFFSET(제안사_투자현황,0,1,ROWS(제안사_투자현황),1)=$D17)*1, OFFSET(제안사_투자현황,0,20,ROWS(제안사_투자현황),1)) ) | AD17: =IF( ISBLANK($D17), "", SUMPRODUCT( (OFFSET(펀드_거래,0,0,ROWS(펀드_거래),1)=$D17)*1, (OFFSET(펀드_거래,0,1,ROWS(펀드_거래),1)="현금분배")*1, OFFSET(펀드_거래,0,2,ROWS(펀드_거래),1)/1000000 ) + SUMPRODUCT( (OFFSET(펀드_거래,0,0,ROWS(펀드_거래),1)=$D17)*1, (OFFSET(펀드_거래,0,1,ROWS(펀드_거래),1)="현물분배")*1, OFFSET(펀드_거래,0,2,ROWS(펀드_거래),1)/1000000 ) ) | AE17: =IF( ISBLANK($D17), "", SUMPRODUCT( (OFFSET(펀드_거래,0,0,ROWS(펀드_거래),1)=$D17)*1, (OFFSET(펀드_거래,0,1,ROWS(펀드_거래),1)="성과보수")*1, OFFSET(펀드_거래,0,2,ROWS(펀드_거래),1)/1000000) ) | AJ17: =IF( ISERROR(AC17+AH17-AI17), "", AC17+AH17-AI17 ) | AX17: =SUMIF('4.2.펀드 인력변경 이력'!A:A,D17,'4.2.펀드 인력변경 이력'!F:F) -> 0 | AY17: =SUMIF('4.2.펀드 인력변경 이력'!A:A,D17,'4.2.펀드 인력변경 이력'!G:G) -> 0 | AZ17: =IF(D17="","",IF(AY17=0,3,IF(AX17/AY17>3,3,AX17/AY17)))
S18: =IF(ISBLANK(O18),"",DATEDIF(O18,Q18,"d")/365) | W18: =IF(ISBLANK($D18), "", IF( ISERROR( XIRR( OFFSET(펀드_거래,MATCH($D18,OFFSET(펀드_거래,0,0,ROWS(펀드_거래),1),0)-1,2,COUNTIF(펀드_거래,$D18),1), OFFSET(펀드_거래,MATCH($D18,OFFSET(펀드_거래,0,0,ROWS(펀드_거래),1),0)-1,3,COUNTIF(펀드_거래,$D18),1) ) ), "N/A", XIRR( OFFSET(펀드_거래,MATCH($D18,OFFSET(펀드_거래,0,0,ROWS(펀드_거래),1),0)-1,2,COUNTIF(펀드_거래,$D18),1), OFFSET(펀드_거래,MATCH($D18,OFFSET(펀드_거래,0,0,ROWS(펀드_거래),1),0)-1,3,COUNTIF(펀드_거래,$D18),1), IF(SUM(OFFSET(펀드_거래,MATCH($D18,OFFSET(펀드_거래,0,0,ROWS(펀드_거래),1),0)-1,2,COUNTIF(펀드_거래,$D18),1))>0, 1%, -1%) ) ) ) | X18: =IF( ISBLANK($D18), "", IF(ISNUMBER(N18), (AC18+AD18+AE18+AH18-AI18)/N18, "N/A") ) | Y18: =IF( ISBLANK($D18), "", SUMPRODUCT( (OFFSET(제안사_투자현황,0,1,ROWS(제안사_투자현황),1)=$D18)*1, ISTEXT(OFFSET(제안사_투자현황,0,3,ROWS(제안사_투자현황),1))*1 ) ) | Z18: =IF( ISBLANK($D18), "0", SUMPRODUCT( (OFFSET(제안사_투자현황,0,1,ROWS(제안사_투자현황),1)=$D18)*1, OFFSET(제안사_투자현황,0,9,ROWS(제안사_투자현황),1)) ) -> 0 | AA18: =IF( ISBLANK($D18), "", SUMPRODUCT( (OFFSET(제안사_투자현황,0,1,ROWS(제안사_투자현황),1)=$D18)*1, OFFSET(제안사_투자현황,0,14,ROWS(제안사_투자현황),1)) ) | AB18: =IF( ISBLANK($D18), "", SUMPRODUCT( (OFFSET(제안사_투자현황,0,1,ROWS(제안사_투자현황),1)=$D18)*1, OFFSET(제안사_투자현황,0,19,ROWS(제안사_투자현황),1)) ) | AC18: =IF( ISBLANK($D18), "", SUMPRODUCT( (OFFSET(제안사_투자현황,0,1,ROWS(제안사_투자현황),1)=$D18)*1, OFFSET(제안사_투자현황,0,20,ROWS(제안사_투자현황),1)) ) | AD18: =IF( ISBLANK($D18), "", SUMPRODUCT( (OFFSET(펀드_거래,0,0,ROWS(펀드_거래),1)=$D18)*1, (OFFSET(펀드_거래,0,1,ROWS(펀드_거래),1)="현금분배")*1, OFFSET(펀드_거래,0,2,ROWS(펀드_거래),1)/1000000 ) + SUMPRODUCT( (OFFSET(펀드_거래,0,0,ROWS(펀드_거래),1)=$D18)*1, (OFFSET(펀드_거래,0,1,ROWS(펀드_거래),1)="현물분배")*1, OFFSET(펀드_거래,0,2,ROWS(펀드_거래),1)/1000000 ) ) | AE18: =IF( ISBLANK($D18), "", SUMPRODUCT( (OFFSET(펀드_거래,0,0,ROWS(펀드_거래),1)=$D18)*1, (OFFSET(펀드_거래,0,1,ROWS(펀드_거래),1)="성과보수")*1, OFFSET(펀드_거래,0,2,ROWS(펀드_거래),1)/1000000) ) | AJ18: =IF( ISERROR(AC18+AH18-AI18), "", AC18+AH18-AI18 ) | AX18: =SUMIF('4.2.펀드 인력변경 이력'!A:A,D18,'4.2.펀드 인력변경 이력'!F:F) -> 0 | AY18: =SUMIF('4.2.펀드 인력변경 이력'!A:A,D18,'4.2.펀드 인력변경 이력'!G:G) -> 0 | AZ18: =IF(D18="","",IF(AY18=0,3,IF(AX18/AY18>3,3,AX18/AY18)))
S19: =IF(ISBLANK(O19),"",DATEDIF(O19,Q19,"d")/365) | W19: =IF(ISBLANK($D19), "", IF( ISERROR( XIRR( OFFSET(펀드_거래,MATCH($D19,OFFSET(펀드_거래,0,0,ROWS(펀드_거래),1),0)-1,2,COUNTIF(펀드_거래,$D19),1), OFFSET(펀드_거래,MATCH($D19,OFFSET(펀드_거래,0,0,ROWS(펀드_거래),1),0)-1,3,COUNTIF(펀드_거래,$D19),1) ) ), "N/A", XIRR( OFFSET(펀드_거래,MATCH($D19,OFFSET(펀드_거래,0,0,ROWS(펀드_거래),1),0)-1,2,COUNTIF(펀드_거래,$D19),1), OFFSET(펀드_거래,MATCH($D19,OFFSET(펀드_거래,0,0,ROWS(펀드_거래),1),0)-1,3,COUNTIF(펀드_거래,$D19),1), IF(SUM(OFFSET(펀드_거래,MATCH($D19,OFFSET(펀드_거래,0,0,ROWS(펀드_거래),1),0)-1,2,COUNTIF(펀드_거래,$D19),1))>0, 1%, -1%) ) ) ) | X19: =IF( ISBLANK($D19), "", IF(ISNUMBER(N19), (AC19+AD19+AE19+AH19-AI19)/N19, "N/A") ) | Y19: =IF( ISBLANK($D19), "", SUMPRODUCT( (OFFSET(제안사_투자현황,0,1,ROWS(제안사_투자현황),1)=$D19)*1, ISTEXT(OFFSET(제안사_투자현황,0,3,ROWS(제안사_투자현황),1))*1 ) ) | Z19: =IF( ISBLANK($D19), "0", SUMPRODUCT( (OFFSET(제안사_투자현황,0,1,ROWS(제안사_투자현황),1)=$D19)*1, OFFSET(제안사_투자현황,0,9,ROWS(제안사_투자현황),1)) ) -> 0 | AA19: =IF( ISBLANK($D19), "", SUMPRODUCT( (OFFSET(제안사_투자현황,0,1,ROWS(제안사_투자현황),1)=$D19)*1, OFFSET(제안사_투자현황,0,14,ROWS(제안사_투자현황),1)) ) | AB19: =IF( ISBLANK($D19), "", SUMPRODUCT( (OFFSET(제안사_투자현황,0,1,ROWS(제안사_투자현황),1)=$D19)*1, OFFSET(제안사_투자현황,0,19,ROWS(제안사_투자현황),1)) ) | AC19: =IF( ISBLANK($D19), "", SUMPRODUCT( (OFFSET(제안사_투자현황,0,1,ROWS(제안사_투자현황),1)=$D19)*1, OFFSET(제안사_투자현황,0,20,ROWS(제안사_투자현황),1)) ) | AD19: =IF( ISBLANK($D19), "", SUMPRODUCT( (OFFSET(펀드_거래,0,0,ROWS(펀드_거래),1)=$D19)*1, (OFFSET(펀드_거래,0,1,ROWS(펀드_거래),1)="현금분배")*1, OFFSET(펀드_거래,0,2,ROWS(펀드_거래),1)/1000000 ) + SUMPRODUCT( (OFFSET(펀드_거래,0,0,ROWS(펀드_거래),1)=$D19)*1, (OFFSET(펀드_거래,0,1,ROWS(펀드_거래),1)="현물분배")*1, OFFSET(펀드_거래,0,2,ROWS(펀드_거래),1)/1000000 ) ) | AE19: =IF( ISBLANK($D19), "", SUMPRODUCT( (OFFSET(펀드_거래,0,0,ROWS(펀드_거래),1)=$D19)*1, (OFFSET(펀드_거래,0,1,ROWS(펀드_거래),1)="성과보수")*1, OFFSET(펀드_거래,0,2,ROWS(펀드_거래),1)/1000000) ) | AJ19: =IF( ISERROR(AC19+AH19-AI19), "", AC19+AH19-AI19 ) | AX19: =SUMIF('4.2.펀드 인력변경 이력'!A:A,D19,'4.2.펀드 인력변경 이력'!F:F) -> 0 | AY19: =SUMIF('4.2.펀드 인력변경 이력'!A:A,D19,'4.2.펀드 인력변경 이력'!G:G) -> 0 | AZ19: =IF(D19="","",IF(AY19=0,3,IF(AX19/AY19>3,3,AX19/AY19)))
S20: =IF(ISBLANK(O20),"",DATEDIF(O20,Q20,"d")/365) | W20: =IF(ISBLANK($D20), "", IF( ISERROR( XIRR( OFFSET(펀드_거래,MATCH($D20,OFFSET(펀드_거래,0,0,ROWS(펀드_거래),1),0)-1,2,COUNTIF(펀드_거래,$D20),1), OFFSET(펀드_거래,MATCH($D20,OFFSET(펀드_거래,0,0,ROWS(펀드_거래),1),0)-1,3,COUNTIF(펀드_거래,$D20),1) ) ), "N/A", XIRR( OFFSET(펀드_거래,MATCH($D20,OFFSET(펀드_거래,0,0,ROWS(펀드_거래),1),0)-1,2,COUNTIF(펀드_거래,$D20),1), OFFSET(펀드_거래,MATCH($D20,OFFSET(펀드_거래,0,0,ROWS(펀드_거래),1),0)-1,3,COUNTIF(펀드_거래,$D20),1), IF(SUM(OFFSET(펀드_거래,MATCH($D20,OFFSET(펀드_거래,0,0,ROWS(펀드_거래),1),0)-1,2,COUNTIF(펀드_거래,$D20),1))>0, 1%, -1%) ) ) ) | X20: =IF( ISBLANK($D20), "", IF(ISNUMBER(N20), (AC20+AD20+AE20+AH20-AI20)/N20, "N/A") ) | Y20: =IF( ISBLANK($D20), "", SUMPRODUCT( (OFFSET(제안사_투자현황,0,1,ROWS(제안사_투자현황),1)=$D20)*1, ISTEXT(OFFSET(제안사_투자현황,0,3,ROWS(제안사_투자현황),1))*1 ) ) | Z20: =IF( ISBLANK($D20), "0", SUMPRODUCT( (OFFSET(제안사_투자현황,0,1,ROWS(제안사_투자현황),1)=$D20)*1, OFFSET(제안사_투자현황,0,9,ROWS(제안사_투자현황),1)) ) -> 0 | AA20: =IF( ISBLANK($D20), "", SUMPRODUCT( (OFFSET(제안사_투자현황,0,1,ROWS(제안사_투자현황),1)=$D20)*1, OFFSET(제안사_투자현황,0,14,ROWS(제안사_투자현황),1)) ) | AB20: =IF( ISBLANK($D20), "", SUMPRODUCT( (OFFSET(제안사_투자현황,0,1,ROWS(제안사_투자현황),1)=$D20)*1, OFFSET(제안사_투자현황,0,19,ROWS(제안사_투자현황),1)) ) | AC20: =IF( ISBLANK($D20), "", SUMPRODUCT( (OFFSET(제안사_투자현황,0,1,ROWS(제안사_투자현황),1)=$D20)*1, OFFSET(제안사_투자현황,0,20,ROWS(제안사_투자현황),1)) ) | AD20: =IF( ISBLANK($D20), "", SUMPRODUCT( (OFFSET(펀드_거래,0,0,ROWS(펀드_거래),1)=$D20)*1, (OFFSET(펀드_거래,0,1,ROWS(펀드_거래),1)="현금분배")*1, OFFSET(펀드_거래,0,2,ROWS(펀드_거래),1)/1000000 ) + SUMPRODUCT( (OFFSET(펀드_거래,0,0,ROWS(펀드_거래),1)=$D20)*1, (OFFSET(펀드_거래,0,1,ROWS(펀드_거래),1)="현물분배")*1, OFFSET(펀드_거래,0,2,ROWS(펀드_거래),1)/1000000 ) ) | AE20: =IF( ISBLANK($D20), "", SUMPRODUCT( (OFFSET(펀드_거래,0,0,ROWS(펀드_거래),1)=$D20)*1, (OFFSET(펀드_거래,0,1,ROWS(펀드_거래),1)="성과보수")*1, OFFSET(펀드_거래,0,2,ROWS(펀드_거래),1)/1000000) ) | AJ20: =IF( ISERROR(AC20+AH20-AI20), "", AC20+AH20-AI20 ) | AX20: =SUMIF('4.2.펀드 인력변경 이력'!A:A,D20,'4.2.펀드 인력변경 이력'!F:F) -> 0 | AY20: =SUMIF('4.2.펀드 인력변경 이력'!A:A,D20,'4.2.펀드 인력변경 이력'!G:G) -> 0 | AZ20: =IF(D20="","",IF(AY20=0,3,IF(AX20/AY20>3,3,AX20/AY20)))
S21: =IF(ISBLANK(O21),"",DATEDIF(O21,Q21,"d")/365) | W21: =IF(ISBLANK($D21), "", IF( ISERROR( XIRR( OFFSET(펀드_거래,MATCH($D21,OFFSET(펀드_거래,0,0,ROWS(펀드_거래),1),0)-1,2,COUNTIF(펀드_거래,$D21),1), OFFSET(펀드_거래,MATCH($D21,OFFSET(펀드_거래,0,0,ROWS(펀드_거래),1),0)-1,3,COUNTIF(펀드_거래,$D21),1) ) ), "N/A", XIRR( OFFSET(펀드_거래,MATCH($D21,OFFSET(펀드_거래,0,0,ROWS(펀드_거래),1),0)-1,2,COUNTIF(펀드_거래,$D21),1), OFFSET(펀드_거래,MATCH($D21,OFFSET(펀드_거래,0,0,ROWS(펀드_거래),1),0)-1,3,COUNTIF(펀드_거래,$D21),1), IF(SUM(OFFSET(펀드_거래,MATCH($D21,OFFSET(펀드_거래,0,0,ROWS(펀드_거래),1),0)-1,2,COUNTIF(펀드_거래,$D21),1))>0, 1%, -1%) ) ) ) | X21: =IF( ISBLANK($D21), "", IF(ISNUMBER(N21), (AC21+AD21+AE21+AH21-AI21)/N21, "N/A") ) | Y21: =IF( ISBLANK($D21), "", SUMPRODUCT( (OFFSET(제안사_투자현황,0,1,ROWS(제안사_투자현황),1)=$D21)*1, ISTEXT(OFFSET(제안사_투자현황,0,3,ROWS(제안사_투자현황),1))*1 ) ) | Z21: =IF( ISBLANK($D21), "0", SUMPRODUCT( (OFFSET(제안사_투자현황,0,1,ROWS(제안사_투자현황),1)=$D21)*1, OFFSET(제안사_투자현황,0,9,ROWS(제안사_투자현황),1)) ) -> 0 | AA21: =IF( ISBLANK($D21), "", SUMPRODUCT( (OFFSET(제안사_투자현황,0,1,ROWS(제안사_투자현황),1)=$D21)*1, OFFSET(제안사_투자현황,0,14,ROWS(제안사_투자현황),1)) ) | AB21: =IF( ISBLANK($D21), "", SUMPRODUCT( (OFFSET(제안사_투자현황,0,1,ROWS(제안사_투자현황),1)=$D21)*1, OFFSET(제안사_투자현황,0,19,ROWS(제안사_투자현황),1)) ) | AC21: =IF( ISBLANK($D21), "", SUMPRODUCT( (OFFSET(제안사_투자현황,0,1,ROWS(제안사_투자현황),1)=$D21)*1, OFFSET(제안사_투자현황,0,20,ROWS(제안사_투자현황),1)) ) | AD21: =IF( ISBLANK($D21), "", SUMPRODUCT( (OFFSET(펀드_거래,0,0,ROWS(펀드_거래),1)=$D21)*1, (OFFSET(펀드_거래,0,1,ROWS(펀드_거래),1)="현금분배")*1, OFFSET(펀드_거래,0,2,ROWS(펀드_거래),1)/1000000 ) + SUMPRODUCT( (OFFSET(펀드_거래,0,0,ROWS(펀드_거래),1)=$D21)*1, (OFFSET(펀드_거래,0,1,ROWS(펀드_거래),1)="현물분배")*1, OFFSET(펀드_거래,0,2,ROWS(펀드_거래),1)/1000000 ) ) | AE21: =IF( ISBLANK($D21), "", SUMPRODUCT( (OFFSET(펀드_거래,0,0,ROWS(펀드_거래),1)=$D21)*1, (OFFSET(펀드_거래,0,1,ROWS(펀드_거래),1)="성과보수")*1, OFFSET(펀드_거래,0,2,ROWS(펀드_거래),1)/1000000) ) | AJ21: =IF( ISERROR(AC21+AH21-AI21), "", AC21+AH21-AI21 ) | AX21: =SUMIF('4.2.펀드 인력변경 이력'!A:A,D21,'4.2.펀드 인력변경 이력'!F:F) -> 0 | AY21: =SUMIF('4.2.펀드 인력변경 이력'!A:A,D21,'4.2.펀드 인력변경 이력'!G:G) -> 0 | AZ21: =IF(D21="","",IF(AY21=0,3,IF(AX21/AY21>3,3,AX21/AY21)))
S22: =IF(ISBLANK(O22),"",DATEDIF(O22,Q22,"d")/365) | W22: =IF(ISBLANK($D22), "", IF( ISERROR( XIRR( OFFSET(펀드_거래,MATCH($D22,OFFSET(펀드_거래,0,0,ROWS(펀드_거래),1),0)-1,2,COUNTIF(펀드_거래,$D22),1), OFFSET(펀드_거래,MATCH($D22,OFFSET(펀드_거래,0,0,ROWS(펀드_거래),1),0)-1,3,COUNTIF(펀드_거래,$D22),1) ) ), "N/A", XIRR( OFFSET(펀드_거래,MATCH($D22,OFFSET(펀드_거래,0,0,ROWS(펀드_거래),1),0)-1,2,COUNTIF(펀드_거래,$D22),1), OFFSET(펀드_거래,MATCH($D22,OFFSET(펀드_거래,0,0,ROWS(펀드_거래),1),0)-1,3,COUNTIF(펀드_거래,$D22),1), IF(SUM(OFFSET(펀드_거래,MATCH($D22,OFFSET(펀드_거래,0,0,ROWS(펀드_거래),1),0)-1,2,COUNTIF(펀드_거래,$D22),1))>0, 1%, -1%) ) ) ) | X22: =IF( ISBLANK($D22), "", IF(ISNUMBER(N22), (AC22+AD22+AE22+AH22-AI22)/N22, "N/A") ) | Y22: =IF( ISBLANK($D22), "", SUMPRODUCT( (OFFSET(제안사_투자현황,0,1,ROWS(제안사_투자현황),1)=$D22)*1, ISTEXT(OFFSET(제안사_투자현황,0,3,ROWS(제안사_투자현황),1))*1 ) ) | Z22: =IF( ISBLANK($D22), "0", SUMPRODUCT( (OFFSET(제안사_투자현황,0,1,ROWS(제안사_투자현황),1)=$D22)*1, OFFSET(제안사_투자현황,0,9,ROWS(제안사_투자현황),1)) ) -> 0 | AA22: =IF( ISBLANK($D22), "", SUMPRODUCT( (OFFSET(제안사_투자현황,0,1,ROWS(제안사_투자현황),1)=$D22)*1, OFFSET(제안사_투자현황,0,14,ROWS(제안사_투자현황),1)) ) | AB22: =IF( ISBLANK($D22), "", SUMPRODUCT( (OFFSET(제안사_투자현황,0,1,ROWS(제안사_투자현황),1)=$D22)*1, OFFSET(제안사_투자현황,0,19,ROWS(제안사_투자현황),1)) ) | AC22: =IF( ISBLANK($D22), "", SUMPRODUCT( (OFFSET(제안사_투자현황,0,1,ROWS(제안사_투자현황),1)=$D22)*1, OFFSET(제안사_투자현황,0,20,ROWS(제안사_투자현황),1)) ) | AD22: =IF( ISBLANK($D22), "", SUMPRODUCT( (OFFSET(펀드_거래,0,0,ROWS(펀드_거래),1)=$D22)*1, (OFFSET(펀드_거래,0,1,ROWS(펀드_거래),1)="현금분배")*1, OFFSET(펀드_거래,0,2,ROWS(펀드_거래),1)/1000000 ) + SUMPRODUCT( (OFFSET(펀드_거래,0,0,ROWS(펀드_거래),1)=$D22)*1, (OFFSET(펀드_거래,0,1,ROWS(펀드_거래),1)="현물분배")*1, OFFSET(펀드_거래,0,2,ROWS(펀드_거래),1)/1000000 ) ) | AE22: =IF( ISBLANK($D22), "", SUMPRODUCT( (OFFSET(펀드_거래,0,0,ROWS(펀드_거래),1)=$D22)*1, (OFFSET(펀드_거래,0,1,ROWS(펀드_거래),1)="성과보수")*1, OFFSET(펀드_거래,0,2,ROWS(펀드_거래),1)/1000000) ) | AJ22: =IF( ISERROR(AC22+AH22-AI22), "", AC22+AH22-AI22 ) | AX22: =SUMIF('4.2.펀드 인력변경 이력'!A:A,D22,'4.2.펀드 인력변경 이력'!F:F) -> 0 | AY22: =SUMIF('4.2.펀드 인력변경 이력'!A:A,D22,'4.2.펀드 인력변경 이력'!G:G) -> 0 | AZ22: =IF(D22="","",IF(AY22=0,3,IF(AX22/AY22>3,3,AX22/AY22)))
S23: =IF(ISBLANK(O23),"",DATEDIF(O23,Q23,"d")/365) | W23: =IF(ISBLANK($D23), "", IF( ISERROR( XIRR( OFFSET(펀드_거래,MATCH($D23,OFFSET(펀드_거래,0,0,ROWS(펀드_거래),1),0)-1,2,COUNTIF(펀드_거래,$D23),1), OFFSET(펀드_거래,MATCH($D23,OFFSET(펀드_거래,0,0,ROWS(펀드_거래),1),0)-1,3,COUNTIF(펀드_거래,$D23),1) ) ), "N/A", XIRR( OFFSET(펀드_거래,MATCH($D23,OFFSET(펀드_거래,0,0,ROWS(펀드_거래),1),0)-1,2,COUNTIF(펀드_거래,$D23),1), OFFSET(펀드_거래,MATCH($D23,OFFSET(펀드_거래,0,0,ROWS(펀드_거래),1),0)-1,3,COUNTIF(펀드_거래,$D23),1), IF(SUM(OFFSET(펀드_거래,MATCH($D23,OFFSET(펀드_거래,0,0,ROWS(펀드_거래),1),0)-1,2,COUNTIF(펀드_거래,$D23),1))>0, 1%, -1%) ) ) ) | X23: =IF( ISBLANK($D23), "", IF(ISNUMBER(N23), (AC23+AD23+AE23+AH23-AI23)/N23, "N/A") ) | Y23: =IF( ISBLANK($D23), "", SUMPRODUCT( (OFFSET(제안사_투자현황,0,1,ROWS(제안사_투자현황),1)=$D23)*1, ISTEXT(OFFSET(제안사_투자현황,0,3,ROWS(제안사_투자현황),1))*1 ) ) | Z23: =IF( ISBLANK($D23), "0", SUMPRODUCT( (OFFSET(제안사_투자현황,0,1,ROWS(제안사_투자현황),1)=$D23)*1, OFFSET(제안사_투자현황,0,9,ROWS(제안사_투자현황),1)) ) -> 0 | AA23: =IF( ISBLANK($D23), "", SUMPRODUCT( (OFFSET(제안사_투자현황,0,1,ROWS(제안사_투자현황),1)=$D23)*1, OFFSET(제안사_투자현황,0,14,ROWS(제안사_투자현황),1)) ) | AB23: =IF( ISBLANK($D23), "", SUMPRODUCT( (OFFSET(제안사_투자현황,0,1,ROWS(제안사_투자현황),1)=$D23)*1, OFFSET(제안사_투자현황,0,19,ROWS(제안사_투자현황),1)) ) | AC23: =IF( ISBLANK($D23), "", SUMPRODUCT( (OFFSET(제안사_투자현황,0,1,ROWS(제안사_투자현황),1)=$D23)*1, OFFSET(제안사_투자현황,0,20,ROWS(제안사_투자현황),1)) ) | AD23: =IF( ISBLANK($D23), "", SUMPRODUCT( (OFFSET(펀드_거래,0,0,ROWS(펀드_거래),1)=$D23)*1, (OFFSET(펀드_거래,0,1,ROWS(펀드_거래),1)="현금분배")*1, OFFSET(펀드_거래,0,2,ROWS(펀드_거래),1)/1000000 ) + SUMPRODUCT( (OFFSET(펀드_거래,0,0,ROWS(펀드_거래),1)=$D23)*1, (OFFSET(펀드_거래,0,1,ROWS(펀드_거래),1)="현물분배")*1, OFFSET(펀드_거래,0,2,ROWS(펀드_거래),1)/1000000 ) ) | AE23: =IF( ISBLANK($D23), "", SUMPRODUCT( (OFFSET(펀드_거래,0,0,ROWS(펀드_거래),1)=$D23)*1, (OFFSET(펀드_거래,0,1,ROWS(펀드_거래),1)="성과보수")*1, OFFSET(펀드_거래,0,2,ROWS(펀드_거래),1)/1000000) ) | AJ23: =IF( ISERROR(AC23+AH23-AI23), "", AC23+AH23-AI23 ) | AX23: =SUMIF('4.2.펀드 인력변경 이력'!A:A,D23,'4.2.펀드 인력변경 이력'!F:F) -> 0 | AY23: =SUMIF('4.2.펀드 인력변경 이력'!A:A,D23,'4.2.펀드 인력변경 이력'!G:G) -> 0 | AZ23: =IF(D23="","",IF(AY23=0,3,IF(AX23/AY23>3,3,AX23/AY23)))
S24: =IF(ISBLANK(O24),"",DATEDIF(O24,Q24,"d")/365) | W24: =IF(ISBLANK($D24), "", IF( ISERROR( XIRR( OFFSET(펀드_거래,MATCH($D24,OFFSET(펀드_거래,0,0,ROWS(펀드_거래),1),0)-1,2,COUNTIF(펀드_거래,$D24),1), OFFSET(펀드_거래,MATCH($D24,OFFSET(펀드_거래,0,0,ROWS(펀드_거래),1),0)-1,3,COUNTIF(펀드_거래,$D24),1) ) ), "N/A", XIRR( OFFSET(펀드_거래,MATCH($D24,OFFSET(펀드_거래,0,0,ROWS(펀드_거래),1),0)-1,2,COUNTIF(펀드_거래,$D24),1), OFFSET(펀드_거래,MATCH($D24,OFFSET(펀드_거래,0,0,ROWS(펀드_거래),1),0)-1,3,COUNTIF(펀드_거래,$D24),1), IF(SUM(OFFSET(펀드_거래,MATCH($D24,OFFSET(펀드_거래,0,0,ROWS(펀드_거래),1),0)-1,2,COUNTIF(펀드_거래,$D24),1))>0, 1%, -1%) ) ) ) | X24: =IF( ISBLANK($D24), "", IF(ISNUMBER(N24), (AC24+AD24+AE24+AH24-AI24)/N24, "N/A") ) | Y24: =IF( ISBLANK($D24), "", SUMPRODUCT( (OFFSET(제안사_투자현황,0,1,ROWS(제안사_투자현황),1)=$D24)*1, ISTEXT(OFFSET(제안사_투자현황,0,3,ROWS(제안사_투자현황),1))*1 ) ) | Z24: =IF( ISBLANK($D24), "0", SUMPRODUCT( (OFFSET(제안사_투자현황,0,1,ROWS(제안사_투자현황),1)=$D24)*1, OFFSET(제안사_투자현황,0,9,ROWS(제안사_투자현황),1)) ) -> 0 | AA24: =IF( ISBLANK($D24), "", SUMPRODUCT( (OFFSET(제안사_투자현황,0,1,ROWS(제안사_투자현황),1)=$D24)*1, OFFSET(제안사_투자현황,0,14,ROWS(제안사_투자현황),1)) ) | AB24: =IF( ISBLANK($D24), "", SUMPRODUCT( (OFFSET(제안사_투자현황,0,1,ROWS(제안사_투자현황),1)=$D24)*1, OFFSET(제안사_투자현황,0,19,ROWS(제안사_투자현황),1)) ) | AC24: =IF( ISBLANK($D24), "", SUMPRODUCT( (OFFSET(제안사_투자현황,0,1,ROWS(제안사_투자현황),1)=$D24)*1, OFFSET(제안사_투자현황,0,20,ROWS(제안사_투자현황),1)) ) | AD24: =IF( ISBLANK($D24), "", SUMPRODUCT( (OFFSET(펀드_거래,0,0,ROWS(펀드_거래),1)=$D24)*1, (OFFSET(펀드_거래,0,1,ROWS(펀드_거래),1)="현금분배")*1, OFFSET(펀드_거래,0,2,ROWS(펀드_거래),1)/1000000 ) + SUMPRODUCT( (OFFSET(펀드_거래,0,0,ROWS(펀드_거래),1)=$D24)*1, (OFFSET(펀드_거래,0,1,ROWS(펀드_거래),1)="현물분배")*1, OFFSET(펀드_거래,0,2,ROWS(펀드_거래),1)/1000000 ) ) | AE24: =IF( ISBLANK($D24), "", SUMPRODUCT( (OFFSET(펀드_거래,0,0,ROWS(펀드_거래),1)=$D24)*1, (OFFSET(펀드_거래,0,1,ROWS(펀드_거래),1)="성과보수")*1, OFFSET(펀드_거래,0,2,ROWS(펀드_거래),1)/1000000) ) | AJ24: =IF( ISERROR(AC24+AH24-AI24), "", AC24+AH24-AI24 ) | AX24: =SUMIF('4.2.펀드 인력변경 이력'!A:A,D24,'4.2.펀드 인력변경 이력'!F:F) -> 0 | AY24: =SUMIF('4.2.펀드 인력변경 이력'!A:A,D24,'4.2.펀드 인력변경 이력'!G:G) -> 0 | AZ24: =IF(D24="","",IF(AY24=0,3,IF(AX24/AY24>3,3,AX24/AY24)))
S25: =IF(ISBLANK(O25),"",DATEDIF(O25,Q25,"d")/365) | W25: =IF(ISBLANK($D25), "", IF( ISERROR( XIRR( OFFSET(펀드_거래,MATCH($D25,OFFSET(펀드_거래,0,0,ROWS(펀드_거래),1),0)-1,2,COUNTIF(펀드_거래,$D25),1), OFFSET(펀드_거래,MATCH($D25,OFFSET(펀드_거래,0,0,ROWS(펀드_거래),1),0)-1,3,COUNTIF(펀드_거래,$D25),1) ) ), "N/A", XIRR( OFFSET(펀드_거래,MATCH($D25,OFFSET(펀드_거래,0,0,ROWS(펀드_거래),1),0)-1,2,COUNTIF(펀드_거래,$D25),1), OFFSET(펀드_거래,MATCH($D25,OFFSET(펀드_거래,0,0,ROWS(펀드_거래),1),0)-1,3,COUNTIF(펀드_거래,$D25),1), IF(SUM(OFFSET(펀드_거래,MATCH($D25,OFFSET(펀드_거래,0,0,ROWS(펀드_거래),1),0)-1,2,COUNTIF(펀드_거래,$D25),1))>0, 1%, -1%) ) ) ) | X25: =IF( ISBLANK($D25), "", IF(ISNUMBER(N25), (AC25+AD25+AE25+AH25-AI25)/N25, "N/A") ) | Y25: =IF( ISBLANK($D25), "", SUMPRODUCT( (OFFSET(제안사_투자현황,0,1,ROWS(제안사_투자현황),1)=$D25)*1, ISTEXT(OFFSET(제안사_투자현황,0,3,ROWS(제안사_투자현황),1))*1 ) ) | Z25: =IF( ISBLANK($D25), "0", SUMPRODUCT( (OFFSET(제안사_투자현황,0,1,ROWS(제안사_투자현황),1)=$D25)*1, OFFSET(제안사_투자현황,0,9,ROWS(제안사_투자현황),1)) ) -> 0 | AA25: =IF( ISBLANK($D25), "", SUMPRODUCT( (OFFSET(제안사_투자현황,0,1,ROWS(제안사_투자현황),1)=$D25)*1, OFFSET(제안사_투자현황,0,14,ROWS(제안사_투자현황),1)) ) | AB25: =IF( ISBLANK($D25), "", SUMPRODUCT( (OFFSET(제안사_투자현황,0,1,ROWS(제안사_투자현황),1)=$D25)*1, OFFSET(제안사_투자현황,0,19,ROWS(제안사_투자현황),1)) ) | AC25: =IF( ISBLANK($D25), "", SUMPRODUCT( (OFFSET(제안사_투자현황,0,1,ROWS(제안사_투자현황),1)=$D25)*1, OFFSET(제안사_투자현황,0,20,ROWS(제안사_투자현황),1)) ) | AD25: =IF( ISBLANK($D25), "", SUMPRODUCT( (OFFSET(펀드_거래,0,0,ROWS(펀드_거래),1)=$D25)*1, (OFFSET(펀드_거래,0,1,ROWS(펀드_거래),1)="현금분배")*1, OFFSET(펀드_거래,0,2,ROWS(펀드_거래),1)/1000000 ) + SUMPRODUCT( (OFFSET(펀드_거래,0,0,ROWS(펀드_거래),1)=$D25)*1, (OFFSET(펀드_거래,0,1,ROWS(펀드_거래),1)="현물분배")*1, OFFSET(펀드_거래,0,2,ROWS(펀드_거래),1)/1000000 ) ) | AE25: =IF( ISBLANK($D25), "", SUMPRODUCT( (OFFSET(펀드_거래,0,0,ROWS(펀드_거래),1)=$D25)*1, (OFFSET(펀드_거래,0,1,ROWS(펀드_거래),1)="성과보수")*1, OFFSET(펀드_거래,0,2,ROWS(펀드_거래),1)/1000000) ) | AJ25: =IF( ISERROR(AC25+AH25-AI25), "", AC25+AH25-AI25 ) | AX25: =SUMIF('4.2.펀드 인력변경 이력'!A:A,D25,'4.2.펀드 인력변경 이력'!F:F) -> 0 | AY25: =SUMIF('4.2.펀드 인력변경 이력'!A:A,D25,'4.2.펀드 인력변경 이력'!G:G) -> 0 | AZ25: =IF(D25="","",IF(AY25=0,3,IF(AX25/AY25>3,3,AX25/AY25)))
S26: =IF(ISBLANK(O26),"",DATEDIF(O26,Q26,"d")/365) | W26: =IF(ISBLANK($D26), "", IF( ISERROR( XIRR( OFFSET(펀드_거래,MATCH($D26,OFFSET(펀드_거래,0,0,ROWS(펀드_거래),1),0)-1,2,COUNTIF(펀드_거래,$D26),1), OFFSET(펀드_거래,MATCH($D26,OFFSET(펀드_거래,0,0,ROWS(펀드_거래),1),0)-1,3,COUNTIF(펀드_거래,$D26),1) ) ), "N/A", XIRR( OFFSET(펀드_거래,MATCH($D26,OFFSET(펀드_거래,0,0,ROWS(펀드_거래),1),0)-1,2,COUNTIF(펀드_거래,$D26),1), OFFSET(펀드_거래,MATCH($D26,OFFSET(펀드_거래,0,0,ROWS(펀드_거래),1),0)-1,3,COUNTIF(펀드_거래,$D26),1), IF(SUM(OFFSET(펀드_거래,MATCH($D26,OFFSET(펀드_거래,0,0,ROWS(펀드_거래),1),0)-1,2,COUNTIF(펀드_거래,$D26),1))>0, 1%, -1%) ) ) ) | X26: =IF( ISBLANK($D26), "", IF(ISNUMBER(N26), (AC26+AD26+AE26+AH26-AI26)/N26, "N/A") ) | Y26: =IF( ISBLANK($D26), "", SUMPRODUCT( (OFFSET(제안사_투자현황,0,1,ROWS(제안사_투자현황),1)=$D26)*1, ISTEXT(OFFSET(제안사_투자현황,0,3,ROWS(제안사_투자현황),1))*1 ) ) | Z26: =IF( ISBLANK($D26), "0", SUMPRODUCT( (OFFSET(제안사_투자현황,0,1,ROWS(제안사_투자현황),1)=$D26)*1, OFFSET(제안사_투자현황,0,9,ROWS(제안사_투자현황),1)) ) -> 0 | AA26: =IF( ISBLANK($D26), "", SUMPRODUCT( (OFFSET(제안사_투자현황,0,1,ROWS(제안사_투자현황),1)=$D26)*1, OFFSET(제안사_투자현황,0,14,ROWS(제안사_투자현황),1)) ) | AB26: =IF( ISBLANK($D26), "", SUMPRODUCT( (OFFSET(제안사_투자현황,0,1,ROWS(제안사_투자현황),1)=$D26)*1, OFFSET(제안사_투자현황,0,19,ROWS(제안사_투자현황),1)) ) | AC26: =IF( ISBLANK($D26), "", SUMPRODUCT( (OFFSET(제안사_투자현황,0,1,ROWS(제안사_투자현황),1)=$D26)*1, OFFSET(제안사_투자현황,0,20,ROWS(제안사_투자현황),1)) ) | AD26: =IF( ISBLANK($D26), "", SUMPRODUCT( (OFFSET(펀드_거래,0,0,ROWS(펀드_거래),1)=$D26)*1, (OFFSET(펀드_거래,0,1,ROWS(펀드_거래),1)="현금분배")*1, OFFSET(펀드_거래,0,2,ROWS(펀드_거래),1)/1000000 ) + SUMPRODUCT( (OFFSET(펀드_거래,0,0,ROWS(펀드_거래),1)=$D26)*1, (OFFSET(펀드_거래,0,1,ROWS(펀드_거래),1)="현물분배")*1, OFFSET(펀드_거래,0,2,ROWS(펀드_거래),1)/1000000 ) ) | AE26: =IF( ISBLANK($D26), "", SUMPRODUCT( (OFFSET(펀드_거래,0,0,ROWS(펀드_거래),1)=$D26)*1, (OFFSET(펀드_거래,0,1,ROWS(펀드_거래),1)="성과보수")*1, OFFSET(펀드_거래,0,2,ROWS(펀드_거래),1)/1000000) ) | AJ26: =IF( ISERROR(AC26+AH26-AI26), "", AC26+AH26-AI26 ) | AX26: =SUMIF('4.2.펀드 인력변경 이력'!A:A,D26,'4.2.펀드 인력변경 이력'!F:F) -> 0 | AY26: =SUMIF('4.2.펀드 인력변경 이력'!A:A,D26,'4.2.펀드 인력변경 이력'!G:G) -> 0 | AZ26: =IF(D26="","",IF(AY26=0,3,IF(AX26/AY26>3,3,AX26/AY26)))
... S200: =IF(ISBLANK(O200),"",DATEDIF(O200,Q200,"d")/365) | W200: =IF(ISBLANK($D200), "", IF( ISERROR( XIRR( OFFSET(펀드_거래,MATCH($D200,OFFSET(펀드_거래,0,0,ROWS(펀드_거래),1),0)-1,2,COUNTIF(펀드_거래,$D200),1), OFFSET(펀드_거래,MATCH($D200,OFFSET(펀드_거래,0,0,ROWS(펀드_거래),1),0)-1,3,COUNTIF(펀드_거래,$D200),1) ) ), "N/A", XIRR( OFFSET(펀드_거래,MATCH($D200,OFFSET(펀드_거래,0,0,ROWS(펀드_거래),1),0)-1,2,COUNTIF(펀드_거래,$D200),1), OFFSET(펀드_거래,MATCH($D200,OFFSET(펀드_거래,0,0,ROWS(펀드_거래),1),0)-1,3,COUNTIF(펀드_거래,$D200),1), IF(SUM(OFFSET(펀드_거래,MATCH($D200,OFFSET(펀드_거래,0,0,ROWS(펀드_거래),1),0)-1,2,COUNTIF(펀드_거래,$D200),1))>0, 1%, -1%) ) ) ) | X200: =IF( ISBLANK($D200), "", IF(ISNUMBER(N200), (AC200+AD200+AE200+AH200-AI200)/N200, "N/A") ) | Y200: =IF( ISBLANK($D200), "", SUMPRODUCT( (OFFSET(제안사_투자현황,0,1,ROWS(제안사_투자현황),1)=$D200)*1, ISTEXT(OFFSET(제안사_투자현황,0,3,ROWS(제안사_투자현황),1))*1 ) ) | Z200: =IF( ISBLANK($D200), "0", SUMPRODUCT( (OFFSET(제안사_투자현황,0,1,ROWS(제안사_투자현황),1)=$D200)*1, OFFSET(제안사_투자현황,0,9,ROWS(제안사_투자현황),1)) ) -> 0 | AA200: =IF( ISBLANK($D200), "", SUMPRODUCT( (OFFSET(제안사_투자현황,0,1,ROWS(제안사_투자현황),1)=$D200)*1, OFFSET(제안사_투자현황,0,14,ROWS(제안사_투자현황),1)) ) | AB200: =IF( ISBLANK($D200), "", SUMPRODUCT( (OFFSET(제안사_투자현황,0,1,ROWS(제안사_투자현황),1)=$D200)*1, OFFSET(제안사_투자현황,0,19,ROWS(제안사_투자현황),1)) ) | AC200: =IF( ISBLANK($D200), "", SUMPRODUCT( (OFFSET(제안사_투자현황,0,1,ROWS(제안사_투자현황),1)=$D200)*1, OFFSET(제안사_투자현황,0,20,ROWS(제안사_투자현황),1)) ) | AD200: =IF( ISBLANK($D200), "", SUMPRODUCT( (OFFSET(펀드_거래,0,0,ROWS(펀드_거래),1)=$D200)*1, (OFFSET(펀드_거래,0,1,ROWS(펀드_거래),1)="현금분배")*1, OFFSET(펀드_거래,0,2,ROWS(펀드_거래),1)/1000000 ) + SUMPRODUCT( (OFFSET(펀드_거래,0,0,ROWS(펀드_거래),1)=$D200)*1, (OFFSET(펀드_거래,0,1,ROWS(펀드_거래),1)="현물분배")*1, OFFSET(펀드_거래,0,2,ROWS(펀드_거래),1)/1000000 ) ) | AE200: =IF( ISBLANK($D200), "", SUMPRODUCT( (OFFSET(펀드_거래,0,0,ROWS(펀드_거래),1)=$D200)*1, (OFFSET(펀드_거래,0,1,ROWS(펀드_거래),1)="성과보수")*1, OFFSET(펀드_거래,0,2,ROWS(펀드_거래),1)/1000000) ) | AJ200: =IF( ISERROR(AC200+AH200-AI200), "", AC200+AH200-AI200 ) | AX200: =SUMIF('4.2.펀드 인력변경 이력'!A:A,D200,'4.2.펀드 인력변경 이력'!F:F) -> 0 | AY200: =SUMIF('4.2.펀드 인력변경 이력'!A:A,D200,'4.2.펀드 인력변경 이력'!G:G) -> 0 | AZ200: =IF(D200="","",IF(AY200=0,3,IF(AX200/AY200>3,3,AX200/AY200)))

Sheet 2.4.제안사 투자현황
A1: RFPID | B1: GPID | C1: Seq | D1: FinancialResource | E1: FundName | F1: FundCompanySSN | G1: InvtComName | J1: MainIndustryDesc | K1: InvestYMD | L1: TujaTypeDesc | M1: InvestAmt | N1: IsCollectedDesc | O1: PropFundInvtComIRR | P1: JointInvestor | Q1: CollectYMD | R1: CollectAmt | S1: CollectBV | T1: CollectMethodDesc | V1: IsMarketableDesc | W1: AmtBal | X1: AmtBalValue | Y1: AmtBalValueDesc | Z1: ContactPersonName | AC1: OtherRemark | AD1: InvComDate | AE1: StartComConf | AF1: StartInvYMD
E2: 1 | F2: 2 | G2: 3 | H2: 4 | I2: 5 | J2: 6 | K2: 7 | L2: 8 | M2: 9 | N2: 10 | O2: 11 | P2: 12 | Q2: 13 | R2: 14 | S2: 15 | T2: 16 | U2: 17 | V2: 18 | W2: 19 | X2: 20 | Y2: 21 | Z2: 22 | AA2: 23 | AB2: 24 | AC2: 25 | AD2: 26 | AE2: 27 | AF2: 28
D3: 투자 | Q3: 회수투자자산 | V3: 미회수투자자산 | AA3: 손상차손 인식여부 | AC3: 기타사항 | AD3: 피투자기업 설립일 | AF3: 설립 ~ 투자 | AG3: 주요 제품 및 서비스 | AH3: 주목적분야 해당 여부 | AI3: 주목적분야 세부분류 | AJ3: 투자원금 검증
A4: 모집단위ID | B4: 운용사ID | C4: 일련번호 | D4: 투자계정 구분 | E4: 펀드명 | F4: 펀드사업자 등록번호 | G4: 피투자기업명 (피투자자산명) | H4: 기업규모 | I4: 피투자기업 법인유형 (피투자자산 유형) | J4: 피투자기업 주요산업분야 | K4: 투자일 | L4: 투자유형 | M4: 투자금액 | N4: 회수구분 | O4: 투자 수익률 (IRR) | P4: 동반투자자 | Q4: 최종회수일 | R4: 회수총액 | S4: 투자원금 | T4: 회수방법 | U4: 투자기간 | V4: 시장성유무 | W4: 투자원금 | X4: 가치 | Y4: 가치산출근거 | Z4: 현재 담당자 성명 | AA4: 손상차손여부 | AB4: 투자원금
D11: 펀드계정 | E11: 펀드1호 | F11: =IF(ISBLANK($E11),"",VLOOKUP($E11,제안사_펀드현황,2,FALSE)) -> 000-00-00000 | G11: ABD㈜ | H11: 중소(벤처) | I11: 국내설립법인 또는 해외현지법인 | J11: 기타 | K11: 39508 | L11: 우선주 | M11: 3000 | N11: 회수료 | O11: 0.02 | Q11: 40161 | R11: 4000 | S11: 3000 | T11: 코스닥 | U11: =IF(ISBLANK(Q11),"",DATEDIF(K11,Q11,"d")/365) -> 1.7890411 | AA11: 해당사항 없음 | AD11: 36330 | AF11: =IF(AE11="YES",(K11-AD11)/365,"") | AH11: 방산기업 | AI11: 방위산업체 지정 | AJ11: =ROUND(M11,)=ROUND(S11,)+ROUND(AB11,)+ROUND(W11,) -> TRUE
D12: 펀드계정 | E12: 펀드1호 | F12: =IF(ISBLANK($E12),"",VLOOKUP($E12,제안사_펀드현황,2,FALSE)) -> 000-00-00000 | G12: ABC Inc. | H12: 중견 | I12: 국내설립법인 또는 해외현지법인 | J12: 전자/반도체 | K12: 39508 | L12: CB | M12: 2000 | N12: 부분회수 | Q12: 40228 | R12: 0 | S12: 0 | T12: 코스피 | U12: =IF(ISBLANK(Q12),"",DATEDIF(K12,Q12,"d")/365) -> 1.9726027 | V12: YES | W12: 2000 | X12: 2075.0515 | Y12: 25.06.30 거래소 종가 | Z12: 이00 | AA12: 해당사항 없음 | AD12: 37987 | AF12: =IF(AE12="YES",(K12-AD12)/365,"") | AH12: 방산기업 | AI12: 방위산업물자 등 연구개발 또는 생산 | AJ12: =ROUND(M12,)=ROUND(S12,)+ROUND(AB12,)+ROUND(W12,) -> TRUE
D13: 펀드계정 | E13: 펀드1호 | F13: =IF(ISBLANK($E13),"",VLOOKUP($E13,제안사_펀드현황,2,FALSE)) -> 000-00-00000 | G13: CDE Inc. | H13: 기타 | I13: 외국법인 | J13: 바이오 | K13: 39508 | L13: 우선주 | M13: 999.99188 | N13: 미회수 | U13: =IF(ISBLANK(Q13),"",DATEDIF(K13,Q13,"d")/365) | V13: NO | W13: 999.99188 | X13: 999.99188 | Y13: 25.06.30 장부가액 | Z13: 김00 | AA13: 해당사항 없음 | AD13: 37987 | AF13: =IF(AE13="YES",(K13-AD13)/365,"") | AH13: 미해당 | AJ13: =ROUND(M13,)=ROUND(S13,)+ROUND(AB13,)+ROUND(W13,) -> TRUE
D14: 펀드계정 | E14: 펀드2호 | F14: =IF(ISBLANK($E14),"",VLOOKUP($E14,제안사_펀드현황,2,FALSE)) -> 000-00-00001 | G14: 가나다㈜ | H14: 대기업 | I14: 국내설립법인 또는 해외현지법인 | J14: 기타 | K14: 39904 | L14: BW | M14: 1000 | N14: 부분회수 | Q14: 40220 | R14: 100 | S14: 100 | T14: 운용사고유계정매각 | U14: =IF(ISBLANK(Q14),"",DATEDIF(K14,Q14,"d")/365) -> 0.86575342 | V14: NO | W14: 900 | X14: 900 | Y14: 25.06.30 장부가액 | Z14: 이00 | AA14: 해당사항 없음 | AD14: 37623 | AF14: =IF(AE14="YES",(K14-AD14)/365,"") | AH14: 방산기업 | AI14: 으뜸기업 또는 전문기업 | AJ14: =ROUND(M14,)=ROUND(S14,)+ROUND(AB14,)+ROUND(W14,) -> TRUE
D15: 펀드계정 | E15: 펀드2호 | F15: =IF(ISBLANK($E15),"",VLOOKUP($E15,제안사_펀드현황,2,FALSE)) -> 000-00-00001 | G15: ㈜가나다 | H15: 중소(벤처) | I15: 국내설립법인 또는 해외현지법인 | J15: 산업재 | K15: 39904 | L15: 우선주 | M15: 999.999 | N15: 회수료 | O15: 0.06 | Q15: 40149 | R15: 1150 | S15: 1000 | T15: 상환 | U15: =IF(ISBLANK(Q15),"",DATEDIF(K15,Q15,"d")/365) -> 0.67123288 | AA15: 해당사항 없음 | AD15: 37624 | AF15: =IF(AE15="YES",(K15-AD15)/365,"") | AH15: 방산기업 | AI15: 방위산업체의 협력사 | AJ15: =ROUND(M15,)=ROUND(S15,)+ROUND(AB15,)+ROUND(W15,) -> TRUE
