Workbook
Name 경력구분: 작성요령!$F$443:$F$445
Name 기업규모: 작성요령!$F$446:$F$448
Name 동반투자자유형: 작성요령!$C$437:$C$442
Name 법인유형: 작성요령!$F$428:$F$430
Name 여부: 작성요령!$F$391:$F$392
Name 운용사유형: 작성요령!$C$423:$C$431
Name 운용인력직무구분: 작성요령!$F$393:$F$394
Name 일반인력_경력: '3.4.2.일반운용인력 경력'!$E$11:$O$500
Name 일반인력_투자현황: '3.2.3.일반운용인력 투자현황'!$E$11:$AJ$500
Name 재직회사법인유형: 작성요령!$F$434:$F$437
Name 제안사_투자현황: '2.4.제안사 투자현황'!$D$11:$AA$1000
Name 제안사_펀드현황: '2.3.제안사 펀드현황'!$D$11:$BN$200
Name 제안서작성기준일: '1.1.제안펀드'!$F$11
Name 주식및주식연계채권: 작성요령!$F$395:$F$399
Name 참여인력_개요: '3.1.참여인력 개요'!$D$11:$AC$200
Name 참여인력구분: 작성요령!$F$388:$F$390
Name 참여인력투자법인유형: 작성요령!$F$431:$F$433
Name 출자예상내역: '1.2.출자예상내역'!$D$11:$R$50
Name 출자자유형: 작성요령!$C$404:$C$418
Name 출자자확정구분: 작성요령!$C$419:$C$422
Name 투자계정구분: 작성요령!$F$426:$F$427
Name 투자유형: 작성요령!$F$395:$F$404
Name 펀드_거래: '4.1.펀드 거래'!$A$2:$D$2000
Name 펀드_인력변경이력: '4.2.펀드 인력변경이력'!$A$2:$E$165
Name 펀드거래유형: 작성요령!$F$421:$F$425
Name 펀드법적유형: 작성요령!$C$388:$C$401
Name 펀드상태: 작성요령!$C$432:$C$436
Name 펀드유형: 작성요령!$C$402:$C$403
Name 펀드투자유형: 작성요령!$F$405:$F$407
Name 핵심인력_경력: '3.4.1.핵심운용인력 경력'!$E$11:$O$500
Name 핵심인력_재기지원_투자현황: '3.2.2.핵심운용인력 구조조정 투자현황'!$E$11:$AK$500
Name 핵심인력_투자현황: '3.2.1.핵심운용인력 투자현황'!$E$11:$AJ$500
Name 회사상태: 작성요령!$F$438:$F$441
Name 회사상태2: 작성요령!#REF!
Name 회수구분: 작성요령!$F$408:$F$410
Name 회수유형: 작성요령!$F$411:$F$420

Sheet 작성요령
A1: Ⅰ. 작성요령
A3: [공통사항]
A4: 1. 별첨(1.1~4.2) 자료 작성전 하기 사항을 반드시 숙지하여 작성 (별첨번호는 Sheet명에서 확인 가능)
A5: 2. 일자는 yyyy-mm-dd, 사업자등록번호는 000-00-00000, 법인등록번호는 000000-0000000 형식으로 입력
A6: 3. Drop down 목록이 있는 셀은 목록에서 선택
A7: 4. 'Alt+Enter'나 연이은 공백은 입력하지 말 것
A8: 5. 연록색으로 음영처리된 셀은 자동 반영되거나 고정된 값이므로 별도의 입력은 하지 말 것
A9: - 당사의 사전 허락 없이 수식을 편집한 경우는 허위사실 기재로 간주될 수 있음
A10: - 셀 서식을 수정하지 말것
A11: 6. 펀드명, 회사명 등은 정식명칭을 기입하기 바람
A12: 7. 11행부터 자료를 입력하고 1행~10행은 절대 삭제 및 수정 금지("4.1. 펀드거래", "4.2. 펀드 인력변경이력" 제외), Sheet 삭제 및 명칭변경 금지
A13: 8. 단위 : 백만원("4.1. 펀드거래"는 단위를 "원"으로 함), 천USD, %, 건
... A63: Ⅱ. 용어의 정의 등
A65: 제안서작성기준일 | C65: 44316
A66: 설립일 | C66: 제안사 법인등기부등본 상의 설립일
A67: 펀드운용업무시작일 | C67: 제안사가 펀드법적유형중 하나에 해당하는 자격을 가지고 있는 경우 해당 자격 취득일
C68: 자격이 필요 없는 경우는 조직개편일 등
C69: ※ M&A 또는 회사분할 등이 있었던 경우 변경전의 펀드운용업무시작일을 기재
A70: 운용펀드최초결성일 | C70: 펀드 투자규약(정관, 신탁계약서 등) 상에 제안사가 운용사로 기재된 펀드로서
C71: 결성일이 가장 빠른 펀드의 펀드결성일
C72: ※ M&A이전 운용 펀드와 회사분할 후 운용한 펀드는 고려하되
C73: 회사분할 이전에 청산한 펀드는 고려하지 말 것
A74: 펀드결성(예정)일 | C74: 관련 법령에 따라 감독기관에 등록한 날 또는 그 예정일.
C75: 등록이 필요없는 경우 결성총회일, 창립총회일 또는 계약체결일
A76: 펀드 | C76: ⅰ) 부동산 및 문화컨텐츠 이외 자산의 주식 또는 주식연계채권, 기업구조조정 목적(NPL 포함)에 주로 투자(프로젝트 투자 제외)하는
C77: - 「여신전문금융업법」제41조 제3항에 따른 신기술사업투자조합
C78: - 「중소기업창업 지원법」제2조 제5호에 따른 중소기업창업투자조합
C79: - 「벤처기업육성에 관한 특별조치법」제4조의3에 따른 한국벤처투자조합
C80: - 「소재·부품전문기업 등의 육성에 관한 특별조치법」제6조에 따른 소재·부품전문투자조합
C81: - 「산업발전법」(법률 제9584호 산업발전법 전부개정법률로 개정되기 전의 것을 말함) 제15조에 따라 등록된 기업구조조정조합 및 「산업발전법」제20조에 따른 기업구조개선 사모투자전문회사
C82: - 「간접투자자산운용업법」제141조에 따른 기업구조조정증권투자회사
C83: - 「기업구조조정투자회사법」제2조에 따른 기업구조조정투자회사
C84: - 「자본시장과 금융투자업에 관한 법률」제9조 제19항에 따른 사모집합투자기구 등 사모펀드(또는 이와 유사한 외국집합투자기구)
C85: - 유동화전문유한회사
A86: 펀드운용 | C86: 투자대상 발굴, 투자검토, 투자실행, 사후관리, 회수 등
A87: 약정총액 | C87: 펀드 투자규약(정관, 신탁계약서 등)에 따라 각 출자자가 출자이행을 확약한 총액
C88: 헤지펀드 등 펀드 투자규약(정관, 신탁계약서 등) 상에 약정총액이 정해지지 않은 경우에는 제안사가 펀드운용 목적 달성을 위해 판단하고 있는 펀드설정원본
A89: 납입총액 | C89: 약정총액(또는 펀드설정원본) 한도 내에서 출자자가 펀드에 실제 납입한 금액
A90: 투자기간종료(예정)일 | C90: 펀드 투자규약(정관, 신탁계약서 등) 상에 기재된 투자기간 종료(예정)일.
C91: 프로젝트 펀드 등 펀드 투자규약(정관, 신탁계약서 등) 상에 투자기간이 정해지지 않은 경우에는 제안사가 펀드운용 목적 달성을 위해 판단하고 있는 투자기간의 종료(예정)일
...

Sheet 1.1.제안펀드
A1: RFPID | B1: PropFundID | C1: PropGPID1 | D1: PropGPID2 | E1: PropGPID3 | F1: PropGPReportYMD | G1: FundName | H1: QualificationSelect | I1: InvestAreaSelect | J1: FundPlanContractAmt | K1: MLPReqContractAmt | L1: PropFundUsefulYears | M1: PropFundInvestYears | N1: PayInMethodSelect | O1: TargetIRR | P1: HurdleRate | Q1: PlanContingentFeeDesc | R1: PlanManagingFeeDesc | S1: PropGPName1 | T1: PropGPNo1 | U1: PropGPPlanContractAmt1 | V1: PropGPLossCoverRate1 | W1: PropGPCoreFundMgrHC1 | X1: PropGPOrdiFundMgrHC1 | Y1: PropGPName2 | Z1: PropGPNo2 | AA1: PropGPPlanContractAmt2 | AB1: PropGPLossCoverRate2 | AC1: PropGPCoreFundMgrHC2 | AD1: PropGPOrdiFundMgrHC2 | AE1: PropGPName3 | AF1: PropGPNo3 | AG1: PropGPPlanContractAmt3 | AH1: PropGPLossCoverRate3 | AI1: PropGPCoreFundMgrHC3 | AJ1: PropGPOrdiFundMgrHC3 | AK1: PropFundMgrName | AL1: PropFundMgrCompany | AM1: PropFundMgrTelNo
F3: 제안서 작성 기준일 | G3: 제안펀드 | P3: 보수 | S3: 제안사1 | Y3: 제안사2 | AE3: 제안사3 | AK3: 제안펀드 담당자
A4: 모집단위ID | B4: 제안펀드ID | C4: 제안사1_ID | D4: 제안사2_ID | E4: 제안사3_ID | G4: 펀드명 | H4: 투자기구 | I4: 신청분야 | J4: 펀드규모 | K4: 출자요청액 | L4: 존속기간 | M4: 투자기간 | N4: 납입방식 | O4: 목표 수익률 (IRR) | P4: 기준 수익률 | Q4: 성과보수제안 | R4: 관리보수제안 | S4: 회사명 | T4: 법인등록번호 | U4: 출자약정예상액 | V4: 후순위출자비율 | W4: 참여 핵심 운용 인력수 | X4: 참여 일반 운용 인력수 | Y4: 회사명 | Z4: 법인등록번호 | AA4: 출자약정예상액 | AB4: 후순위출자비율 | AC4: 참여 핵심 운용 인력수 | AD4: 참여 일반 운용 인력수 | AE4: 회사명 | AF4: 법인등록번호 | AG4: 출자약정예상액 | AH4: 후순위출자비율 | AI4: 참여 핵심 운용 인력수 | AJ4: 참여 일반 운용 인력수 | AK4: 성명 | AL4: 소속 | AM4: 연락처
F11: 44316 | G11: 000 펀드 | H11: 기업재무안정사모투자전문회사 | I11: 기업구조혁신펀드 | J11: 25000 | K11: 12500 | L11: 10 | M11: 5 | N11: 수시납 | O11: oo% | P11: 0 | S11: 가인베스트먼트 | T11: 000000-0000000 | U11: 10000 | V11: 0 | W11: 3 | X11: 2 | Y11: 나인베스트먼트 | Z11: 000000-0000000 | AB11: 0 | AC11: 3 | AD11: 2 | AK11: 홍길동 | AL11: 가인베스트먼트 | AM11: 070-2222-2222

Sheet 1.2.출자예상내역
A1: RFPID | B1: PropFundID | C1: LineNum | D1: FundMemberType | E1: FundMemberName | F1: CommitStatus | G1: FundingAmt | H1: 1stRate | I1: 1stAmt | J1: 2ndRate | K1: 2ndAmt | L1: 3rdRate | M1: 3rdAmt | P1: LossCoverRate | Q1: LossCoverAmt | R1: Remark | S1: Remark2
A4: 모집단위ID | B4: 제안펀드ID | C4: 순번 | D4: 출자자유형 | E4: 출자자명 | F4: 출자확정구분 | G4: 출자약정예상액 | H4: 출자예상액 형태 | P4: 우선손실충당비율 (약정총액 대비) | Q4: 우선손실충당예상액 | R4: 비고 | S4: 비고
H5: 선순위 | J5: 중순위 | L5: 후순위
H6: 비율 | I6: 금액 | J6: 비율 | K6: 금액 | L6: 비율 | M6: 금액
D11: 기업구조혁신펀드 | E11: 기업구조혁신펀드(III) | F11: 미정
D12: 제안사 | E12: OOOO인베스트먼트㈜ | F12: 운용사
D13: 기타 | E13: 00대학교 산학협력단 | F13: LOC
D14: 제안사계열사 | E14: 00개발㈜ | F14: LOI
D15: 일반기업 | E15: 00증권㈜ | F15: LOI
D16: 일반기업 | E16: ㈜00홀딩스 | F16: LOI
D17: 일반기업 | E17: ㈜00기업 | F17: LOI
Q21: =IF(OR(ISBLANK(P21),0),"",$G$51*P21)
Q22: =IF(OR(ISBLANK(P22),0),"",$G$51*P22)
Q23: =IF(OR(ISBLANK(P23),0),"",$G$51*P23)
Q24: =IF(OR(ISBLANK(P24),0),"",$G$51*P24)
Q25: =IF(OR(ISBLANK(P25),0),"",$G$51*P25)
Q26: =IF(OR(ISBLANK(P26),0),"",$G$51*P26)
Q27: =IF(OR(ISBLANK(P27),0),"",$G$51*P27)
Q28: =IF(OR(ISBLANK(P28),0),"",$G$51*P28)
Q29: =IF(OR(ISBLANK(P29),0),"",$G$51*P29)
Q30: =IF(OR(ISBLANK(P30),0),"",$G$51*P30)
Q31: =IF(OR(ISBLANK(P31),0),"",$G$51*P31)
Q32: =IF(OR(ISBLANK(P32),0),"",$G$51*P32)
... Q50: =IF(OR(ISBLANK(P50),0),"",$G$51*P50)
D51: 계 | G51: =SUM(G11:G50) -> 0 | H51: =SUM(H11:H50) -> 0 | I51: =SUM(I11:I50) -> 0 | J51: =SUM(J11:J50) -> 0 | K51: =SUM(K11:K50) -> 0 | L51: =SUM(L11:L50) -> 0 | M51: =SUM(M11:M50) -> 0 | N51: =SUM(N11:N50) -> 0 | ... Q51: =SUM(Q11:Q50) -> 0 | R51: =IF(G51='1.1.제안펀드'!J11,"","차이 확인필요") -> 차이 확인필요 | S51: =IF(H51+J51+L51+N51=100%,"","출자형태100% 확인필요") -> 출자형태100% 확인필요
Q52: =IF(OR(ISBLANK(P52),0),"",G52*P52)
Q53: =IF(OR(ISBLANK(P53),0),"",G53*P53)
Q54: =IF(OR(ISBLANK(P54),0),"",G54*P54)
Q55: =IF(OR(ISBLANK(P55),0),"",G55*P55)
Q56: =IF(OR(ISBLANK(P56),0),"",G56*P56)
Q57: =IF(OR(ISBLANK(P57),0),"",G57*P57)
Q58: =IF(OR(ISBLANK(P58),0),"",G58*P58)
Q59: =IF(OR(ISBLANK(P59),0),"",G59*P59)
Q60: =IF(OR(ISBLANK(P60),0),"",G60*P60)
Q61: =IF(OR(ISBLANK(P61),0),"",G61*P61)
Q62: =IF(OR(ISBLANK(P62),0),"",G62*P62)
Q63: =IF(OR(ISBLANK(P63),0),"",G63*P63)
... Q955: =IF(OR(ISBLANK(P955),0),"",G955*P955)

Sheet 2.1.제안사 개요
A1: RFPID | B1: GPID | C1: GPNAME | D1: CompanyNo | E1: CompanySSN | F1: CEO | G1: GPType | H1: FoundationYMD | I1: FundMngBegYMD | J1: FundBegRegisterYMD | K1: ZipCode | L1: Addr | M1: Addr2 | N1: HeadCount | O1: FundFundMgrHC | P1: ComFundMgrHC | Q1: ContactPersonName | R1: ContactPersonBuName | S1: ContactPersonJobTitle | T1: ContactPersonTelNo | U1: ContactPersonFaxNo | V1: ContactPersonMBTLTelNo | W1: ContactPersonEmail
C3: 기본정보 | H3: 업력 | K3: 주소 | N3: 인원 | Q3: 담당자
A4: 모집단위ID | B4: 운용사ID | C4: 제안사명 | D4: 법인등록번호 | E4: 사업자등록번호 | F4: 대표자명 | G4: 제안사유형 | H4: 설립일 | I4: 펀드운용업무 시작일 | J4: 운용펀드 최초결성일 | K4: 우편번호 | L4: 주소 | M4: 주소상세 | N4: 전체 인원수 | O4: 펀드운용 담당 인력수 | P4: 고유계정투자담당인력수 | Q4: 성명 | R4: 부서 | S4: 직위 | T4: 전화 | U4: 팩스 | V4: 휴대전화번호 | W4: Email
C11: 가인베스트먼트 | D11: 000000-0000000 | E11: 000-00-00000 | F11: 홍길동 | G11: 독립 PEF 운용사 | H11: 36892 | I11: 40178 | J11: 40207 | K11: 000-000 | L11: 서울 영등포구 여의도동 | M11: 34-3 대우증권빌딩 16층 산은자산운용 | N11: 50 | O11: 25 | P11: 20 | Q11: 홍길동 | R11: 관리부 | S11: 부장 | T11: 000-0000-0000 | U11: 000-0000-0000 | V11: 000-0000-0000 | W11: 000@0000.oo.oo
C14: 청산완료 펀드 (전체펀드건) | L14: 운용(결성)예정/운용중/청산중 펀드 (전체펀드건) | U14: 고유계정 투자 (전체투자건) | AC14: 펀드계정 투자 (전체투자건)
C15: 펀드수 | D15: 약정총액 | E15: 납입총액 | F15: 투자총액 | G15: 회수총액 | H15: 출자자앞 분배총액 | I15: 성과보수 지급총액 | J15: 납입총액 가중평균 펀드 수익률 (IRR) | K15: 펀드 수익율 (Multiple) | L15: 펀드수 | M15: 약정총액 | N15: 납입총액 | O15: 투자총액 | P15: 회수총액 | Q15: 출자자앞분배총액 | R15: 성과보수 지급총액 | S15: 펀드 순자산 | T15: 추가투자 예상금액 | U15: 투자건수 | V15: 투자건수 (회수료) | W15: 투자총액 | X15: 회수총액 | Y15: 미회수 투자자산투자원금 총액 | Z15: 미회수 투자자산 가치총액 | AA15: 투자금액 가중평균 수익율 | AB15: 투자금액 가중평균수익율 (회수료) | AC15: 투자건수 | AD15: 투자건수 (회수료) | AE15: 투자총액 | AF15: 회수총액 | AG15: 미회수 투자자산투자원금 총액 | AH15: 미회수 투자자산가치총액 | AI15: 투자금액 가중수익율 | AJ15: 투자금액 가중평균 수익율 (회수료)
C16: =SUMPRODUCT( (OFFSET(제안사_펀드현황,0,2,ROWS(제안사_펀드현황),1)="청산료")*1 ) -> 2 | D16: =SUMPRODUCT( (OFFSET(제안사_펀드현황,0,2,ROWS(제안사_펀드현황),1)="청산료")*1, OFFSET(제안사_펀드현황,0,8,ROWS(제안사_펀드현황),1) ) -> 13000 | E16: =SUMPRODUCT( (OFFSET(제안사_펀드현황,0,2,ROWS(제안사_펀드현황),1)="청산료")*1, OFFSET(제안사_펀드현황,0,9,ROWS(제안사_펀드현황),1) ) -> 13000 | F16: =SUMPRODUCT( (OFFSET(제안사_펀드현황,0,2,ROWS(제안사_펀드현황),1)="청산료")*1, OFFSET(제안사_펀드현황,0,20,ROWS(제안사_펀드현황),1) ) -> 14999.991 | G16: =SUMPRODUCT( (OFFSET(제안사_펀드현황,0,2,ROWS(제안사_펀드현황),1)="청산료")*1, OFFSET(제안사_펀드현황,0,21,ROWS(제안사_펀드현황),1) ) -> 6450 | H16: =SUMPRODUCT( (OFFSET(제안사_펀드현황,0,2,ROWS(제안사_펀드현황),1)="청산료")*1, OFFSET(제안사_펀드현황,0,24,ROWS(제안사_펀드현황),1) ) -> 20290 | I16: =SUMPRODUCT( (OFFSET(제안사_펀드현황,0,2,ROWS(제안사_펀드현황),1)="청산료")*1, OFFSET(제안사_펀드현황,0,25,ROWS(제안사_펀드현황),1) ) -> 0 | J16: =SUMPRODUCT( (OFFSET(제안사_펀드현황,0,2,ROWS(제안사_펀드현황),1)="청산료")*1, OFFSET(제안사_펀드현황,0,9,ROWS(제안사_펀드현황),1), OFFSET(제안사_펀드현황,0,17,ROWS(제안사_펀드현황),1) )/E16 -> 0.12401534 | K16: =(H16+I16)/E16 -> 1.5607692 | L16: =SUMPRODUCT( (OFFSET(제안사_펀드현황,0,2,ROWS(제안사_펀드현황),1)<>"청산료")*1, (OFFSET(제안사_펀드현황,0,2,ROWS(제안사_펀드현황),1)<>"")*1 ) -> 1 | M16: =SUMPRODUCT( (OFFSET(제안사_펀드현황,0,2,ROWS(제안사_펀드현황),1)<>"청산료")*1, (OFFSET(제안사_펀드현황,0,2,ROWS(제안사_펀드현황),1)<>"")*1, OFFSET(제안사_펀드현황,0,8,ROWS(제안사_펀드현황),1) ) -> 10000 | N16: =SUMPRODUCT( (OFFSET(제안사_펀드현황,0,2,ROWS(제안사_펀드현황),1)<>"청산료")*1, (OFFSET(제안사_펀드현황,0,2,ROWS(제안사_펀드현황),1)<>"")*1, OFFSET(제안사_펀드현황,0,9,ROWS(제안사_펀드현황),1) ) -> 10000 | O16: =SUMPRODUCT( (OFFSET(제안사_펀드현황,0,2,ROWS(제안사_펀드현황),1)<>"청산료")*1, (OFFSET(제안사_펀드현황,0,2,ROWS(제안사_펀드현황),1)<>"")*1, OFFSET(제안사_펀드현황,0,20,ROWS(제안사_펀드현황),1) ) -> 4000 | P16: =SUMPRODUCT( (OFFSET(제안사_펀드현황,0,2,ROWS(제안사_펀드현황),1)<>"청산료")*1, (OFFSET(제안사_펀드현황,0,2,ROWS(제안사_펀드현황),1)<>"")*1, OFFSET(제안사_펀드현황,0,21,ROWS(제안사_펀드현황),1) ) -> 0 | Q16: =SUMPRODUCT( (OFFSET(제안사_펀드현황,0,2,ROWS(제안사_펀드현황),1)<>"청산료")*1, (OFFSET(제안사_펀드현황,0,2,ROWS(제안사_펀드현황),1)<>"")*1, OFFSET(제안사_펀드현황,0,24,ROWS(제안사_펀드현황),1) ) -> 15600 | R16: =SUMPRODUCT( (OFFSET(제안사_펀드현황,0,2,ROWS(제안사_펀드현황),1)<>"청산료")*1, (OFFSET(제안사_펀드현황,0,2,ROWS(제안사_펀드현황),1)<>"")*1, OFFSET(제안사_펀드현황,0,25,ROWS(제안사_펀드현황),1) ) -> 0 | S16: =SUMPRODUCT( (OFFSET(제안사_펀드현황,0,2,ROWS(제안사_펀드현황),1)<>"청산료")*1, (OFFSET(제안사_펀드현황,0,2,ROWS(제안사_펀드현황),1)<>"")*1, OFFSET(제안사_펀드현황,0,30,ROWS(제안사_펀드현황),1) ) -> 2020 | T16: =SUMPRODUCT( (OFFSET(제안사_펀드현황,0,2,ROWS(제안사_펀드현황),1)<>"청산료")*1, (OFFSET(제안사_펀드현황,0,2,ROWS(제안사_펀드현황),1)<>"")*1, OFFSET(제안사_펀드현황,0,31,ROWS(제안사_펀드현황),1) ) -> 0 | U16: =SUMPRODUCT( (OFFSET(제안사_투자현황,0,0,ROWS(제안사_투자현황),1)="고유계정")*1 ) -> 2 | V16: =SUMPRODUCT( (OFFSET(제안사_투자현황,0,0,ROWS(제안사_투자현황),1)="고유계정")*1, (OFFSET(제안사_투자현황,0,9,ROWS(제안사_투자현황),1)="회수료")*1 ) -> 1 | W16: =SUMPRODUCT( (OFFSET(제안사_투자현황,0,0,ROWS(제안사_투자현황),1)="고유계정")*1, OFFSET(제안사_투자현황,0,8,ROWS(제안사_투자현황),1) ) -> 2000 | X16: =SUMPRODUCT( (OFFSET(제안사_투자현황,0,0,ROWS(제안사_투자현황),1)="고유계정")*1, OFFSET(제안사_투자현황,0,13,ROWS(제안사_투자현황),1) ) -> 1000 | Y16: =SUMPRODUCT( (OFFSET(제안사_투자현황,0,0,ROWS(제안사_투자현황),1)="고유계정")*1, OFFSET(제안사_투자현황,0,18,ROWS(제안사_투자현황),1) ) -> 1000 | Z16: =SUMPRODUCT( (OFFSET(제안사_투자현황,0,0,ROWS(제안사_투자현황),1)="고유계정")*1, OFFSET(제안사_투자현황,0,19,ROWS(제안사_투자현황),1) ) -> 1000 | AA16: =IF(W16=0,"N/A", SUMPRODUCT( (OFFSET(제안사_투자현황,0,0,ROWS(제안사_투자현황),1)="고유계정")*1, OFFSET(제안사_투자현황,0,8,ROWS(제안사_투자현황),1), OFFSET(제안사_투자현황,0,10,ROWS(제안사_투자현황),1) ) / W16) -> 0.0175 | AB16: =IF( SUMPRODUCT( (OFFSET(제안사_투자현황,0,0,ROWS(제안사_투자현황),1)="고유계정")*1, OFFSET(제안사_투자현황,0,8,ROWS(제안사_투자현황),1), (OFFSET(제안사_투자현황,0,9,ROWS(제안사_투자현황),1)="회수료")*1) = 0, "N/A", SUMPRODUCT( (OFFSET(제안사_투자현황,0,0,ROWS(제안사_투자현황),1)="고유계정")*1, OFFSET(제안사_투자현황,0,8,ROWS(제안사_투자현황),1), (OFFSET(제안사_투자현황,0,9,ROWS(제안사_투자현황),1)="회수료")*1, OFFSET(제안사_투자현황,0,10,ROWS(제안사_투자현황),1) ) / SUMPRODUCT( (OFFSET(제안사_투자현황,0,0,ROWS(제안사_투자현황),1)="고유계정")*1, OFFSET(제안사_투자현황,0,8,ROWS(제안사_투자현황),1), (OFFSET(제안사_투자현황,0,9,ROWS(제안사_투자현황),1)="회수료")*1) ) -> 0.035 | AC16: =SUMPRODUCT( (OFFSET(제안사_투자현황,0,0,ROWS(제안사_투자현황),1)="펀드계정")*1 ) -> 8 | AD16: =SUMPRODUCT( (OFFSET(제안사_투자현황,0,0,ROWS(제안사_투자현황),1)="펀드계정")*1, (OFFSET(제안사_투자현황,0,9,ROWS(제안사_투자현황),1)="회수료")*1 ) -> 2 | AE16: =SUMPRODUCT( (OFFSET(제안사_투자현황,0,0,ROWS(제안사_투자현황),1)="펀드계정")*1, OFFSET(제안사_투자현황,0,8,ROWS(제안사_투자현황),1) ) -> 18999.991 | AF16: =SUMPRODUCT( (OFFSET(제안사_투자현황,0,0,ROWS(제안사_투자현황),1)="펀드계정")*1, OFFSET(제안사_투자현황,0,13,ROWS(제안사_투자현황),1) ) -> 6450 | AG16: =SUMPRODUCT( (OFFSET(제안사_투자현황,0,0,ROWS(제안사_투자현황),1)="펀드계정")*1, OFFSET(제안사_투자현황,0,18,ROWS(제안사_투자현황),1) ) -> 13899.992 | AH16: =SUMPRODUCT( (OFFSET(제안사_투자현황,0,0,ROWS(제안사_투자현황),1)="펀드계정")*1, OFFSET(제안사_투자현황,0,19,ROWS(제안사_투자현황),1) ) -> 13364.518 | AI16: =IF(AE16=0,"N/A", SUMPRODUCT( (OFFSET(제안사_투자현황,0,0,ROWS(제안사_투자현황),1)="펀드계정")*1, OFFSET(제안사_투자현황,0,8,ROWS(제안사_투자현황),1), OFFSET(제안사_투자현황,0,10,ROWS(제안사_투자현황),1) ) / AE16) -> 0.0063157893 | AJ16: =IF( SUMPRODUCT( (OFFSET(제안사_투자현황,0,0,ROWS(제안사_투자현황),1)="펀드계정")*1, OFFSET(제안사_투자현황,0,8,ROWS(제안사_투자현황),1), (OFFSET(제안사_투자현황,0,9,ROWS(제안사_투자현황),1)="회수료")*1) = 0, "N/A", SUMPRODUCT( (OFFSET(제안사_투자현황,0,0,ROWS(제안사_투자현황),1)="펀드계정")*1, OFFSET(제안사_투자현황,0,8,ROWS(제안사_투자현황),1), (OFFSET(제안사_투자현황,0,9,ROWS(제안사_투자현황),1)="회수료")*1, OFFSET(제안사_투자현황,0,10,ROWS(제안사_투자현황),1) ) / SUMPRODUCT( (OFFSET(제안사_투자현황,0,0,ROWS(제안사_투자현황),1)="펀드계정")*1, OFFSET(제안사_투자현황,0,8,ROWS(제안사_투자현황),1), (OFFSET(제안사_투자현황,0,9,ROWS(제안사_투자현황),1)="회수료")*1) ) -> 0.029999992
C19: 최초결성운용펀드명칭 | E19: 최초결성운용펀드개요 | K19: 최초결성운용펀드규모 | M19: 최초결성운용펀드 존속기간
C20: 최초결성 운용펀드명 | D20: 펀드 사업자 등록번호 | E20: 펀드 상태 | F20: 펀드법적유형 | G20: 펀드유형 (투자대상확정여부) | H20: 펀드결성목적 또는 주요투자대상 | I20: 투자기업의 주된 법인유형 | J20: 펀드의 주된 투자유형 | K20: 약정 총액 | L20: 납입 총액 | M20: 결성(예정)일 | N20: 투자기간 종료(예정)일 | O20: 해산(예정)일 | P20: 기간(연)
C21: 펀드1호 | D21: 000-00-00000 | E21: 청산료 | F21: 중소기업창업투자조합 | G21: 블라인드펀드 | H21: 일반 중소기업 | I21: 국내설립법인 또는 해외현지법인 | J21: 주식 또는 주식연계채권 | K21: 2000 | L21: 2000 | M21: =J11 -> 40207 | N21: 40572 | O21: 40937 | P21: =IF(ISBLANK(M21),"",DATEDIF(M21,O21,"d")/365) -> 2
C24: 주요주주 현황
C25: 주주명 | D25: 지분율(%) | E25: 최대주주와의 관계 | H25: 비고
C36: 합계 | D36: 1

Sheet 2.2.제안사 재무현황
A1: RFPID | B1: GPID | C1: FYearEndYMD | D1: Assets | E1: CurrentAssets | F1: Liabilities | G1: CurrentLiabilities | H1: Equity | I1: CapitalStock | J1: Sales | K1: COS | L1: NetIncome | M1: CurrentRatio | N1: DebtRatio | O1: CapitalDeficitRatio | P1: OperatingProfitRatio | Q1: ReturnOnEquity
A4: 모집단위ID | B4: 운용사ID | C4: (가)결산일자 | D4: 총자산 | E4: 유동자산 | F4: 총부채 | G4: 유동부채 | H4: 자기자본(자본총계) | I4: 자본금+자본잉여금 | J4: 영업수익 | K4: 영업비용 | L4: 당기순이익 | M4: 유동비율 | N4: 부채비율 | O4: 자본충실률 | P4: 영업수지율 | Q4: 자기자본순이익률
C11: 44196 | D11: 10000 | E11: 9000 | F11: 3000 | G11: 1000 | H11: 7000 | I11: 4000 | J11: 2000 | K11: 1500 | L11: 200 | M11: =E11/G11 -> 9 | N11: =F11/H11 -> 0.42857143 | O11: =H11/I11 -> 1.75 | P11: =J11/K11 -> 1.3333333 | Q11: =L11/H11 -> 0.028571429
C12: 43830 | D12: 8000 | E12: 7000 | F12: 3000 | G12: 1000 | H12: 1000 | I12: 500 | J12: 600 | K12: 500 | L12: -100 | M12: =E12/G12 -> 7 | N12: =F12/H12 -> 3 | O12: =H12/I12 -> 2 | P12: =J12/K12 -> 1.2 | Q12: =L12/H12 -> -0.1
C13: 43465 | D13: 8000 | E13: 7000 | F13: 3000 | G13: 4000 | H13: 1000 | I13: 500 | J13: 3000 | K13: 2500 | L13: 500 | M13: =E13/G13 -> 1.75 | N13: =F13/H13 -> 3 | O13: =H13/I13 -> 2 | P13: =J13/K13 -> 1.2 | Q13: =L13/H13 -> 0.5

Sheet 2.3.제안사 펀드현황
A1: RFPID | B1: GPID | C1: Seq | D1: FundName | E1: FundCompanySSN | F1: FundStatusDesc | G1: FundTypeDesc | H1: IsInvtComFixedDesc | K1: MainInvestTargetDesc | L1: FundContractAmt | M1: FundPayInAmt | N1: RegisterYMD | O1: InvestEndYMD | P1: PropFundSettleYMD | Q1: PropFundUsefulYears | R1: HurdleRate | S1: RFPContingentFeeDesc | T1: RFPManagingFeeDesc | U1: FundIRR | V1: FundMultiple | W1: InvtComCount | X1: InvestAmt | Y1: CollectAmt | Z1: InvestBalBV | AA1: InvestBalEvalAmt | AB1: PayOutAmt | AC1: ContingentFeeAmt | AD1: PropManagingFeeAmt | AE1: OtherExpenseAmt | AF1: OtherAssetAmt | AG1: OtherDebtAmt | AH1: FundNetAmt | AI1: AddInvestPlanAmt | AJ1: CoreFundMgrName1 | AK1: CoreFundMgrBegYMD1 | AL1: CoreFundMgrEndYMD1 | AM1: IsCoreFundMgrWorking1 | AN1: CoreFundMgrName2 | AO1: CoreFundMgrBegYMD2 | AP1: CoreFundMgrEndYMD2 | AQ1: IsCoreFundMgrWorking2 | AR1: CoreFundMgrName3 | AS1: CoreFundMgrBegYMD3 | AT1: CoreFundMgrEndYMD3 | AU1: IsCoreFundMgrWorking3 | AV1: CoreFundMgrChangeNo | AX1: GPCount | AY1: GPName | AZ1: GPContractAmt | BA1: PropGPLossCoverAmt | BB1: JointGPName1 | BC1: JointGPPayInAmt1 | BD1: JointGPLossCoverAmt1 | BE1: JointGPName2 | BF1: JointGPPayInAmt2 | BG1: JointGPLossCoverAmt2 | BH1: LPName1 | BI1: LPPayInAmt1 | BJ1: LPName2 | BK1: LPPayInAmt2 | BL1: LPName3 | BM1: LPPayInAmt3 | BN1: OtherLPPayInAmt
D3: 펀드명칭 | F3: 펀드개요 | L3: 펀드규모 | N3: 펀드 존속기간 | R3: 보수 | U3: 펀드수익율 | W3: 투자 및 회수 | Z3: 미회수투자자산 | AB3: 분배 및 비용 | AF3: 예금 등 투자자산 이외 자산총액 | AG3: 미지급등 부채총액 | AH3: 펀드 순자산 | AI3: 추가투자 예상금액 | AJ3: 핵심운용인력1 | AN3: 핵심운용인력2 | AR3: 핵심운용인력3 | AV3: 핵심운용인력유지율 | AY3: 제안사출자 | BB3: 공동운용사1출자 | BE3: 공동운용사2출자 | BH3: 투자자1 출자 | BJ3: 투자자2 출자 | BL3: 투자자3 출자 | BN3: 기타투자자 출자 약정액
A4: 모집단위ID | B4: 운용사ID | C4: 일련번호 | D4: 펀드명 | E4: 펀드 사업자 등록번호 | F4: 펀드 상태 | G4: 펀드법적유형 | H4: 펀드유형(투자대상확정여부) | I4: 펀드결성목적 또는 주요투자대상 | J4: 투자기업의 주된 법인유형 | K4: 펀드의 주된 투자유형 | L4: 약정 총액 | M4: 납입 총액 | N4: 결성(예정)일 | O4: 투자기간 종료(예정)일 | P4: 해산(예정)일 | Q4: 기간(연) | R4: 기준 수익률 | S4: 성과보수 | T4: 관리보수 | U4: IRR | V4: Multiple | W4: 투자건수 | X4: 투자 총액 | Y4: 회수 총액 | Z4: 투자 원금 총액 | AA4: 가치 총액 | AB4: 출자자앞 분배총액 | AC4: 성과보수지급총액 | AD4: 관리보수 지급총액 | AE4: 기타비용 지급총액 | AJ4: 성명 | AK4: 시작일 | AL4: 종료일 | AM4: 재직여부 | AN4: 성명 | AO4: 시작일 | AP4: 종료일 | AQ4: 재직여부 | AR4: 성명 | AS4: 시작일 | AT4: 종료일 | AU4: 재직여부 | AV4: 펀드설립시 핵심운용인력수 | AW4: 핵심운용인력유출횟수 | AX4: 유지율 | AY4: 제안사명 | AZ4: 약정액 | BA4: 우선손실 충당액 | BB4: 운용사명 | BC4: 약정액 | BD4: 우선손실 충당액 | BE4: 운용사명 | BF4: 약정액 | BG4: 우선손실 충당액 | BH4: 출자자명 | BI4: 약정액 | BJ4: 출자자명 | BK4: 약정액 | BL4: 출자자명 | BM4: 약정액
D11: 펀드1호 | E11: 000-00-00000 | F11: 청산료 | G11: 중소기업창업투자조합 | H11: 블라인드펀드 | I11: 일반 중소기업 | J11: 국내설립법인 또는 해외현지법인 | K11: 주식 또는 주식연계채권 | L11: 3000 | M11: 3000 | N11: 38342 | O11: 39448 | P11: 40556 | Q11: =IF(ISBLANK(N11),"",DATEDIF(N11,P11,"d")/365) -> 6.0657534 | R11: 0.1 | S11: 초과수익의 20% | T11: 초기3년 약정액의 3.0%, 잔여기간 투자잔액의 3.0% | U11: =IF(ISBLANK($D11), "", IF( ISERROR( XIRR( OFFSET(펀드_거래,MATCH($D11,OFFSET(펀드_거래,0,0,ROWS(펀드_거래),1),0)-1,2,COUNTIF(펀드_거래,$D11),1), OFFSET(펀드_거래,MATCH($D11,OFFSET(펀드_거래,0,0,ROWS(펀드_거래),1),0)-1,3,COUNTIF(펀드_거래,$D11),1) ) ), "N/A", XIRR( OFFSET(펀드_거래,MATCH($D11,OFFSET(펀드_거래,0,0,ROWS(펀드_거래),1),0)-1,2,COUNTIF(펀드_거래,$D11),1), OFFSET(펀드_거래,MATCH($D11,OFFSET(펀드_거래,0,0,ROWS(펀드_거래),1),0)-1,3,COUNTIF(펀드_거래,$D11),1), IF(SUM(OFFSET(펀드_거래,MATCH($D11,OFFSET(펀드_거래,0,0,ROWS(펀드_거래),1),0)-1,2,COUNTIF(펀드_거래,$D11),1))>0, 1%, -1%) ) ) ) -> 0.32589252 | V11: =IF( ISBLANK($D11), "", IF(ISNUMBER(M11), (AA11+AB11+AC11+AF11-AG11)/M11, "N/A") ) -> 6.566664 | W11: =IF( ISBLANK($D11), "", SUMPRODUCT( (OFFSET(제안사_투자현황,0,1,ROWS(제안사_투자현황),1)=$D11)*1, ISTEXT(OFFSET(제안사_투자현황,0,3,ROWS(제안사_투자현황),1))*1 ) ) -> 3 | X11: =IF( ISBLANK($D11), "0", SUMPRODUCT( (OFFSET(제안사_투자현황,0,1,ROWS(제안사_투자현황),1)=$D11)*1, OFFSET(제안사_투자현황,0,8,ROWS(제안사_투자현황),1)) ) -> 5999.9919 | Y11: =IF( ISBLANK($D11), "", SUMPRODUCT( (OFFSET(제안사_투자현황,0,1,ROWS(제안사_투자현황),1)=$D11)*1, OFFSET(제안사_투자현황,0,13,ROWS(제안사_투자현황),1)) ) -> 4000 | Z11: =IF( ISBLANK($D11), "", SUMPRODUCT( (OFFSET(제안사_투자현황,0,1,ROWS(제안사_투자현황),1)=$D11)*1, OFFSET(제안사_투자현황,0,18,ROWS(제안사_투자현황),1)) ) -> 2999.9919 | AA11: =IF( ISBLANK($D11), "", SUMPRODUCT( (OFFSET(제안사_투자현황,0,1,ROWS(제안사_투자현황),1)=$D11)*1, OFFSET(제안사_투자현황,0,19,ROWS(제안사_투자현황),1)) ) -> 2999.9919 | AB11: =IF( ISBLANK($D11), "", SUMPRODUCT( (OFFSET(펀드_거래,0,0,ROWS(펀드_거래),1)=$D11)*1, (OFFSET(펀드_거래,0,1,ROWS(펀드_거래),1)="현금분배")*1, OFFSET(펀드_거래,0,2,ROWS(펀드_거래),1)/1000000 ) + SUMPRODUCT( (OFFSET(펀드_거래,0,0,ROWS(펀드_거래),1)=$D11)*1, (OFFSET(펀드_거래,0,1,ROWS(펀드_거래),1)="현물분배")*1, OFFSET(펀드_거래,0,2,ROWS(펀드_거래),1)/1000000 ) ) -> 16700 | AC11: =IF( ISBLANK($D11), "", SUMPRODUCT( (OFFSET(펀드_거래,0,0,ROWS(펀드_거래),1)=$D11)*1, (OFFSET(펀드_거래,0,1,ROWS(펀드_거래),1)="성과보수")*1, OFFSET(펀드_거래,0,2,ROWS(펀드_거래),1)/1000000) ) -> 0 | AH11: =IF( ISERROR(AA11+AF11-AG11), "", AA11+AF11-AG11 ) -> 2999.9919 | AV11: =SUMIF('4.2.펀드 인력변경이력'!A1:A19,'2.3.제안사 펀드현황'!D11,'4.2.펀드 인력변경이력'!F1:F19) -> 3 | AW11: =SUMIF('4.2.펀드 인력변경이력'!A:A,'2.3.제안사 펀드현황'!D11,'4.2.펀드 인력변경이력'!G:G) -> 1 | AX11: =IF(D11="","",IF(AW11=0,3,IF(AV11/AW11>3,3,AV11/AW11))) -> 3
D12: 펀드2호 | E12: 000-00-00001 | F12: 청산료 | G12: 기업구조조정조합 | H12: 블라인드펀드 | I12: 중소기업의 해외진출 지원 | J12: 외국법인 | K12: 주식 또는 주식연계채권 | L12: 10000 | M12: 10000 | N12: 38073 | O12: 39115 | P12: 40631 | Q12: =IF(ISBLANK(N12),"",DATEDIF(N12,P12,"d")/365) -> 7.0082192 | R12: 0.1 | S12: 초과수익의 20% | T12: 투자잔액의 3.0% | U12: =IF(ISBLANK($D12), "", IF( ISERROR( XIRR( OFFSET(펀드_거래,MATCH($D12,OFFSET(펀드_거래,0,0,ROWS(펀드_거래),1),0)-1,2,COUNTIF(펀드_거래,$D12),1), OFFSET(펀드_거래,MATCH($D12,OFFSET(펀드_거래,0,0,ROWS(펀드_거래),1),0)-1,3,COUNTIF(펀드_거래,$D12),1) ) ), "N/A", XIRR( OFFSET(펀드_거래,MATCH($D12,OFFSET(펀드_거래,0,0,ROWS(펀드_거래),1),0)-1,2,COUNTIF(펀드_거래,$D12),1), OFFSET(펀드_거래,MATCH($D12,OFFSET(펀드_거래,0,0,ROWS(펀드_거래),1),0)-1,3,COUNTIF(펀드_거래,$D12),1), IF(SUM(OFFSET(펀드_거래,MATCH($D12,OFFSET(펀드_거래,0,0,ROWS(펀드_거래),1),0)-1,2,COUNTIF(펀드_거래,$D12),1))>0, 1%, -1%) ) ) ) -> 0.063452191 | V12: =IF( ISBLANK($D12), "", IF(ISNUMBER(M12), (AA12+AB12+AC12+AF12-AG12)/M12, "N/A") ) -> 1.1934526 | W12: =IF( ISBLANK($D12), "", SUMPRODUCT( (OFFSET(제안사_투자현황,0,1,ROWS(제안사_투자현황),1)=$D12)*1, ISTEXT(OFFSET(제안사_투자현황,0,3,ROWS(제안사_투자현황),1))*1 ) ) -> 3 | X12: =IF( ISBLANK($D12), "0", SUMPRODUCT( (OFFSET(제안사_투자현황,0,1,ROWS(제안사_투자현황),1)=$D12)*1, OFFSET(제안사_투자현황,0,8,ROWS(제안사_투자현황),1)) ) -> 8999.999 | Y12: =IF( ISBLANK($D12), "", SUMPRODUCT( (OFFSET(제안사_투자현황,0,1,ROWS(제안사_투자현황),1)=$D12)*1, OFFSET(제안사_투자현황,0,13,ROWS(제안사_투자현황),1)) ) -> 2450 | Z12: =IF( ISBLANK($D12), "", SUMPRODUCT( (OFFSET(제안사_투자현황,0,1,ROWS(제안사_투자현황),1)=$D12)*1, OFFSET(제안사_투자현황,0,18,ROWS(제안사_투자현황),1)) ) -> 6900 | AA12: =IF( ISBLANK($D12), "", SUMPRODUCT( (OFFSET(제안사_투자현황,0,1,ROWS(제안사_투자현황),1)=$D12)*1, OFFSET(제안사_투자현황,0,19,ROWS(제안사_투자현황),1)) ) -> 8344.5257 | AB12: =IF( ISBLANK($D12), "", SUMPRODUCT( (OFFSET(펀드_거래,0,0,ROWS(펀드_거래),1)=$D12)*1, (OFFSET(펀드_거래,0,1,ROWS(펀드_거래),1)="현금분배")*1, OFFSET(펀드_거래,0,2,ROWS(펀드_거래),1)/1000000 ) + SUMPRODUCT( (OFFSET(펀드_거래,0,0,ROWS(펀드_거래),1)=$D12)*1, (OFFSET(펀드_거래,0,1,ROWS(펀드_거래),1)="현물분배")*1, OFFSET(펀드_거래,0,2,ROWS(펀드_거래),1)/1000000 ) ) -> 3590 | AC12: =IF( ISBLANK($D12), "", SUMPRODUCT( (OFFSET(펀드_거래,0,0,ROWS(펀드_거래),1)=$D12)*1, (OFFSET(펀드_거래,0,1,ROWS(펀드_거래),1)="성과보수")*1, OFFSET(펀드_거래,0,2,ROWS(펀드_거래),1)/1000000) ) -> 0 | AH12: =IF( ISERROR(AA12+AF12-AG12), "", AA12+AF12-AG12 ) -> 8344.5257 | AV12: =SUMIF('4.2.펀드 인력변경이력'!A1:A19,'2.3.제안사 펀드현황'!D12,'4.2.펀드 인력변경이력'!F1:F19) -> 3 | AW12: =SUMIF('4.2.펀드 인력변경이력'!A:A,'2.3.제안사 펀드현황'!D12,'4.2.펀드 인력변경이력'!G:G) -> 1 | AX12: =IF(D12="","",IF(AW12=0,3,IF(AV12/AW12>3,3,AV12/AW12))) -> 3
D13: 펀드3호 | E13: 000-00-00002 | F13: 운용중 | G13: 중소기업창업투자조합 | H13: 블라인드펀드 | I13: 아시아 지역 투자 | J13: 기타 | K13: 기타 | L13: 10000 | M13: 10000 | N13: 40633 | O13: 41729 | P13: 42893 | Q13: =IF(ISBLANK(N13),"",DATEDIF(N13,P13,"d")/365) -> 6.1917808 | R13: 0.1 | S13: 초과수익의 20% | T13: 투자잔액의 2.5% | U13: =IF(ISBLANK($D13), "", IF( ISERROR( XIRR( OFFSET(펀드_거래,MATCH($D13,OFFSET(펀드_거래,0,0,ROWS(펀드_거래),1),0)-1,2,COUNTIF(펀드_거래,$D13),1), OFFSET(펀드_거래,MATCH($D13,OFFSET(펀드_거래,0,0,ROWS(펀드_거래),1),0)-1,3,COUNTIF(펀드_거래,$D13),1) ) ), "N/A", XIRR( OFFSET(펀드_거래,MATCH($D13,OFFSET(펀드_거래,0,0,ROWS(펀드_거래),1),0)-1,2,COUNTIF(펀드_거래,$D13),1), OFFSET(펀드_거래,MATCH($D13,OFFSET(펀드_거래,0,0,ROWS(펀드_거래),1),0)-1,3,COUNTIF(펀드_거래,$D13),1), IF(SUM(OFFSET(펀드_거래,MATCH($D13,OFFSET(펀드_거래,0,0,ROWS(펀드_거래),1),0)-1,2,COUNTIF(펀드_거래,$D13),1))>0, 1%, -1%) ) ) ) -> 0.21419345 | V13: =IF( ISBLANK($D13), "", IF(ISNUMBER(M13), (AA13+AB13+AC13+AF13-AG13)/M13, "N/A") ) -> 1.762 | W13: =IF( ISBLANK($D13), "", SUMPRODUCT( (OFFSET(제안사_투자현황,0,1,ROWS(제안사_투자현황),1)=$D13)*1, ISTEXT(OFFSET(제안사_투자현황,0,3,ROWS(제안사_투자현황),1))*1 ) ) -> 2 | X13: =IF( ISBLANK($D13), "0", SUMPRODUCT( (OFFSET(제안사_투자현황,0,1,ROWS(제안사_투자현황),1)=$D13)*1, OFFSET(제안사_투자현황,0,8,ROWS(제안사_투자현황),1)) ) -> 4000 | Y13: =IF( ISBLANK($D13), "", SUMPRODUCT( (OFFSET(제안사_투자현황,0,1,ROWS(제안사_투자현황),1)=$D13)*1, OFFSET(제안사_투자현황,0,13,ROWS(제안사_투자현황),1)) ) -> 0 | Z13: =IF( ISBLANK($D13), "", SUMPRODUCT( (OFFSET(제안사_투자현황,0,1,ROWS(제안사_투자현황),1)=$D13)*1, OFFSET(제안사_투자현황,0,18,ROWS(제안사_투자현황),1)) ) -> 4000 | AA13: =IF( ISBLANK($D13), "", SUMPRODUCT( (OFFSET(제안사_투자현황,0,1,ROWS(제안사_투자현황),1)=$D13)*1, OFFSET(제안사_투자현황,0,19,ROWS(제안사_투자현황),1)) ) -> 2020 | AB13: =IF( ISBLANK($D13), "", SUMPRODUCT( (OFFSET(펀드_거래,0,0,ROWS(펀드_거래),1)=$D13)*1, (OFFSET(펀드_거래,0,1,ROWS(펀드_거래),1)="현금분배")*1, OFFSET(펀드_거래,0,2,ROWS(펀드_거래),1)/1000000 ) + SUMPRODUCT( (OFFSET(펀드_거래,0,0,ROWS(펀드_거래),1)=$D13)*1, (OFFSET(펀드_거래,0,1,ROWS(펀드_거래),1)="현물분배")*1, OFFSET(펀드_거래,0,2,ROWS(펀드_거래),1)/1000000 ) ) -> 15600 | AC13: =IF( ISBLANK($D13), "", SUMPRODUCT( (OFFSET(펀드_거래,0,0,ROWS(펀드_거래),1)=$D13)*1, (OFFSET(펀드_거래,0,1,ROWS(펀드_거래),1)="성과보수")*1, OFFSET(펀드_거래,0,2,ROWS(펀드_거래),1)/1000000) ) -> 0 | AH13: =IF( ISERROR(AA13+AF13-AG13), "", AA13+AF13-AG13 ) -> 2020 | AV13: =SUMIF('4.2.펀드 인력변경이력'!A1:A19,'2.3.제안사 펀드현황'!D13,'4.2.펀드 인력변경이력'!F1:F19) -> 3 | AW13: =SUMIF('4.2.펀드 인력변경이력'!A:A,'2.3.제안사 펀드현황'!D13,'4.2.펀드 인력변경이력'!G:G) -> 1 | AX13: =IF(D13="","",IF(AW13=0,3,IF(AV13/AW13>3,3,AV13/AW13))) -> 3
Q14: =IF(ISBLANK(N14),"",DATEDIF(N14,P14,"d")/365) | U14: =IF(ISBLANK($D14), "", IF( ISERROR( XIRR( OFFSET(펀드_거래,MATCH($D14,OFFSET(펀드_거래,0,0,ROWS(펀드_거래),1),0)-1,2,COUNTIF(펀드_거래,$D14),1), OFFSET(펀드_거래,MATCH($D14,OFFSET(펀드_거래,0,0,ROWS(펀드_거래),1),0)-1,3,COUNTIF(펀드_거래,$D14),1) ) ), "N/A", XIRR( OFFSET(펀드_거래,MATCH($D14,OFFSET(펀드_거래,0,0,ROWS(펀드_거래),1),0)-1,2,COUNTIF(펀드_거래,$D14),1), OFFSET(펀드_거래,MATCH($D14,OFFSET(펀드_거래,0,0,ROWS(펀드_거래),1),0)-1,3,COUNTIF(펀드_거래,$D14),1), IF(SUM(OFFSET(펀드_거래,MATCH($D14,OFFSET(펀드_거래,0,0,ROWS(펀드_거래),1),0)-1,2,COUNTIF(펀드_거래,$D14),1))>0, 1%, -1%) ) ) ) | V14: =IF( ISBLANK($D14), "", IF(ISNUMBER(M14), (AA14+AB14+AC14+AF14-AG14)/M14, "N/A") ) | W14: =IF( ISBLANK($D14), "", SUMPRODUCT( (OFFSET(제안사_투자현황,0,1,ROWS(제안사_투자현황),1)=$D14)*1, ISTEXT(OFFSET(제안사_투자현황,0,3,ROWS(제안사_투자현황),1))*1 ) ) | X14: =IF( ISBLANK($D14), "0", SUMPRODUCT( (OFFSET(제안사_투자현황,0,1,ROWS(제안사_투자현황),1)=$D14)*1, OFFSET(제안사_투자현황,0,8,ROWS(제안사_투자현황),1)) ) -> 0 | Y14: =IF( ISBLANK($D14), "", SUMPRODUCT( (OFFSET(제안사_투자현황,0,1,ROWS(제안사_투자현황),1)=$D14)*1, OFFSET(제안사_투자현황,0,13,ROWS(제안사_투자현황),1)) ) | Z14: =IF( ISBLANK($D14), "", SUMPRODUCT( (OFFSET(제안사_투자현황,0,1,ROWS(제안사_투자현황),1)=$D14)*1, OFFSET(제안사_투자현황,0,18,ROWS(제안사_투자현황),1)) ) | AA14: =IF( ISBLANK($D14), "", SUMPRODUCT( (OFFSET(제안사_투자현황,0,1,ROWS(제안사_투자현황),1)=$D14)*1, OFFSET(제안사_투자현황,0,19,ROWS(제안사_투자현황),1)) ) | AB14: =IF( ISBLANK($D14), "", SUMPRODUCT( (OFFSET(펀드_거래,0,0,ROWS(펀드_거래),1)=$D14)*1, (OFFSET(펀드_거래,0,1,ROWS(펀드_거래),1)="현금분배")*1, OFFSET(펀드_거래,0,2,ROWS(펀드_거래),1)/1000000 ) + SUMPRODUCT( (OFFSET(펀드_거래,0,0,ROWS(펀드_거래),1)=$D14)*1, (OFFSET(펀드_거래,0,1,ROWS(펀드_거래),1)="현물분배")*1, OFFSET(펀드_거래,0,2,ROWS(펀드_거래),1)/1000000 ) ) | AC14: =IF( ISBLANK($D14), "", SUMPRODUCT( (OFFSET(펀드_거래,0,0,ROWS(펀드_거래),1)=$D14)*1, (OFFSET(펀드_거래,0,1,ROWS(펀드_거래),1)="성과보수")*1, OFFSET(펀드_거래,0,2,ROWS(펀드_거래),1)/1000000) ) | AH14: =IF( ISERROR(AA14+AF14-AG14), "", AA14+AF14-AG14 )
Q15: =IF(ISBLANK(N15),"",DATEDIF(N15,P15,"d")/365) | U15: =IF(ISBLANK($D15), "", IF( ISERROR( XIRR( OFFSET(펀드_거래,MATCH($D15,OFFSET(펀드_거래,0,0,ROWS(펀드_거래),1),0)-1,2,COUNTIF(펀드_거래,$D15),1), OFFSET(펀드_거래,MATCH($D15,OFFSET(펀드_거래,0,0,ROWS(펀드_거래),1),0)-1,3,COUNTIF(펀드_거래,$D15),1) ) ), "N/A", XIRR( OFFSET(펀드_거래,MATCH($D15,OFFSET(펀드_거래,0,0,ROWS(펀드_거래),1),0)-1,2,COUNTIF(펀드_거래,$D15),1), OFFSET(펀드_거래,MATCH($D15,OFFSET(펀드_거래,0,0,ROWS(펀드_거래),1),0)-1,3,COUNTIF(펀드_거래,$D15),1), IF(SUM(OFFSET(펀드_거래,MATCH($D15,OFFSET(펀드_거래,0,0,ROWS(펀드_거래),1),0)-1,2,COUNTIF(펀드_거래,$D15),1))>0, 1%, -1%) ) ) ) | V15: =IF( ISBLANK($D15), "", IF(ISNUMBER(M15), (AA15+AB15+AC15+AF15-AG15)/M15, "N/A") ) | W15: =IF( ISBLANK($D15), "", SUMPRODUCT( (OFFSET(제안사_투자현황,0,1,ROWS(제안사_투자현황),1)=$D15)*1, ISTEXT(OFFSET(제안사_투자현황,0,3,ROWS(제안사_투자현황),1))*1 ) ) | X15: =IF( ISBLANK($D15), "0", SUMPRODUCT( (OFFSET(제안사_투자현황,0,1,ROWS(제안사_투자현황),1)=$D15)*1, OFFSET(제안사_투자현황,0,8,ROWS(제안사_투자현황),1)) ) -> 0 | Y15: =IF( ISBLANK($D15), "", SUMPRODUCT( (OFFSET(제안사_투자현황,0,1,ROWS(제안사_투자현황),1)=$D15)*1, OFFSET(제안사_투자현황,0,13,ROWS(제안사_투자현황),1)) ) | Z15: =IF( ISBLANK($D15), "", SUMPRODUCT( (OFFSET(제안사_투자현황,0,1,ROWS(제안사_투자현황),1)=$D15)*1, OFFSET(제안사_투자현황,0,18,ROWS(제안사_투자현황),1)) ) | AA15: =IF( ISBLANK($D15), "", SUMPRODUCT( (OFFSET(제안사_투자현황,0,1,ROWS(제안사_투자현황),1)=$D15)*1, OFFSET(제안사_투자현황,0,19,ROWS(제안사_투자현황),1)) ) | AB15: =IF( ISBLANK($D15), "", SUMPRODUCT( (OFFSET(펀드_거래,0,0,ROWS(펀드_거래),1)=$D15)*1, (OFFSET(펀드_거래,0,1,ROWS(펀드_거래),1)="현금분배")*1, OFFSET(펀드_거래,0,2,ROWS(펀드_거래),1)/1000000 ) + SUMPRODUCT( (OFFSET(펀드_거래,0,0,ROWS(펀드_거래),1)=$D15)*1, (OFFSET(펀드_거래,0,1,ROWS(펀드_거래),1)="현물분배")*1, OFFSET(펀드_거래,0,2,ROWS(펀드_거래),1)/1000000 ) ) | AC15: =IF( ISBLANK($D15), "", SUMPRODUCT( (OFFSET(펀드_거래,0,0,ROWS(펀드_거래),1)=$D15)*1, (OFFSET(펀드_거래,0,1,ROWS(펀드_거래),1)="성과보수")*1, OFFSET(펀드_거래,0,2,ROWS(펀드_거래),1)/1000000) ) | AH15: =IF( ISERROR(AA15+AF15-AG15), "", AA15+AF15-AG15 )
Q16: =IF(ISBLANK(N16),"",DATEDIF(N16,P16,"d")/365) | U16: =IF(ISBLANK($D16), "", IF( ISERROR( XIRR( OFFSET(펀드_거래,MATCH($D16,OFFSET(펀드_거래,0,0,ROWS(펀드_거래),1),0)-1,2,COUNTIF(펀드_거래,$D16),1), OFFSET(펀드_거래,MATCH($D16,OFFSET(펀드_거래,0,0,ROWS(펀드_거래),1),0)-1,3,COUNTIF(펀드_거래,$D16),1) ) ), "N/A", XIRR( OFFSET(펀드_거래,MATCH($D16,OFFSET(펀드_거래,0,0,ROWS(펀드_거래),1),0)-1,2,COUNTIF(펀드_거래,$D16),1), OFFSET(펀드_거래,MATCH($D16,OFFSET(펀드_거래,0,0,ROWS(펀드_거래),1),0)-1,3,COUNTIF(펀드_거래,$D16),1), IF(SUM(OFFSET(펀드_거래,MATCH($D16,OFFSET(펀드_거래,0,0,ROWS(펀드_거래),1),0)-1,2,COUNTIF(펀드_거래,$D16),1))>0, 1%, -1%) ) ) ) | V16: =IF( ISBLANK($D16), "", IF(ISNUMBER(M16), (AA16+AB16+AC16+AF16-AG16)/M16, "N/A") ) | W16: =IF( ISBLANK($D16), "", SUMPRODUCT( (OFFSET(제안사_투자현황,0,1,ROWS(제안사_투자현황),1)=$D16)*1, ISTEXT(OFFSET(제안사_투자현황,0,3,ROWS(제안사_투자현황),1))*1 ) ) | X16: =IF( ISBLANK($D16), "0", SUMPRODUCT( (OFFSET(제안사_투자현황,0,1,ROWS(제안사_투자현황),1)=$D16)*1, OFFSET(제안사_투자현황,0,8,ROWS(제안사_투자현황),1)) ) -> 0 | Y16: =IF( ISBLANK($D16), "", SUMPRODUCT( (OFFSET(제안사_투자현황,0,1,ROWS(제안사_투자현황),1)=$D16)*1, OFFSET(제안사_투자현황,0,13,ROWS(제안사_투자현황),1)) ) | Z16: =IF( ISBLANK($D16), "", SUMPRODUCT( (OFFSET(제안사_투자현황,0,1,ROWS(제안사_투자현황),1)=$D16)*1, OFFSET(제안사_투자현황,0,18,ROWS(제안사_투자현황),1)) ) | AA16: =IF( ISBLANK($D16), "", SUMPRODUCT( (OFFSET(제안사_투자현황,0,1,ROWS(제안사_투자현황),1)=$D16)*1, OFFSET(제안사_투자현황,0,19,ROWS(제안사_투자현황),1)) ) | AB16: =IF( ISBLANK($D16), "", SUMPRODUCT( (OFFSET(펀드_거래,0,0,ROWS(펀드_거래),1)=$D16)*1, (OFFSET(펀드_거래,0,1,ROWS(펀드_거래),1)="현금분배")*1, OFFSET(펀드_거래,0,2,ROWS(펀드_거래),1)/1000000 ) + SUMPRODUCT( (OFFSET(펀드_거래,0,0,ROWS(펀드_거래),1)=$D16)*1, (OFFSET(펀드_거래,0,1,ROWS(펀드_거래),1)="현물분배")*1, OFFSET(펀드_거래,0,2,ROWS(펀드_거래),1)/1000000 ) ) | AC16: =IF( ISBLANK($D16), "", SUMPRODUCT( (OFFSET(펀드_거래,0,0,ROWS(펀드_거래),1)=$D16)*1, (OFFSET(펀드_거래,0,1,ROWS(펀드_거래),1)="성과보수")*1, OFFSET(펀드_거래,0,2,ROWS(펀드_거래),1)/1000000) ) | AH16: =IF( ISERROR(AA16+AF16-AG16), "", AA16+AF16-AG16 )
Q17: =IF(ISBLANK(N17),"",DATEDIF(N17,P17,"d")/365) | U17: =IF(ISBLANK($D17), "", IF( ISERROR( XIRR( OFFSET(펀드_거래,MATCH($D17,OFFSET(펀드_거래,0,0,ROWS(펀드_거래),1),0)-1,2,COUNTIF(펀드_거래,$D17),1), OFFSET(펀드_거래,MATCH($D17,OFFSET(펀드_거래,0,0,ROWS(펀드_거래),1),0)-1,3,COUNTIF(펀드_거래,$D17),1) ) ), "N/A", XIRR( OFFSET(펀드_거래,MATCH($D17,OFFSET(펀드_거래,0,0,ROWS(펀드_거래),1),0)-1,2,COUNTIF(펀드_거래,$D17),1), OFFSET(펀드_거래,MATCH($D17,OFFSET(펀드_거래,0,0,ROWS(펀드_거래),1),0)-1,3,COUNTIF(펀드_거래,$D17),1), IF(SUM(OFFSET(펀드_거래,MATCH($D17,OFFSET(펀드_거래,0,0,ROWS(펀드_거래),1),0)-1,2,COUNTIF(펀드_거래,$D17),1))>0, 1%, -1%) ) ) ) | V17: =IF( ISBLANK($D17), "", IF(ISNUMBER(M17), (AA17+AB17+AC17+AF17-AG17)/M17, "N/A") ) | W17: =IF( ISBLANK($D17), "", SUMPRODUCT( (OFFSET(제안사_투자현황,0,1,ROWS(제안사_투자현황),1)=$D17)*1, ISTEXT(OFFSET(제안사_투자현황,0,3,ROWS(제안사_투자현황),1))*1 ) ) | X17: =IF( ISBLANK($D17), "0", SUMPRODUCT( (OFFSET(제안사_투자현황,0,1,ROWS(제안사_투자현황),1)=$D17)*1, OFFSET(제안사_투자현황,0,8,ROWS(제안사_투자현황),1)) ) -> 0 | Y17: =IF( ISBLANK($D17), "", SUMPRODUCT( (OFFSET(제안사_투자현황,0,1,ROWS(제안사_투자현황),1)=$D17)*1, OFFSET(제안사_투자현황,0,13,ROWS(제안사_투자현황),1)) ) | Z17: =IF( ISBLANK($D17), "", SUMPRODUCT( (OFFSET(제안사_투자현황,0,1,ROWS(제안사_투자현황),1)=$D17)*1, OFFSET(제안사_투자현황,0,18,ROWS(제안사_투자현황),1)) ) | AA17: =IF( ISBLANK($D17), "", SUMPRODUCT( (OFFSET(제안사_투자현황,0,1,ROWS(제안사_투자현황),1)=$D17)*1, OFFSET(제안사_투자현황,0,19,ROWS(제안사_투자현황),1)) ) | AB17: =IF( ISBLANK($D17), "", SUMPRODUCT( (OFFSET(펀드_거래,0,0,ROWS(펀드_거래),1)=$D17)*1, (OFFSET(펀드_거래,0,1,ROWS(펀드_거래),1)="현금분배")*1, OFFSET(펀드_거래,0,2,ROWS(펀드_거래),1)/1000000 ) + SUMPRODUCT( (OFFSET(펀드_거래,0,0,ROWS(펀드_거래),1)=$D17)*1, (OFFSET(펀드_거래,0,1,ROWS(펀드_거래),1)="현물분배")*1, OFFSET(펀드_거래,0,2,ROWS(펀드_거래),1)/1000000 ) ) | AC17: =IF( ISBLANK($D17), "", SUMPRODUCT( (OFFSET(펀드_거래,0,0,ROWS(펀드_거래),1)=$D17)*1, (OFFSET(펀드_거래,0,1,ROWS(펀드_거래),1)="성과보수")*1, OFFSET(펀드_거래,0,2,ROWS(펀드_거래),1)/1000000) ) | AH17: =IF( ISERROR(AA17+AF17-AG17), "", AA17+AF17-AG17 )
Q18: =IF(ISBLANK(N18),"",DATEDIF(N18,P18,"d")/365) | U18: =IF(ISBLANK($D18), "", IF( ISERROR( XIRR( OFFSET(펀드_거래,MATCH($D18,OFFSET(펀드_거래,0,0,ROWS(펀드_거래),1),0)-1,2,COUNTIF(펀드_거래,$D18),1), OFFSET(펀드_거래,MATCH($D18,OFFSET(펀드_거래,0,0,ROWS(펀드_거래),1),0)-1,3,COUNTIF(펀드_거래,$D18),1) ) ), "N/A", XIRR( OFFSET(펀드_거래,MATCH($D18,OFFSET(펀드_거래,0,0,ROWS(펀드_거래),1),0)-1,2,COUNTIF(펀드_거래,$D18),1), OFFSET(펀드_거래,MATCH($D18,OFFSET(펀드_거래,0,0,ROWS(펀드_거래),1),0)-1,3,COUNTIF(펀드_거래,$D18),1), IF(SUM(OFFSET(펀드_거래,MATCH($D18,OFFSET(펀드_거래,0,0,ROWS(펀드_거래),1),0)-1,2,COUNTIF(펀드_거래,$D18),1))>0, 1%, -1%) ) ) ) | V18: =IF( ISBLANK($D18), "", IF(ISNUMBER(M18), (AA18+AB18+AC18+AF18-AG18)/M18, "N/A") ) | W18: =IF( ISBLANK($D18), "", SUMPRODUCT( (OFFSET(제안사_투자현황,0,1,ROWS(제안사_투자현황),1)=$D18)*1, ISTEXT(OFFSET(제안사_투자현황,0,3,ROWS(제안사_투자현황),1))*1 ) ) | X18: =IF( ISBLANK($D18), "0", SUMPRODUCT( (OFFSET(제안사_투자현황,0,1,ROWS(제안사_투자현황),1)=$D18)*1, OFFSET(제안사_투자현황,0,8,ROWS(제안사_투자현황),1)) ) -> 0 | Y18: =IF( ISBLANK($D18), "", SUMPRODUCT( (OFFSET(제안사_투자현황,0,1,ROWS(제안사_투자현황),1)=$D18)*1, OFFSET(제안사_투자현황,0,13,ROWS(제안사_투자현황),1)) ) | Z18: =IF( ISBLANK($D18), "", SUMPRODUCT( (OFFSET(제안사_투자현황,0,1,ROWS(제안사_투자현황),1)=$D18)*1, OFFSET(제안사_투자현황,0,18,ROWS(제안사_투자현황),1)) ) | AA18: =IF( ISBLANK($D18), "", SUMPRODUCT( (OFFSET(제안사_투자현황,0,1,ROWS(제안사_투자현황),1)=$D18)*1, OFFSET(제안사_투자현황,0,19,ROWS(제안사_투자현황),1)) ) | AB18: =IF( ISBLANK($D18), "", SUMPRODUCT( (OFFSET(펀드_거래,0,0,ROWS(펀드_거래),1)=$D18)*1, (OFFSET(펀드_거래,0,1,ROWS(펀드_거래),1)="현금분배")*1, OFFSET(펀드_거래,0,2,ROWS(펀드_거래),1)/1000000 ) + SUMPRODUCT( (OFFSET(펀드_거래,0,0,ROWS(펀드_거래),1)=$D18)*1, (OFFSET(펀드_거래,0,1,ROWS(펀드_거래),1)="현물분배")*1, OFFSET(펀드_거래,0,2,ROWS(펀드_거래),1)/1000000 ) ) | AC18: =IF( ISBLANK($D18), "", SUMPRODUCT( (OFFSET(펀드_거래,0,0,ROWS(펀드_거래),1)=$D18)*1, (OFFSET(펀드_거래,0,1,ROWS(펀드_거래),1)="성과보수")*1, OFFSET(펀드_거래,0,2,ROWS(펀드_거래),1)/1000000) ) | AH18: =IF( ISERROR(AA18+AF18-AG18), "", AA18+AF18-AG18 )
Q19: =IF(ISBLANK(N19),"",DATEDIF(N19,P19,"d")/365) | U19: =IF(ISBLANK($D19), "", IF( ISERROR( XIRR( OFFSET(펀드_거래,MATCH($D19,OFFSET(펀드_거래,0,0,ROWS(펀드_거래),1),0)-1,2,COUNTIF(펀드_거래,$D19),1), OFFSET(펀드_거래,MATCH($D19,OFFSET(펀드_거래,0,0,ROWS(펀드_거래),1),0)-1,3,COUNTIF(펀드_거래,$D19),1) ) ), "N/A", XIRR( OFFSET(펀드_거래,MATCH($D19,OFFSET(펀드_거래,0,0,ROWS(펀드_거래),1),0)-1,2,COUNTIF(펀드_거래,$D19),1), OFFSET(펀드_거래,MATCH($D19,OFFSET(펀드_거래,0,0,ROWS(펀드_거래),1),0)-1,3,COUNTIF(펀드_거래,$D19),1), IF(SUM(OFFSET(펀드_거래,MATCH($D19,OFFSET(펀드_거래,0,0,ROWS(펀드_거래),1),0)-1,2,COUNTIF(펀드_거래,$D19),1))>0, 1%, -1%) ) ) ) | V19: =IF( ISBLANK($D19), "", IF(ISNUMBER(M19), (AA19+AB19+AC19+AF19-AG19)/M19, "N/A") ) | W19: =IF( ISBLANK($D19), "", SUMPRODUCT( (OFFSET(제안사_투자현황,0,1,ROWS(제안사_투자현황),1)=$D19)*1, ISTEXT(OFFSET(제안사_투자현황,0,3,ROWS(제안사_투자현황),1))*1 ) ) | X19: =IF( ISBLANK($D19), "0", SUMPRODUCT( (OFFSET(제안사_투자현황,0,1,ROWS(제안사_투자현황),1)=$D19)*1, OFFSET(제안사_투자현황,0,8,ROWS(제안사_투자현황),1)) ) -> 0 | Y19: =IF( ISBLANK($D19), "", SUMPRODUCT( (OFFSET(제안사_투자현황,0,1,ROWS(제안사_투자현황),1)=$D19)*1, OFFSET(제안사_투자현황,0,13,ROWS(제안사_투자현황),1)) ) | Z19: =IF( ISBLANK($D19), "", SUMPRODUCT( (OFFSET(제안사_투자현황,0,1,ROWS(제안사_투자현황),1)=$D19)*1, OFFSET(제안사_투자현황,0,18,ROWS(제안사_투자현황),1)) ) | AA19: =IF( ISBLANK($D19), "", SUMPRODUCT( (OFFSET(제안사_투자현황,0,1,ROWS(제안사_투자현황),1)=$D19)*1, OFFSET(제안사_투자현황,0,19,ROWS(제안사_투자현황),1)) ) | AB19: =IF( ISBLANK($D19), "", SUMPRODUCT( (OFFSET(펀드_거래,0,0,ROWS(펀드_거래),1)=$D19)*1, (OFFSET(펀드_거래,0,1,ROWS(펀드_거래),1)="현금분배")*1, OFFSET(펀드_거래,0,2,ROWS(펀드_거래),1)/1000000 ) + SUMPRODUCT( (OFFSET(펀드_거래,0,0,ROWS(펀드_거래),1)=$D19)*1, (OFFSET(펀드_거래,0,1,ROWS(펀드_거래),1)="현물분배")*1, OFFSET(펀드_거래,0,2,ROWS(펀드_거래),1)/1000000 ) ) | AC19: =IF( ISBLANK($D19), "", SUMPRODUCT( (OFFSET(펀드_거래,0,0,ROWS(펀드_거래),1)=$D19)*1, (OFFSET(펀드_거래,0,1,ROWS(펀드_거래),1)="성과보수")*1, OFFSET(펀드_거래,0,2,ROWS(펀드_거래),1)/1000000) ) | AH19: =IF( ISERROR(AA19+AF19-AG19), "", AA19+AF19-AG19 )
Q20: =IF(ISBLANK(N20),"",DATEDIF(N20,P20,"d")/365) | U20: =IF(ISBLANK($D20), "", IF( ISERROR( XIRR( OFFSET(펀드_거래,MATCH($D20,OFFSET(펀드_거래,0,0,ROWS(펀드_거래),1),0)-1,2,COUNTIF(펀드_거래,$D20),1), OFFSET(펀드_거래,MATCH($D20,OFFSET(펀드_거래,0,0,ROWS(펀드_거래),1),0)-1,3,COUNTIF(펀드_거래,$D20),1) ) ), "N/A", XIRR( OFFSET(펀드_거래,MATCH($D20,OFFSET(펀드_거래,0,0,ROWS(펀드_거래),1),0)-1,2,COUNTIF(펀드_거래,$D20),1), OFFSET(펀드_거래,MATCH($D20,OFFSET(펀드_거래,0,0,ROWS(펀드_거래),1),0)-1,3,COUNTIF(펀드_거래,$D20),1), IF(SUM(OFFSET(펀드_거래,MATCH($D20,OFFSET(펀드_거래,0,0,ROWS(펀드_거래),1),0)-1,2,COUNTIF(펀드_거래,$D20),1))>0, 1%, -1%) ) ) ) | V20: =IF( ISBLANK($D20), "", IF(ISNUMBER(M20), (AA20+AB20+AC20+AF20-AG20)/M20, "N/A") ) | W20: =IF( ISBLANK($D20), "", SUMPRODUCT( (OFFSET(제안사_투자현황,0,1,ROWS(제안사_투자현황),1)=$D20)*1, ISTEXT(OFFSET(제안사_투자현황,0,3,ROWS(제안사_투자현황),1))*1 ) ) | X20: =IF( ISBLANK($D20), "0", SUMPRODUCT( (OFFSET(제안사_투자현황,0,1,ROWS(제안사_투자현황),1)=$D20)*1, OFFSET(제안사_투자현황,0,8,ROWS(제안사_투자현황),1)) ) -> 0 | Y20: =IF( ISBLANK($D20), "", SUMPRODUCT( (OFFSET(제안사_투자현황,0,1,ROWS(제안사_투자현황),1)=$D20)*1, OFFSET(제안사_투자현황,0,13,ROWS(제안사_투자현황),1)) ) | Z20: =IF( ISBLANK($D20), "", SUMPRODUCT( (OFFSET(제안사_투자현황,0,1,ROWS(제안사_투자현황),1)=$D20)*1, OFFSET(제안사_투자현황,0,18,ROWS(제안사_투자현황),1)) ) | AA20: =IF( ISBLANK($D20), "", SUMPRODUCT( (OFFSET(제안사_투자현황,0,1,ROWS(제안사_투자현황),1)=$D20)*1, OFFSET(제안사_투자현황,0,19,ROWS(제안사_투자현황),1)) ) | AB20: =IF( ISBLANK($D20), "", SUMPRODUCT( (OFFSET(펀드_거래,0,0,ROWS(펀드_거래),1)=$D20)*1, (OFFSET(펀드_거래,0,1,ROWS(펀드_거래),1)="현금분배")*1, OFFSET(펀드_거래,0,2,ROWS(펀드_거래),1)/1000000 ) + SUMPRODUCT( (OFFSET(펀드_거래,0,0,ROWS(펀드_거래),1)=$D20)*1, (OFFSET(펀드_거래,0,1,ROWS(펀드_거래),1)="현물분배")*1, OFFSET(펀드_거래,0,2,ROWS(펀드_거래),1)/1000000 ) ) | AC20: =IF( ISBLANK($D20), "", SUMPRODUCT( (OFFSET(펀드_거래,0,0,ROWS(펀드_거래),1)=$D20)*1, (OFFSET(펀드_거래,0,1,ROWS(펀드_거래),1)="성과보수")*1, OFFSET(펀드_거래,0,2,ROWS(펀드_거래),1)/1000000) ) | AH20: =IF( ISERROR(AA20+AF20-AG20), "", AA20+AF20-AG20 )
Q21: =IF(ISBLANK(N21),"",DATEDIF(N21,P21,"d")/365) | U21: =IF(ISBLANK($D21), "", IF( ISERROR( XIRR( OFFSET(펀드_거래,MATCH($D21,OFFSET(펀드_거래,0,0,ROWS(펀드_거래),1),0)-1,2,COUNTIF(펀드_거래,$D21),1), OFFSET(펀드_거래,MATCH($D21,OFFSET(펀드_거래,0,0,ROWS(펀드_거래),1),0)-1,3,COUNTIF(펀드_거래,$D21),1) ) ), "N/A", XIRR( OFFSET(펀드_거래,MATCH($D21,OFFSET(펀드_거래,0,0,ROWS(펀드_거래),1),0)-1,2,COUNTIF(펀드_거래,$D21),1), OFFSET(펀드_거래,MATCH($D21,OFFSET(펀드_거래,0,0,ROWS(펀드_거래),1),0)-1,3,COUNTIF(펀드_거래,$D21),1), IF(SUM(OFFSET(펀드_거래,MATCH($D21,OFFSET(펀드_거래,0,0,ROWS(펀드_거래),1),0)-1,2,COUNTIF(펀드_거래,$D21),1))>0, 1%, -1%) ) ) ) | V21: =IF( ISBLANK($D21), "", IF(ISNUMBER(M21), (AA21+AB21+AC21+AF21-AG21)/M21, "N/A") ) | W21: =IF( ISBLANK($D21), "", SUMPRODUCT( (OFFSET(제안사_투자현황,0,1,ROWS(제안사_투자현황),1)=$D21)*1, ISTEXT(OFFSET(제안사_투자현황,0,3,ROWS(제안사_투자현황),1))*1 ) ) | X21: =IF( ISBLANK($D21), "0", SUMPRODUCT( (OFFSET(제안사_투자현황,0,1,ROWS(제안사_투자현황),1)=$D21)*1, OFFSET(제안사_투자현황,0,8,ROWS(제안사_투자현황),1)) ) -> 0 | Y21: =IF( ISBLANK($D21), "", SUMPRODUCT( (OFFSET(제안사_투자현황,0,1,ROWS(제안사_투자현황),1)=$D21)*1, OFFSET(제안사_투자현황,0,13,ROWS(제안사_투자현황),1)) ) | Z21: =IF( ISBLANK($D21), "", SUMPRODUCT( (OFFSET(제안사_투자현황,0,1,ROWS(제안사_투자현황),1)=$D21)*1, OFFSET(제안사_투자현황,0,18,ROWS(제안사_투자현황),1)) ) | AA21: =IF( ISBLANK($D21), "", SUMPRODUCT( (OFFSET(제안사_투자현황,0,1,ROWS(제안사_투자현황),1)=$D21)*1, OFFSET(제안사_투자현황,0,19,ROWS(제안사_투자현황),1)) ) | AB21: =IF( ISBLANK($D21), "", SUMPRODUCT( (OFFSET(펀드_거래,0,0,ROWS(펀드_거래),1)=$D21)*1, (OFFSET(펀드_거래,0,1,ROWS(펀드_거래),1)="현금분배")*1, OFFSET(펀드_거래,0,2,ROWS(펀드_거래),1)/1000000 ) + SUMPRODUCT( (OFFSET(펀드_거래,0,0,ROWS(펀드_거래),1)=$D21)*1, (OFFSET(펀드_거래,0,1,ROWS(펀드_거래),1)="현물분배")*1, OFFSET(펀드_거래,0,2,ROWS(펀드_거래),1)/1000000 ) ) | AC21: =IF( ISBLANK($D21), "", SUMPRODUCT( (OFFSET(펀드_거래,0,0,ROWS(펀드_거래),1)=$D21)*1, (OFFSET(펀드_거래,0,1,ROWS(펀드_거래),1)="성과보수")*1, OFFSET(펀드_거래,0,2,ROWS(펀드_거래),1)/1000000) ) | AH21: =IF( ISERROR(AA21+AF21-AG21), "", AA21+AF21-AG21 )
Q22: =IF(ISBLANK(N22),"",DATEDIF(N22,P22,"d")/365) | U22: =IF(ISBLANK($D22), "", IF( ISERROR( XIRR( OFFSET(펀드_거래,MATCH($D22,OFFSET(펀드_거래,0,0,ROWS(펀드_거래),1),0)-1,2,COUNTIF(펀드_거래,$D22),1), OFFSET(펀드_거래,MATCH($D22,OFFSET(펀드_거래,0,0,ROWS(펀드_거래),1),0)-1,3,COUNTIF(펀드_거래,$D22),1) ) ), "N/A", XIRR( OFFSET(펀드_거래,MATCH($D22,OFFSET(펀드_거래,0,0,ROWS(펀드_거래),1),0)-1,2,COUNTIF(펀드_거래,$D22),1), OFFSET(펀드_거래,MATCH($D22,OFFSET(펀드_거래,0,0,ROWS(펀드_거래),1),0)-1,3,COUNTIF(펀드_거래,$D22),1), IF(SUM(OFFSET(펀드_거래,MATCH($D22,OFFSET(펀드_거래,0,0,ROWS(펀드_거래),1),0)-1,2,COUNTIF(펀드_거래,$D22),1))>0, 1%, -1%) ) ) ) | V22: =IF( ISBLANK($D22), "", IF(ISNUMBER(M22), (AA22+AB22+AC22+AF22-AG22)/M22, "N/A") ) | W22: =IF( ISBLANK($D22), "", SUMPRODUCT( (OFFSET(제안사_투자현황,0,1,ROWS(제안사_투자현황),1)=$D22)*1, ISTEXT(OFFSET(제안사_투자현황,0,3,ROWS(제안사_투자현황),1))*1 ) ) | X22: =IF( ISBLANK($D22), "0", SUMPRODUCT( (OFFSET(제안사_투자현황,0,1,ROWS(제안사_투자현황),1)=$D22)*1, OFFSET(제안사_투자현황,0,8,ROWS(제안사_투자현황),1)) ) -> 0 | Y22: =IF( ISBLANK($D22), "", SUMPRODUCT( (OFFSET(제안사_투자현황,0,1,ROWS(제안사_투자현황),1)=$D22)*1, OFFSET(제안사_투자현황,0,13,ROWS(제안사_투자현황),1)) ) | Z22: =IF( ISBLANK($D22), "", SUMPRODUCT( (OFFSET(제안사_투자현황,0,1,ROWS(제안사_투자현황),1)=$D22)*1, OFFSET(제안사_투자현황,0,18,ROWS(제안사_투자현황),1)) ) | AA22: =IF( ISBLANK($D22), "", SUMPRODUCT( (OFFSET(제안사_투자현황,0,1,ROWS(제안사_투자현황),1)=$D22)*1, OFFSET(제안사_투자현황,0,19,ROWS(제안사_투자현황),1)) ) | AB22: =IF( ISBLANK($D22), "", SUMPRODUCT( (OFFSET(펀드_거래,0,0,ROWS(펀드_거래),1)=$D22)*1, (OFFSET(펀드_거래,0,1,ROWS(펀드_거래),1)="현금분배")*1, OFFSET(펀드_거래,0,2,ROWS(펀드_거래),1)/1000000 ) + SUMPRODUCT( (OFFSET(펀드_거래,0,0,ROWS(펀드_거래),1)=$D22)*1, (OFFSET(펀드_거래,0,1,ROWS(펀드_거래),1)="현물분배")*1, OFFSET(펀드_거래,0,2,ROWS(펀드_거래),1)/1000000 ) ) | AC22: =IF( ISBLANK($D22), "", SUMPRODUCT( (OFFSET(펀드_거래,0,0,ROWS(펀드_거래),1)=$D22)*1, (OFFSET(펀드_거래,0,1,ROWS(펀드_거래),1)="성과보수")*1, OFFSET(펀드_거래,0,2,ROWS(펀드_거래),1)/1000000) ) | AH22: =IF( ISERROR(AA22+AF22-AG22), "", AA22+AF22-AG22 )
Q23: =IF(ISBLANK(N23),"",DATEDIF(N23,P23,"d")/365) | U23: =IF(ISBLANK($D23), "", IF( ISERROR( XIRR( OFFSET(펀드_거래,MATCH($D23,OFFSET(펀드_거래,0,0,ROWS(펀드_거래),1),0)-1,2,COUNTIF(펀드_거래,$D23),1), OFFSET(펀드_거래,MATCH($D23,OFFSET(펀드_거래,0,0,ROWS(펀드_거래),1),0)-1,3,COUNTIF(펀드_거래,$D23),1) ) ), "N/A", XIRR( OFFSET(펀드_거래,MATCH($D23,OFFSET(펀드_거래,0,0,ROWS(펀드_거래),1),0)-1,2,COUNTIF(펀드_거래,$D23),1), OFFSET(펀드_거래,MATCH($D23,OFFSET(펀드_거래,0,0,ROWS(펀드_거래),1),0)-1,3,COUNTIF(펀드_거래,$D23),1), IF(SUM(OFFSET(펀드_거래,MATCH($D23,OFFSET(펀드_거래,0,0,ROWS(펀드_거래),1),0)-1,2,COUNTIF(펀드_거래,$D23),1))>0, 1%, -1%) ) ) ) | V23: =IF( ISBLANK($D23), "", IF(ISNUMBER(M23), (AA23+AB23+AC23+AF23-AG23)/M23, "N/A") ) | W23: =IF( ISBLANK($D23), "", SUMPRODUCT( (OFFSET(제안사_투자현황,0,1,ROWS(제안사_투자현황),1)=$D23)*1, ISTEXT(OFFSET(제안사_투자현황,0,3,ROWS(제안사_투자현황),1))*1 ) ) | X23: =IF( ISBLANK($D23), "0", SUMPRODUCT( (OFFSET(제안사_투자현황,0,1,ROWS(제안사_투자현황),1)=$D23)*1, OFFSET(제안사_투자현황,0,8,ROWS(제안사_투자현황),1)) ) -> 0 | Y23: =IF( ISBLANK($D23), "", SUMPRODUCT( (OFFSET(제안사_투자현황,0,1,ROWS(제안사_투자현황),1)=$D23)*1, OFFSET(제안사_투자현황,0,13,ROWS(제안사_투자현황),1)) ) | Z23: =IF( ISBLANK($D23), "", SUMPRODUCT( (OFFSET(제안사_투자현황,0,1,ROWS(제안사_투자현황),1)=$D23)*1, OFFSET(제안사_투자현황,0,18,ROWS(제안사_투자현황),1)) ) | AA23: =IF( ISBLANK($D23), "", SUMPRODUCT( (OFFSET(제안사_투자현황,0,1,ROWS(제안사_투자현황),1)=$D23)*1, OFFSET(제안사_투자현황,0,19,ROWS(제안사_투자현황),1)) ) | AB23: =IF( ISBLANK($D23), "", SUMPRODUCT( (OFFSET(펀드_거래,0,0,ROWS(펀드_거래),1)=$D23)*1, (OFFSET(펀드_거래,0,1,ROWS(펀드_거래),1)="현금분배")*1, OFFSET(펀드_거래,0,2,ROWS(펀드_거래),1)/1000000 ) + SUMPRODUCT( (OFFSET(펀드_거래,0,0,ROWS(펀드_거래),1)=$D23)*1, (OFFSET(펀드_거래,0,1,ROWS(펀드_거래),1)="현물분배")*1, OFFSET(펀드_거래,0,2,ROWS(펀드_거래),1)/1000000 ) ) | AC23: =IF( ISBLANK($D23), "", SUMPRODUCT( (OFFSET(펀드_거래,0,0,ROWS(펀드_거래),1)=$D23)*1, (OFFSET(펀드_거래,0,1,ROWS(펀드_거래),1)="성과보수")*1, OFFSET(펀드_거래,0,2,ROWS(펀드_거래),1)/1000000) ) | AH23: =IF( ISERROR(AA23+AF23-AG23), "", AA23+AF23-AG23 )
Q24: =IF(ISBLANK(N24),"",DATEDIF(N24,P24,"d")/365) | U24: =IF(ISBLANK($D24), "", IF( ISERROR( XIRR( OFFSET(펀드_거래,MATCH($D24,OFFSET(펀드_거래,0,0,ROWS(펀드_거래),1),0)-1,2,COUNTIF(펀드_거래,$D24),1), OFFSET(펀드_거래,MATCH($D24,OFFSET(펀드_거래,0,0,ROWS(펀드_거래),1),0)-1,3,COUNTIF(펀드_거래,$D24),1) ) ), "N/A", XIRR( OFFSET(펀드_거래,MATCH($D24,OFFSET(펀드_거래,0,0,ROWS(펀드_거래),1),0)-1,2,COUNTIF(펀드_거래,$D24),1), OFFSET(펀드_거래,MATCH($D24,OFFSET(펀드_거래,0,0,ROWS(펀드_거래),1),0)-1,3,COUNTIF(펀드_거래,$D24),1), IF(SUM(OFFSET(펀드_거래,MATCH($D24,OFFSET(펀드_거래,0,0,ROWS(펀드_거래),1),0)-1,2,COUNTIF(펀드_거래,$D24),1))>0, 1%, -1%) ) ) ) | V24: =IF( ISBLANK($D24), "", IF(ISNUMBER(M24), (AA24+AB24+AC24+AF24-AG24)/M24, "N/A") ) | W24: =IF( ISBLANK($D24), "", SUMPRODUCT( (OFFSET(제안사_투자현황,0,1,ROWS(제안사_투자현황),1)=$D24)*1, ISTEXT(OFFSET(제안사_투자현황,0,3,ROWS(제안사_투자현황),1))*1 ) ) | X24: =IF( ISBLANK($D24), "0", SUMPRODUCT( (OFFSET(제안사_투자현황,0,1,ROWS(제안사_투자현황),1)=$D24)*1, OFFSET(제안사_투자현황,0,8,ROWS(제안사_투자현황),1)) ) -> 0 | Y24: =IF( ISBLANK($D24), "", SUMPRODUCT( (OFFSET(제안사_투자현황,0,1,ROWS(제안사_투자현황),1)=$D24)*1, OFFSET(제안사_투자현황,0,13,ROWS(제안사_투자현황),1)) ) | Z24: =IF( ISBLANK($D24), "", SUMPRODUCT( (OFFSET(제안사_투자현황,0,1,ROWS(제안사_투자현황),1)=$D24)*1, OFFSET(제안사_투자현황,0,18,ROWS(제안사_투자현황),1)) ) | AA24: =IF( ISBLANK($D24), "", SUMPRODUCT( (OFFSET(제안사_투자현황,0,1,ROWS(제안사_투자현황),1)=$D24)*1, OFFSET(제안사_투자현황,0,19,ROWS(제안사_투자현황),1)) ) | AB24: =IF( ISBLANK($D24), "", SUMPRODUCT( (OFFSET(펀드_거래,0,0,ROWS(펀드_거래),1)=$D24)*1, (OFFSET(펀드_거래,0,1,ROWS(펀드_거래),1)="현금분배")*1, OFFSET(펀드_거래,0,2,ROWS(펀드_거래),1)/1000000 ) + SUMPRODUCT( (OFFSET(펀드_거래,0,0,ROWS(펀드_거래),1)=$D24)*1, (OFFSET(펀드_거래,0,1,ROWS(펀드_거래),1)="현물분배")*1, OFFSET(펀드_거래,0,2,ROWS(펀드_거래),1)/1000000 ) ) | AC24: =IF( ISBLANK($D24), "", SUMPRODUCT( (OFFSET(펀드_거래,0,0,ROWS(펀드_거래),1)=$D24)*1, (OFFSET(펀드_거래,0,1,ROWS(펀드_거래),1)="성과보수")*1, OFFSET(펀드_거래,0,2,ROWS(펀드_거래),1)/1000000) ) | AH24: =IF( ISERROR(AA24+AF24-AG24), "", AA24+AF24-AG24 )
Q25: =IF(ISBLANK(N25),"",DATEDIF(N25,P25,"d")/365) | U25: =IF(ISBLANK($D25), "", IF( ISERROR( XIRR( OFFSET(펀드_거래,MATCH($D25,OFFSET(펀드_거래,0,0,ROWS(펀드_거래),1),0)-1,2,COUNTIF(펀드_거래,$D25),1), OFFSET(펀드_거래,MATCH($D25,OFFSET(펀드_거래,0,0,ROWS(펀드_거래),1),0)-1,3,COUNTIF(펀드_거래,$D25),1) ) ), "N/A", XIRR( OFFSET(펀드_거래,MATCH($D25,OFFSET(펀드_거래,0,0,ROWS(펀드_거래),1),0)-1,2,COUNTIF(펀드_거래,$D25),1), OFFSET(펀드_거래,MATCH($D25,OFFSET(펀드_거래,0,0,ROWS(펀드_거래),1),0)-1,3,COUNTIF(펀드_거래,$D25),1), IF(SUM(OFFSET(펀드_거래,MATCH($D25,OFFSET(펀드_거래,0,0,ROWS(펀드_거래),1),0)-1,2,COUNTIF(펀드_거래,$D25),1))>0, 1%, -1%) ) ) ) | V25: =IF( ISBLANK($D25), "", IF(ISNUMBER(M25), (AA25+AB25+AC25+AF25-AG25)/M25, "N/A") ) | W25: =IF( ISBLANK($D25), "", SUMPRODUCT( (OFFSET(제안사_투자현황,0,1,ROWS(제안사_투자현황),1)=$D25)*1, ISTEXT(OFFSET(제안사_투자현황,0,3,ROWS(제안사_투자현황),1))*1 ) ) | X25: =IF( ISBLANK($D25), "0", SUMPRODUCT( (OFFSET(제안사_투자현황,0,1,ROWS(제안사_투자현황),1)=$D25)*1, OFFSET(제안사_투자현황,0,8,ROWS(제안사_투자현황),1)) ) -> 0 | Y25: =IF( ISBLANK($D25), "", SUMPRODUCT( (OFFSET(제안사_투자현황,0,1,ROWS(제안사_투자현황),1)=$D25)*1, OFFSET(제안사_투자현황,0,13,ROWS(제안사_투자현황),1)) ) | Z25: =IF( ISBLANK($D25), "", SUMPRODUCT( (OFFSET(제안사_투자현황,0,1,ROWS(제안사_투자현황),1)=$D25)*1, OFFSET(제안사_투자현황,0,18,ROWS(제안사_투자현황),1)) ) | AA25: =IF( ISBLANK($D25), "", SUMPRODUCT( (OFFSET(제안사_투자현황,0,1,ROWS(제안사_투자현황),1)=$D25)*1, OFFSET(제안사_투자현황,0,19,ROWS(제안사_투자현황),1)) ) | AB25: =IF( ISBLANK($D25), "", SUMPRODUCT( (OFFSET(펀드_거래,0,0,ROWS(펀드_거래),1)=$D25)*1, (OFFSET(펀드_거래,0,1,ROWS(펀드_거래),1)="현금분배")*1, OFFSET(펀드_거래,0,2,ROWS(펀드_거래),1)/1000000 ) + SUMPRODUCT( (OFFSET(펀드_거래,0,0,ROWS(펀드_거래),1)=$D25)*1, (OFFSET(펀드_거래,0,1,ROWS(펀드_거래),1)="현물분배")*1, OFFSET(펀드_거래,0,2,ROWS(펀드_거래),1)/1000000 ) ) | AC25: =IF( ISBLANK($D25), "", SUMPRODUCT( (OFFSET(펀드_거래,0,0,ROWS(펀드_거래),1)=$D25)*1, (OFFSET(펀드_거래,0,1,ROWS(펀드_거래),1)="성과보수")*1, OFFSET(펀드_거래,0,2,ROWS(펀드_거래),1)/1000000) ) | AH25: =IF( ISERROR(AA25+AF25-AG25), "", AA25+AF25-AG25 )
... Q200: =IF(ISBLANK(N200),"",DATEDIF(N200,P200,"d")/365) | U200: =IF(ISBLANK($D200), "", IF( ISERROR( XIRR( OFFSET(펀드_거래,MATCH($D200,OFFSET(펀드_거래,0,0,ROWS(펀드_거래),1),0)-1,2,COUNTIF(펀드_거래,$D200),1), OFFSET(펀드_거래,MATCH($D200,OFFSET(펀드_거래,0,0,ROWS(펀드_거래),1),0)-1,3,COUNTIF(펀드_거래,$D200),1) ) ), "N/A", XIRR( OFFSET(펀드_거래,MATCH($D200,OFFSET(펀드_거래,0,0,ROWS(펀드_거래),1),0)-1,2,COUNTIF(펀드_거래,$D200),1), OFFSET(펀드_거래,MATCH($D200,OFFSET(펀드_거래,0,0,ROWS(펀드_거래),1),0)-1,3,COUNTIF(펀드_거래,$D200),1), IF(SUM(OFFSET(펀드_거래,MATCH($D200,OFFSET(펀드_거래,0,0,ROWS(펀드_거래),1),0)-1,2,COUNTIF(펀드_거래,$D200),1))>0, 1%, -1%) ) ) ) | V200: =IF( ISBLANK($D200), "", IF(ISNUMBER(M200), (AA200+AB200+AC200+AF200-AG200)/M200, "N/A") ) | W200: =IF( ISBLANK($D200), "", SUMPRODUCT( (OFFSET(제안사_투자현황,0,1,ROWS(제안사_투자현황),1)=$D200)*1, ISTEXT(OFFSET(제안사_투자현황,0,3,ROWS(제안사_투자현황),1))*1 ) ) | X200: =IF( ISBLANK($D200), "0", SUMPRODUCT( (OFFSET(제안사_투자현황,0,1,ROWS(제안사_투자현황),1)=$D200)*1, OFFSET(제안사_투자현황,0,8,ROWS(제안사_투자현황),1)) ) -> 0 | Y200: =IF( ISBLANK($D200), "", SUMPRODUCT( (OFFSET(제안사_투자현황,0,1,ROWS(제안사_투자현황),1)=$D200)*1, OFFSET(제안사_투자현황,0,13,ROWS(제안사_투자현황),1)) ) | Z200: =IF( ISBLANK($D200), "", SUMPRODUCT( (OFFSET(제안사_투자현황,0,1,ROWS(제안사_투자현황),1)=$D200)*1, OFFSET(제안사_투자현황,0,18,ROWS(제안사_투자현황),1)) ) | AA200: =IF( ISBLANK($D200), "", SUMPRODUCT( (OFFSET(제안사_투자현황,0,1,ROWS(제안사_투자현황),1)=$D200)*1, OFFSET(제안사_투자현황,0,19,ROWS(제안사_투자현황),1)) ) | AB200: =IF( ISBLANK($D200), "", SUMPRODUCT( (OFFSET(펀드_거래,0,0,ROWS(펀드_거래),1)=$D200)*1, (OFFSET(펀드_거래,0,1,ROWS(펀드_거래),1)="현금분배")*1, OFFSET(펀드_거래,0,2,ROWS(펀드_거래),1)/1000000 ) + SUMPRODUCT( (OFFSET(펀드_거래,0,0,ROWS(펀드_거래),1)=$D200)*1, (OFFSET(펀드_거래,0,1,ROWS(펀드_거래),1)="현물분배")*1, OFFSET(펀드_거래,0,2,ROWS(펀드_거래),1)/1000000 ) ) | AC200: =IF( ISBLANK($D200), "", SUMPRODUCT( (OFFSET(펀드_거래,0,0,ROWS(펀드_거래),1)=$D200)*1, (OFFSET(펀드_거래,0,1,ROWS(펀드_거래),1)="성과보수")*1, OFFSET(펀드_거래,0,2,ROWS(펀드_거래),1)/1000000) ) | AH200: =IF( ISERROR(AA200+AF200-AG200), "", AA200+AF200-AG200 )

Sheet 2.4.제안사 투자현황
A1: RFPID | B1: GPID | C1: Seq | D1: FinancialResource | E1: FundName | F1: FundCompanySSN | G1: InvtComName | I1: MainIndustryDesc | J1: InvestYMD | K1: TujaTypeDesc | L1: InvestAmt | M1: IsCollectedDesc | N1: PropFundInvtComIRR | O1: JointInvestor | P1: CollectYMD | Q1: CollectAmt | R1: CollectBV | S1: CollectMethodDesc | U1: IsMarketableDesc | V1: AmtBal | W1: AmtBalValue | X1: AmtBalValueDesc | Y1: ContactPersonName | AA1: OtherRemark
D3: 투자 | P3: 회수투자자산 | U3: 미회수투자자산 | Z3: 손상차손인식여부 | AA3: 기타사항 | AB3: 피투자기업설립일 | AC3: 구조조정 투자여부 | AD3: 투자시점 회사상태 | AE3: 회수방법 (상세기술) | AF3: 충족요건 | AG3: 구조조정 확인 | AH3: 피투자기업 설립일 | AI3: 설립 ~ 투자 | AJ3: 주요 제품 및 서비스 | AK3: 투자시점 기업규모 | AL3: 투자원금 검증
A4: 모집단위ID | B4: 운용사ID | C4: 일련번호 | D4: 투자계정 구분 | E4: 펀드명 | F4: 펀드사업자 등록번호 | G4: 피투자기업명 | H4: 피투자기업 법인유형 | I4: 피투자기업 주요산업분야 | J4: 투자일 | K4: 투자유형 | L4: 투자금액 | M4: 회수구분 | N4: 투자 수익율 | O4: 동반투자자 | P4: 최종회수일 | Q4: 회수총액 | R4: 투자원금 | S4: 회수방법 | T4: 투자기간 | U4: 시장성유무 | V4: 투자원금 | W4: 가치 | X4: 가치산출근거 | Y4: 현재 담당자 성명
D11: 펀드계정 | E11: 펀드1호 | F11: =IF(ISBLANK($E11),"",VLOOKUP($E11,제안사_펀드현황,2,FALSE)) -> 000-00-00000 | G11: ABD㈜ | H11: 국내설립법인 또는 해외현지법인 | I11: 기타 | J11: 38412 | K11: 보통주 | L11: 3000 | M11: 회수료 | N11: 0.02 | P11: 40161 | Q11: 4000 | R11: 3000 | S11: 코스닥 | T11: =IF(ISBLANK(P11),"",DATEDIF(J11,P11,"d")/365) -> 4.7917808 | Z11: 전액 손상차손 | AB11: 36330 | AC11: YES | AD11: 사전적 구조조정 | AF11: 투자 당시 자본시장법 시행령 제271조의27 3항 중 부채비율 요건 만족 | AG11: =IF(AND(AC11="YES",AD11="일반"),"ERROR",(IF(AND(AC11="NO",AD11="기업회생(舊, 법정관리)"),"ERROR",(IF(AND(AC11="NO",AD11="워크아웃"),"ERROR",(IF(AND(AC11="NO",AD11="채권은행 자율협약"),"ERROR",(IF(AND(AC11="NO",AD11="사전적 구조조정"),"ERROR",""))))))))) | AH11: 36330 | AI11: =(J11-AH11)/365 -> 5.7041096 | AL11: =ROUND(L11,)=ROUND(R11,)+ROUND(V11,) -> TRUE
D12: 펀드계정 | E12: 펀드1호 | F12: =IF(ISBLANK($E12),"",VLOOKUP($E12,제안사_펀드현황,2,FALSE)) -> 000-00-00000 | G12: ABC Inc. | H12: 국내설립법인 또는 해외현지법인 | I12: 전자/반도체 | J12: 38860 | K12: CB | L12: 2000 | M12: 부분회수 | P12: 40228 | Q12: 0 | R12: 0 | S12: 거래소 | T12: =IF(ISBLANK(P12),"",DATEDIF(J12,P12,"d")/365) -> 3.7479452 | U12: YES | V12: 2000 | W12: 2000 | X12: 12.06.13 거래소 종가 | Y12: 이00 | Z12: 해당사항 없음 | AB12: 37987 | AC12: YES | AD12: 사전적 구조조정 | AG12: =IF(AND(AC12="YES",AD12="일반"),"ERROR",(IF(AND(AC12="NO",AD12="기업회생(舊, 법정관리)"),"ERROR",(IF(AND(AC12="NO",AD12="워크아웃"),"ERROR",(IF(AND(AC12="NO",AD12="채권은행 자율협약"),"ERROR",(IF(AND(AC12="NO",AD12="사전적 구조조정"),"ERROR",""))))))))) | AH12: 37987 | AI12: =(J12-AH12)/365 -> 2.3917808 | AL12: =ROUND(L12,)=ROUND(R12,)+ROUND(V12,) -> TRUE
D13: 펀드계정 | E13: 펀드1호 | F13: =IF(ISBLANK($E13),"",VLOOKUP($E13,제안사_펀드현황,2,FALSE)) -> 000-00-00000 | G13: CDE Inc. | H13: 외국법인 | I13: 바이오 | J13: 38869 | K13: 우선주 | L13: 999.99188 | M13: 미회수 | T13: =IF(ISBLANK(P13),"",DATEDIF(J13,P13,"d")/365) | U13: NO | V13: 999.99188 | W13: 999.99188 | X13: 11.12.31장부가액 | Y13: 김00 | Z13: 해당사항 없음 | AB13: 37987 | AC13: YES | AD13: 기업회생(舊, 법정관리) | AF13: 대전지방법원 2003 회합 54321 | AG13: =IF(AND(AC13="YES",AD13="일반"),"ERROR",(IF(AND(AC13="NO",AD13="기업회생(舊, 법정관리)"),"ERROR",(IF(AND(AC13="NO",AD13="워크아웃"),"ERROR",(IF(AND(AC13="NO",AD13="채권은행 자율협약"),"ERROR",(IF(AND(AC13="NO",AD13="사전적 구조조정"),"ERROR",""))))))))) | AH13: 37987 | AI13: =(J13-AH13)/365 -> 2.4164384 | AL13: =ROUND(L13,)=ROUND(R13,)+ROUND(V13,) -> TRUE
D14: 펀드계정 | E14: 펀드2호 | F14: =IF(ISBLANK($E14),"",VLOOKUP($E14,제안사_펀드현황,2,FALSE)) -> 000-00-00001 | G14: 가나다㈜ | H14: 국내설립법인 또는 해외현지법인 | I14: 기타 | J14: 39173 | K14: BW | L14: 1000 | M14: 부분회수 | P14: 40220 | Q14: 100 | R14: 100 | S14: 운용사고유계정매각 | T14: =IF(ISBLANK(P14),"",DATEDIF(J14,P14,"d")/365) -> 2.8684932 | U14: NO | V14: 900 | W14: 900 | X14: 11.12.31장부가액 | Y14: 이00 | Z14: 부분 손상차손 | AB14: 37623 | AC14: NO | AD14: 일반 | AG14: =IF(AND(AC14="YES",AD14="일반"),"ERROR",(IF(AND(AC14="NO",AD14="기업회생(舊, 법정관리)"),"ERROR",(IF(AND(AC14="NO",AD14="워크아웃"),"ERROR",(IF(AND(AC14="NO",AD14="채권은행 자율협약"),"ERROR",(IF(AND(AC14="NO",AD14="사전적 구조조정"),"ERROR",""))))))))) | AH14: 37623 | AI14: =(J14-AH14)/365 -> 4.2465753 | AL14: =ROUND(L14,)=ROUND(R14,)+ROUND(V14,) -> TRUE
D15: 펀드계정 | E15: 펀드2호 | F15: =IF(ISBLANK($E15),"",VLOOKUP($E15,제안사_펀드현황,2,FALSE)) -> 000-00-00001 | G15: ㈜가나다 | H15: 국내설립법인 또는 해외현지법인 | I15: 산업재 | J15: 39234 | K15: 우선주 | L15: 999.999 | M15: 회수료 | N15: 0.06 | P15: 40149 | Q15: 1150 | R15: 1000 | S15: 상환 | T15: =IF(ISBLANK(P15),"",DATEDIF(J15,P15,"d")/365) -> 2.5068493 | Z15: 전액 손상차손 | AB15: 37624 | AC15: NO | AD15: 일반 | AG15: =IF(AND(AC15="YES",AD15="일반"),"ERROR",(IF(AND(AC15="NO",AD15="기업회생(舊, 법정관리)"),"ERROR",(IF(AND(AC15="NO",AD15="워크아웃"),"ERROR",(IF(AND(AC15="NO",AD15="채권은행 자율협약"),"ERROR",(IF(AND(AC15="NO",AD15="사전적 구조조정"),"ERROR",""))))))))) | AH15: 37624 | AI15: =(J15-AH15)/365 -> 4.4109589 | AL15: =ROUND(L15,)=ROUND(R15,)+ROUND(V15,) -> TRUE
D16: 펀드계정 | E16: 펀드2호 | F16: =IF(ISBLANK($E16),"",VLOOKUP($E16,제안사_펀드현황,2,FALSE)) -> 000-00-00001 | G16: 라마바㈜ | H16: 외국법인 | I16: 엔터테인먼트 | J16: 39814 | K16: 기타 주식연계채권 | L16: 7000 | M16: 부분회수 | P16: 40064 | Q16: 1200 | R16: 1000 | S16: 환매 | T16: =IF(ISBLANK(P16),"",DATEDIF(J16,P16,"d")/365) -> 0.68493151 | U16: NO | V16: 6000 | W16: 7444.5257 | X16: 11.12.31장부가액 | Z16: 부분 손상차손 | AB16: 37625 | AC16: NO | AD16: 일반 | AG16: =IF(AND(AC16="YES",AD16="일반"),"ERROR",(IF(AND(AC16="NO",AD16="기업회생(舊, 법정관리)"),"ERROR",(IF(AND(AC16="NO",AD16="워크아웃"),"ERROR",(IF(AND(AC16="NO",AD16="채권은행 자율협약"),"ERROR",(IF(AND(AC16="NO",AD16="사전적 구조조정"),"ERROR",""))))))))) | AH16: 37625 | AI16: =(J16-AH16)/365 -> 5.9972603 | AL16: =ROUND(L16,)=ROUND(R16,)+ROUND(V16,) -> TRUE
D17: 펀드계정 | E17: 펀드3호 | F17: =IF(ISBLANK($E17),"",VLOOKUP($E17,제안사_펀드현황,2,FALSE)) -> 000-00-00002 | G17: GHI Inc. | H17: 국내설립법인 또는 해외현지법인 | I17: 전자/반도체 | J17: 40179 | K17: 기타 주식연계채권 | L17: 2000 | M17: 부분회수 | P17: 40785 | T17: =IF(ISBLANK(P17),"",DATEDIF(J17,P17,"d")/365) -> 1.660274 | U17: NO | V17: 2000 | W17: 20 | X17: 11.12.31장부가액 | Z17: 전액 손상차손 | AA17: 손실처리 | AB17: 37626 | AC17: NO | AD17: 일반 | AG17: =IF(AND(AC17="YES",AD17="일반"),"ERROR",(IF(AND(AC17="NO",AD17="기업회생(舊, 법정관리)"),"ERROR",(IF(AND(AC17="NO",AD17="워크아웃"),"ERROR",(IF(AND(AC17="NO",AD17="채권은행 자율협약"),"ERROR",(IF(AND(AC17="NO",AD17="사전적 구조조정"),"ERROR",""))))))))) | AH17: 37626 | AI17: =(J17-AH17)/365 -> 6.9945205 | AL17: =ROUND(L17,)=ROUND(R17,)+ROUND(V17,) -> TRUE
D18: 펀드계정 | E18: 펀드3호 | F18: =IF(ISBLANK($E18),"",VLOOKUP($E18,제안사_펀드현황,2,FALSE)) -> 000-00-00002 | G18: AAA Inc. | H18: 국내설립법인 또는 해외현지법인 | I18: 전자/반도체 | J18: 40544 | K18: 우선주 | L18: 2000 | M18: 미회수 | T18: =IF(ISBLANK(P18),"",DATEDIF(J18,P18,"d")/365) | U18: NO | V18: 2000 | W18: 2000 | X18: 11.12.31장부가액 | Z18: 해당사항 없음 | AB18: 37627 | AC18: YES | AD18: 사전적 구조조정 | AG18: =IF(AND(AC18="YES",AD18="일반"),"ERROR",(IF(AND(AC18="NO",AD18="기업회생(舊, 법정관리)"),"ERROR",(IF(AND(AC18="NO",AD18="워크아웃"),"ERROR",(IF(AND(AC18="NO",AD18="채권은행 자율협약"),"ERROR",(IF(AND(AC18="NO",AD18="사전적 구조조정"),"ERROR",""))))))))) | AH18: 37627 | AI18: =(J18-AH18)/365 -> 7.9917808 | AL18: =ROUND(L18,)=ROUND(R18,)+ROUND(V18,) -> TRUE
D19: 고유계정 | F19: =IF(ISBLANK($E19),"",VLOOKUP($E19,제안사_펀드현황,2,FALSE)) | G19: A 프로젝트 | H19: 국내설립법인 또는 해외현지법인 | I19: 바이오 | J19: 40179 | K19: 펀드청산시자본계정투자 | L19: 1000 | M19: 미회수 | T19: =IF(ISBLANK(P19),"",DATEDIF(J19,P19,"d")/365) | U19: NO | V19: 1000 | W19: 1000 | Z19: 부분 손상차손 | AB19: 37628 | AC19: NO | AD19: 일반 | AG19: =IF(AND(AC19="YES",AD19="일반"),"ERROR",(IF(AND(AC19="NO",AD19="기업회생(舊, 법정관리)"),"ERROR",(IF(AND(AC19="NO",AD19="워크아웃"),"ERROR",(IF(AND(AC19="NO",AD19="채권은행 자율협약"),"ERROR",(IF(AND(AC19="NO",AD19="사전적 구조조정"),"ERROR",""))))))))) | AH19: 37628 | AI19: =(J19-AH19)/365 -> 6.9890411 | AL19: =ROUND(L19,)=ROUND(R19,)+ROUND(V19,) -> TRUE
D20: 고유계정 | F20: =IF(ISBLANK($E20),"",VLOOKUP($E20,제안사_펀드현황,2,FALSE)) | G20: A 프로젝트 | H20: 국내설립법인 또는 해외현지법인 | I20: 바이오 | J20: 40179 | K20: 펀드청산시자본계정투자 | L20: 1000 | M20: 회수료 | N20: 0.035 | P20: 40785 | Q20: 1000 | R20: 1000 | T20: =IF(ISBLANK(P20),"",DATEDIF(J20,P20,"d")/365) -> 1.660274 | U20: NO | Z20: 부분 손상차손 | AB20: 37629 | AC20: YES | AD20: 기업회생(舊, 법정관리) | AG20: =IF(AND(AC20="YES",AD20="일반"),"ERROR",(IF(AND(AC20="NO",AD20="기업회생(舊, 법정관리)"),"ERROR",(IF(AND(AC20="NO",AD20="워크아웃"),"ERROR",(IF(AND(AC20="NO",AD20="채권은행 자율협약"),"ERROR",(IF(AND(AC20="NO",AD20="사전적 구조조정"),"ERROR",""))))))))) | AH20: 37629 | AI20: =(J20-AH20)/365 -> 6.9863014 | AL20: =ROUND(L20,)=ROUND(R20,)+ROUND(V20,) -> TRUE
F21: =IF(ISBLANK($E21),"",VLOOKUP($E21,제안사_펀드현황,2,FALSE)) | T21: =IF(ISBLANK(P21),"",DATEDIF(J21,P21,"d")/365) | AG21: =IF(AND(AC21="YES",AD21="일반"),"ERROR",(IF(AND(AC21="NO",AD21="기업회생(舊, 법정관리)"),"ERROR",(IF(AND(AC21="NO",AD21="워크아웃"),"ERROR",(IF(AND(AC21="NO",AD21="채권은행 자율협약"),"ERROR",(IF(AND(AC21="NO",AD21="Fast-Track"),"ERROR",""))))))))) | AI21: =(J21-AH21)/365 -> 0 | AL21: =ROUND(L21,)=ROUND(R21,)+ROUND(V21,) -> TRUE
