Workbook
Name 경력구분: 작성요령!$F$456:$F$458
Name 동반투자자유형: 작성요령!$C$455:$C$460
Name 법인유형: 작성요령!$F$444:$F$447
Name 손상차손_인식여부: 작성요령!$C$461:$C$463
Name ㅇ: [1]작성요령!$C$336:$C$337
Name 여부: 작성요령!$F$411:$F$412
Name 운용사유형: 작성요령!$C$441:$C$449
Name 운용인력직무구분: 작성요령!$F$413:$F$414
Name 일반인력_경력: '3.4.2.일반운용인력 경력'!$E$11:$O$500
Name 일반인력_투자현황: '3.2.3.일반운용인력 투자현황'!$E$11:$AN$500
Name 재직회사법인유형: 작성요령!$F$452:$F$455
Name 제안사_투자현황: '2.4.2.제안사 시스템반도체설계 투자현황'!$D$11:$AL$993
Name 제안사_투자현황: '2.4.1.제안사 투자현황'!$D$11:$AG$1000
Name 제안사_펀드현황: '2.3.제안사 펀드현황'!$D$11:$BQ$199
Name 제안서작성기준일: '1.1.제안펀드'!$F$11
Name 주식및주식연계채권: 작성요령!$F$415:$F$419
Name 참여인력_개요: '3.1.참여인력 개요'!$D$11:$AC$200
Name 참여인력구분: 작성요령!$F$407:$F$409
Name 참여인력투자법인유형: 작성요령!$F$448:$F$451
Name 출자예상내역: '1.2.출자예상내역'!$D$11:$P$50
Name 출자자유형: 작성요령!$C$423:$C$436
Name 출자자확정구분: 작성요령!$C$437:$C$440
Name 투자계정구분: 작성요령!$F$442:$F$443
Name 투자유형: 작성요령!$F$415:$F$421
Name 펀드_거래: '4.1.펀드 거래'!$A$2:$D$2000
Name 펀드_인력변경이력: '4.2.펀드 인력변경 이력'!$A$2:$E$165
Name 펀드거래유형: 작성요령!$F$437:$F$441
Name 펀드법적유형: 작성요령!$C$407:$C$420
Name 펀드상태: 작성요령!$C$450:$C$454
Name 펀드유형: 작성요령!$C$421:$C$422
Name 펀드투자유형: 작성요령!$F$422:$F$423
Name 핀테크기업_초기기업_여부: 작성요령!#REF!
Name 핀테크기업_초기기업_여부: 작성요령!#REF!
Name 핀테크기업_초기기업_여부: 작성요령!#REF!
Name 핵심인력_경력: '3.4.1.핵심운용인력 경력'!$E$11:$O$500
Name 핵심인력_재기지원_투자현황: #REF!
Name 핵심인력_재기지원_투자현황: #REF!
Name 핵심인력_재기지원_투자현황: #REF!
Name 핵심인력_투자현황: '3.2.2.핵심운용인력 시스템반도체설계 투자현황'!$E$11:$AP$498
Name 핵심인력_투자현황: '3.2.1.핵심운용인력 투자현황'!$E$11:$AP$500
Name 회수구분: 작성요령!$F$424:$F$426
Name 회수유형: 작성요령!$F$427:$F$436

Sheet 작성요령
A1: Ⅰ. 작성요령
A3: [공통사항]
A4: 1. 별첨(1.1~4.2) 자료 작성전 하기 사항을 반드시 숙지하여 작성 (별첨번호는 Sheet명에서 확인 가능)
A5: 2. 일자는 yyyy-mm-dd, 사업자등록번호는 000-00-00000, 법인등록번호는 000000-0000000 형식으로 입력
A6: 3. Drop down 목록이 있는 셀은 목록에서 선택
A7: 4. 'Alt+Enter'나 연이은 공백은 입력하지 말 것
A8: 5. 연록색으로 음영처리된 셀은 자동 반영되거나 고정된 값이므로 별도의 입력은 하지 말 것
A9: - 당사의 사전 허락 없이 수식을 편집한 경우는 허위사실 기재로 간주될 수 있음
A10: - 셀 서식을 수정하지 말것
A11: 6. 펀드명, 회사명 등은 정식명칭을 기입하기 바람
A12: 7. 11행부터 자료를 입력하고 1행~10행은 절대 삭제 및 수정 금지("4.1. 펀드거래", "4.2. 펀드 인력변경이력" 제외), Sheet 삭제 및 명칭변경 금지
A13: 8. 단위 : 백만원("4.1. 펀드거래"는 단위를 "원"으로 함), 천USD, %, 건
... A64: Ⅱ. 용어의 정의 등
A66: 제안서작성기준일 | C66: 44347
A67: 설립일 | C67: 제안사 법인등기부등본 상의 설립일
A68: 펀드운용업무시작일 | C68: 제안사가 펀드법적유형중 하나에 해당하는 자격을 가지고 있는 경우 해당 자격 취득일
C69: 자격이 필요 없는 경우는 조직개편일 등
C70: ※ M&A 또는 회사분할 등이 있었던 경우 변경전의 펀드운용업무시작일을 기재
A71: 운용펀드최초결성일 | C71: 펀드 투자규약(정관, 신탁계약서 등) 상에 제안사가 운용사로 기재된 펀드로서
C72: 결성일이 가장 빠른 펀드의 펀드결성일
C73: ※ M&A이전 운용 펀드와 회사분할 후 운용한 펀드는 고려하되
C74: 회사분할 이전에 청산한 펀드는 고려하지 말 것
A75: 펀드 | C75: ⅰ) 부동산 또는 부실채권 이외 자산의 주식 또는 주식연계채권 등(프로젝트 투자 제외)에 주로 투자하는
C76: - 「벤처투자촉진에관한법률」제2조 제11호에 따른 벤처투자조합
C77: - 「여신전문금융업법」제41조 제3항에 따른 신기술사업투자조합
C78: - 「중소기업창업 지원법」제2조 제5호에 따른 중소기업창업투자조합
C79: - 「벤처기업육성에 관한 특별조치법」제4조의3에 따른 한국벤처투자조합
C80: - 「부품·소재전문기업 등의 육성에 관한 특별조치법」제6조에 따른 부품·소재전문투자조합
C81: - 「산업발전법」(법률 제9584호 산업발전법 전부개정법률로 개정되기 전의 것을 말함) 제15조에 따라 등록된 기업구조조정조합 및 「산업발전법」제20조에 따른 기업구조개선 사모투자전문회사
C82: - 「자본시장과 금융투자업에 관한 법률」제9조 제19항에 따른 사모집합투자기구 등 사모펀드(또는 이와 유사한 외국집합투자기구)
C83: ⅱ) 투자 규약(정관, 신탁계약서 등) 상에 펀드결성 목적이 벤처, 중소, 중견기업 투자 목적이거나, 펀드 누적 투자금액 중 60%이상이 벤처, 중소 중견기업 투자금액인 경우
C84: iii) 단, 펀드 결성부터 해산까지 기간이 1년 이내인 펀드는 제외
A85: 펀드운용 | C85: 투자대상 발굴, 투자검토, 투자실행, 사후관리, 회수 등
A86: 약정총액 | C86: 펀드 투자규약(정관, 신탁계약서 등)에 따라 각 출자자가 출자이행을 확약한 총액
C87: 헤지펀드 등 펀드 투자규약(정관, 신탁계약서 등) 상에 약정총액이 정해지지 않은 경우에는 제안사가 펀드운용 목적 달성을 위해 판단하고 있는 펀드설정원본
A88: 납입총액 | C88: 약정총액(또는 펀드설정원본) 한도 내에서 출자자가 펀드에 실제 납입한 금액
A89: 펀드결성(예정)일 | C89: 관련 법령에 따라 감독기관에 등록한 날 또는 그 예정일.
C90: 등록이 필요없는 경우 결성총회일, 창립총회일 또는 계약체결일
A91: 투자기간종료(예정)일 | C91: 펀드 투자규약(정관, 신탁계약서 등) 상에 기재된 투자기간 종료(예정)일.
C92: 프로젝트 펀드 등 펀드 투자규약(정관, 신탁계약서 등) 상에 투자기간이 정해지지 않은 경우에는 제안사가 펀드운용 목적 달성을 위해 판단하고 있는 투자기간의 종료(예정)일
...

Sheet 1.1.제안펀드
A1: RFPID | B1: PropFundID | C1: PropGPID1 | D1: PropGPID2 | E1: PropGPID3 | F1: PropGPReportYMD | G1: FundName | H1: QualificationSelect | I1: InvestAreaSelect | J1: FundPlanContractAmt | L1: MLPReqContractAmt | M1: PropFundUsefulYears | N1: PropFundInvestYears | O1: PayInMethodSelect | P1: TargetIRR | Q1: HurdleRate | R1: PlanContingentFeeDesc | S1: PlanManagingFeeDesc | T1: PropGPName1 | U1: PropGPNo1 | V1: PropGPPlanContractAmt1 | W1: PropGPLossCoverRate1 | X1: PropGPCoreFundMgrHC1 | Y1: PropGPOrdiFundMgrHC1 | Z1: PropGPName2 | AA1: PropGPNo2 | AB1: PropGPPlanContractAmt2 | AC1: PropGPLossCoverRate2 | AD1: PropGPCoreFundMgrHC2 | AE1: PropGPOrdiFundMgrHC2 | AF1: PropGPName3 | AG1: PropGPNo3 | AH1: PropGPPlanContractAmt3 | AI1: PropGPLossCoverRate3 | AJ1: PropGPCoreFundMgrHC3 | AK1: PropGPOrdiFundMgrHC3 | AL1: PropFundMgrName | AM1: PropFundMgrCompany | AN1: PropFundMgrTelNo
F3: 제안서 작성 기준일 | G3: 제안펀드 | Q3: 보수 | T3: 제안사1 | Z3: 제안사2 | AF3: 제안사3 | AL3: 제안펀드 담당자
A4: 모집단위ID | B4: 제안펀드ID | C4: 제안사1_ID | D4: 제안사2_ID | E4: 제안사3_ID | G4: 펀드명 | H4: 투자기구 | I4: 지원분야 | J4: 펀드결성예정규모 | K4: 최소결성규모 | L4: 한국성장금융 앞 출자요청액 | M4: 존속기간 | N4: 투자기간 | O4: 납입방식 | P4: 목표 수익률 (IRR) | Q4: 기준 수익률 | R4: 성과보수제안 | S4: 관리보수제안 | T4: 회사명 | U4: 법인등록번호 | V4: 출자약정예상액 | W4: 후순위 출자 비율 | X4: 참여 핵심 운용 인력수 | Y4: 참여 일반 운용 인력수 | Z4: 회사명 | AA4: 법인등록번호 | AB4: 출자약정예상액 | AC4: 후순위 출자 비율 | AD4: 참여 핵심 운용 인력수 | AE4: 참여 일반 운용 인력수 | AF4: 회사명 | AG4: 법인등록번호 | AH4: 출자약정예상액 | AI4: 후순위 출자 비율 | AJ4: 참여 핵심 운용 인력수 | AK4: 참여 일반 운용 인력수 | AL4: 성명 | AM4: 소속 | AN4: 연락처
F11: =작성요령!$C$66 -> 44347 | G11: 000 펀드 | H11: 벤처투자조합 | I11: 시스템반도체상생펀드 (2차/블라인드펀드) | J11: 30000 | K11: 25000 | L11: 25000 | M11: 10 | N11: 4 | O11: 수시납 | P11: oo% | T11: 가인베스트먼트 | U11: 000000-0000000 | V11: 300 | X11: 2 | Y11: 2 | Z11: 나인베스트먼트 | AA11: 000000-0000000 | AB11: 1000 | AD11: 2 | AE11: 2 | AL11: 홍길동 | AM11: 가인베스트먼트 | AN11: 070-2222-2222

Sheet 1.2.출자예상내역
A1: RFPID | B1: PropFundID | C1: LineNum | D1: FundMemberType | E1: FundMemberName | F1: CommitStatus | G1: FundingAmt | H1: 1stRate | I1: 1stAmt | J1: 2ndRate | K1: 2ndAmt | L1: 3rdRate | M1: 3rdAmt | N1: LossCoverRate | O1: LossCoverAmt | P1: Remark
A4: 모집단위ID | B4: 제안펀드ID | C4: 순번 | D4: 출자자유형 | E4: 출자자명 | F4: 출자확정구분 | G4: 출자약정예상액 | H4: 출자예상액 형태 | N4: 우선손실충당비율 (약정총액 대비) | O4: 우선손실충당예상액 | P4: 비고 | Q4: 민간출자자 여부 | R4: 후순위 한도 초과시 배분비율 | S4: 후순위 보강 비율 | T4: 민간제안 비율
H5: 선순위 | J5: 중순위 | L5: 후순위
H6: 비율 | I6: 금액 | J6: 비율 | K6: 금액 | L6: 비율 | M6: 금액
D11: 한국성장금융 | E11: 한국성장금융 | F11: 미정 | G11: ='1.1.제안펀드'!L11 -> 25000 | I11: =IF(OR(ISBLANK(H11),0),"",$G$51*H11) | K11: =IF(OR(ISBLANK(J11),0),"",$G$51*J11) | M11: =IF(OR(ISBLANK(L11),0),"",$G$51*L11) | O11: =IF(OR(ISBLANK(N11),0),"",$G$51*N11) | Q11: =IF(OR($D11="일반기업",$D11="연기금",$D11="공제회",$D11="은행",$D11="보험사"),1,0) -> 0 | R11: =IF('1.1.제안펀드'!#REF!="후순위 보강", IF(SUMPRODUCT(OFFSET(출자예상내역,0,14,ROWS(출자예상내역),1)*1,OFFSET(출자예상내역,0,3,ROWS(출자예상내역),1))*0.08>$Q$51,$Q11*$G11/SUMPRODUCT(OFFSET(출자예상내역,0,14,ROWS(출자예상내역),1)*1,OFFSET(출자예상내역,0,3,ROWS(출자예상내역),1)),""), "") -> #REF! | S11: =IFERROR(#REF!/$G11,"") | T11: =IF('1.1.제안펀드'!#REF!="민간 제안",IF(OR($D11="제안사(회사)",$D11="제안사계열사/특수관계인"),$G11,""),"") -> #REF!
D12: 제안사(회사) | E12: 가인베스트먼트 | F12: 운용사 | G12: ='1.1.제안펀드'!V11 -> 300 | I12: =IF(OR(ISBLANK(H12),0),"",$G$51*H12) | K12: =IF(OR(ISBLANK(J12),0),"",$G$51*J12) | M12: =IF(OR(ISBLANK(L12),0),"",$G$51*L12) | O12: =IF(OR(ISBLANK(N12),0),"",$G$51*N12) | Q12: =IF(OR($D12="일반기업",$D12="연기금",$D12="공제회",$D12="은행",$D12="보험사"),1,0) -> 0 | R12: =IF('1.1.제안펀드'!#REF!="후순위 보강", IF(SUMPRODUCT(OFFSET(출자예상내역,0,14,ROWS(출자예상내역),1)*1,OFFSET(출자예상내역,0,3,ROWS(출자예상내역),1))*0.08>$Q$51,$Q12*$G12/SUMPRODUCT(OFFSET(출자예상내역,0,14,ROWS(출자예상내역),1)*1,OFFSET(출자예상내역,0,3,ROWS(출자예상내역),1)),""), "") -> #REF! | S12: =IFERROR(#REF!/$G12,"") | T12: =IF('1.1.제안펀드'!#REF!="민간 제안",IF(OR($D12="제안사(회사)",$D12="제안사계열사/특수관계인"),$G12,""),"") -> #REF!
D13: 제안사(회사) | E13: 나인베스트먼트 | F13: 운용사 | G13: ='1.1.제안펀드'!AB11 -> 1000 | I13: =IF(OR(ISBLANK(H13),0),"",$G$51*H13) | K13: =IF(OR(ISBLANK(J13),0),"",$G$51*J13) | M13: =IF(OR(ISBLANK(L13),0),"",$G$51*L13) | O13: =IF(OR(ISBLANK(N13),0),"",$G$51*N13) | Q13: =IF(OR($D13="일반기업",$D13="연기금",$D13="공제회",$D13="은행",$D13="보험사"),1,0) -> 0 | R13: =IF('1.1.제안펀드'!#REF!="후순위 보강", IF(SUMPRODUCT(OFFSET(출자예상내역,0,14,ROWS(출자예상내역),1)*1,OFFSET(출자예상내역,0,3,ROWS(출자예상내역),1))*0.08>$Q$51,$Q13*$G13/SUMPRODUCT(OFFSET(출자예상내역,0,14,ROWS(출자예상내역),1)*1,OFFSET(출자예상내역,0,3,ROWS(출자예상내역),1)),""), "") -> #REF! | S13: =IFERROR(#REF!/$G13,"") | T13: =IF('1.1.제안펀드'!#REF!="민간 제안",IF(OR($D13="제안사(회사)",$D13="제안사계열사/특수관계인"),$G13,""),"") -> #REF!
D14: 일반기업 | E14: 나기업 | F14: 미정 | G14: 1000 | I14: =IF(OR(ISBLANK(H14),0),"",$G$51*H14) | K14: =IF(OR(ISBLANK(J14),0),"",$G$51*J14) | M14: =IF(OR(ISBLANK(L14),0),"",$G$51*L14) | O14: =IF(OR(ISBLANK(N14),0),"",$G$51*N14) | Q14: =IF(OR($D14="일반기업",$D14="연기금",$D14="공제회",$D14="은행",$D14="보험사"),1,0) -> 1 | R14: =IF('1.1.제안펀드'!#REF!="후순위 보강", IF(SUMPRODUCT(OFFSET(출자예상내역,0,14,ROWS(출자예상내역),1)*1,OFFSET(출자예상내역,0,3,ROWS(출자예상내역),1))*0.08>$Q$51,$Q14*$G14/SUMPRODUCT(OFFSET(출자예상내역,0,14,ROWS(출자예상내역),1)*1,OFFSET(출자예상내역,0,3,ROWS(출자예상내역),1)),""), "") -> #REF! | S14: =IFERROR(#REF!/$G14,"") | T14: =IF('1.1.제안펀드'!#REF!="민간 제안",IF(OR($D14="제안사(회사)",$D14="제안사계열사/특수관계인"),$G14,""),"") -> #REF!
D15: 일반기업 | E15: 다기업 | F15: 미정 | G15: 1000 | I15: =IF(OR(ISBLANK(H15),0),"",$G$51*H15) | K15: =IF(OR(ISBLANK(J15),0),"",$G$51*J15) | M15: =IF(OR(ISBLANK(L15),0),"",$G$51*L15) | O15: =IF(OR(ISBLANK(N15),0),"",$G$51*N15) | Q15: =IF(OR($D15="일반기업",$D15="연기금",$D15="공제회",$D15="은행",$D15="보험사"),1,0) -> 1 | R15: =IF('1.1.제안펀드'!#REF!="후순위 보강", IF(SUMPRODUCT(OFFSET(출자예상내역,0,14,ROWS(출자예상내역),1)*1,OFFSET(출자예상내역,0,3,ROWS(출자예상내역),1))*0.08>$Q$51,$Q15*$G15/SUMPRODUCT(OFFSET(출자예상내역,0,14,ROWS(출자예상내역),1)*1,OFFSET(출자예상내역,0,3,ROWS(출자예상내역),1)),""), "") -> #REF! | S15: =IFERROR(#REF!/$G15,"") | T15: =IF('1.1.제안펀드'!#REF!="민간 제안",IF(OR($D15="제안사(회사)",$D15="제안사계열사/특수관계인"),$G15,""),"") -> #REF!
D16: 연기금 | E16: 라연금 | F16: 미정 | G16: 5500 | I16: =IF(OR(ISBLANK(H16),0),"",$G$51*H16) | K16: =IF(OR(ISBLANK(J16),0),"",$G$51*J16) | M16: =IF(OR(ISBLANK(L16),0),"",$G$51*L16) | O16: =IF(OR(ISBLANK(N16),0),"",$G$51*N16) | Q16: =IF(OR($D16="일반기업",$D16="연기금",$D16="공제회",$D16="은행",$D16="보험사"),1,0) -> 1 | R16: =IF('1.1.제안펀드'!#REF!="후순위 보강", IF(SUMPRODUCT(OFFSET(출자예상내역,0,14,ROWS(출자예상내역),1)*1,OFFSET(출자예상내역,0,3,ROWS(출자예상내역),1))*0.08>$Q$51,$Q16*$G16/SUMPRODUCT(OFFSET(출자예상내역,0,14,ROWS(출자예상내역),1)*1,OFFSET(출자예상내역,0,3,ROWS(출자예상내역),1)),""), "") -> #REF! | S16: =IFERROR(#REF!/$G16,"") | T16: =IF('1.1.제안펀드'!#REF!="민간 제안",IF(OR($D16="제안사(회사)",$D16="제안사계열사/특수관계인"),$G16,""),"") -> #REF!
D17: 공제회 | E17: 마공제회 | F17: 미정 | G17: 5000 | I17: =IF(OR(ISBLANK(H17),0),"",$G$51*H17) | K17: =IF(OR(ISBLANK(J17),0),"",$G$51*J17) | M17: =IF(OR(ISBLANK(L17),0),"",$G$51*L17) | O17: =IF(OR(ISBLANK(N17),0),"",$G$51*N17) | Q17: =IF(OR($D17="일반기업",$D17="연기금",$D17="공제회",$D17="은행",$D17="보험사"),1,0) -> 1 | R17: =IF('1.1.제안펀드'!#REF!="후순위 보강", IF(SUMPRODUCT(OFFSET(출자예상내역,0,14,ROWS(출자예상내역),1)*1,OFFSET(출자예상내역,0,3,ROWS(출자예상내역),1))*0.08>$Q$51,$Q17*$G17/SUMPRODUCT(OFFSET(출자예상내역,0,14,ROWS(출자예상내역),1)*1,OFFSET(출자예상내역,0,3,ROWS(출자예상내역),1)),""), "") -> #REF! | S17: =IFERROR(#REF!/$G17,"") | T17: =IF('1.1.제안펀드'!#REF!="민간 제안",IF(OR($D17="제안사(회사)",$D17="제안사계열사/특수관계인"),$G17,""),"") -> #REF!
K18: =IF(OR(ISBLANK(J18),0),"",$G$51*J18) | M18: =IF(OR(ISBLANK(L18),0),"",$G$51*L18) | O18: =IF(OR(ISBLANK(N18),0),"",$G$51*N18) | Q18: =IF(OR($D18="일반기업",$D18="연기금",$D18="공제회",$D18="은행",$D18="보험사"),1,0) -> 0 | R18: =IF('1.1.제안펀드'!#REF!="후순위 보강", IF(SUMPRODUCT(OFFSET(출자예상내역,0,14,ROWS(출자예상내역),1)*1,OFFSET(출자예상내역,0,3,ROWS(출자예상내역),1))*0.08>$Q$51,$Q18*$G18/SUMPRODUCT(OFFSET(출자예상내역,0,14,ROWS(출자예상내역),1)*1,OFFSET(출자예상내역,0,3,ROWS(출자예상내역),1)),""), "") -> #REF! | S18: =IFERROR(#REF!/$G18,"") | T18: =IF('1.1.제안펀드'!#REF!="민간 제안",IF(OR($D18="제안사(회사)",$D18="제안사계열사/특수관계인"),$G18,""),"") -> #REF!
K19: =IF(OR(ISBLANK(J19),0),"",$G$51*J19) | M19: =IF(OR(ISBLANK(L19),0),"",$G$51*L19) | O19: =IF(OR(ISBLANK(N19),0),"",$G$51*N19) | Q19: =IF(OR($D19="일반기업",$D19="연기금",$D19="공제회",$D19="은행",$D19="보험사"),1,0) -> 0 | R19: =IF('1.1.제안펀드'!#REF!="후순위 보강", IF(SUMPRODUCT(OFFSET(출자예상내역,0,14,ROWS(출자예상내역),1)*1,OFFSET(출자예상내역,0,3,ROWS(출자예상내역),1))*0.08>$Q$51,$Q19*$G19/SUMPRODUCT(OFFSET(출자예상내역,0,14,ROWS(출자예상내역),1)*1,OFFSET(출자예상내역,0,3,ROWS(출자예상내역),1)),""), "") -> #REF! | S19: =IFERROR(#REF!/$G19,"") | T19: =IF('1.1.제안펀드'!#REF!="민간 제안",IF(OR($D19="제안사(회사)",$D19="제안사계열사/특수관계인"),$G19,""),"") -> #REF!
K20: =IF(OR(ISBLANK(J20),0),"",$G$51*J20) | M20: =IF(OR(ISBLANK(L20),0),"",$G$51*L20) | O20: =IF(OR(ISBLANK(N20),0),"",$G$51*N20) | Q20: =IF(OR($D20="일반기업",$D20="연기금",$D20="공제회",$D20="은행",$D20="보험사"),1,0) -> 0 | R20: =IF('1.1.제안펀드'!#REF!="후순위 보강", IF(SUMPRODUCT(OFFSET(출자예상내역,0,14,ROWS(출자예상내역),1)*1,OFFSET(출자예상내역,0,3,ROWS(출자예상내역),1))*0.08>$Q$51,$Q20*$G20/SUMPRODUCT(OFFSET(출자예상내역,0,14,ROWS(출자예상내역),1)*1,OFFSET(출자예상내역,0,3,ROWS(출자예상내역),1)),""), "") -> #REF! | S20: =IFERROR(#REF!/$G20,"") | T20: =IF('1.1.제안펀드'!#REF!="민간 제안",IF(OR($D20="제안사(회사)",$D20="제안사계열사/특수관계인"),$G20,""),"") -> #REF!
I21: =IF(OR(ISBLANK(H21),0),"",$G$51*H21) | K21: =IF(OR(ISBLANK(J21),0),"",$G$51*J21) | M21: =IF(OR(ISBLANK(L21),0),"",$G$51*L21) | O21: =IF(OR(ISBLANK(N21),0),"",$G$51*N21) | Q21: =IF(OR($D21="일반기업",$D21="연기금",$D21="공제회",$D21="은행",$D21="보험사"),1,0) -> 0 | R21: =IF('1.1.제안펀드'!#REF!="후순위 보강", IF(SUMPRODUCT(OFFSET(출자예상내역,0,14,ROWS(출자예상내역),1)*1,OFFSET(출자예상내역,0,3,ROWS(출자예상내역),1))*0.08>$Q$51,$Q21*$G21/SUMPRODUCT(OFFSET(출자예상내역,0,14,ROWS(출자예상내역),1)*1,OFFSET(출자예상내역,0,3,ROWS(출자예상내역),1)),""), "") -> #REF! | S21: =IFERROR(#REF!/$G21,"") | T21: =IF('1.1.제안펀드'!#REF!="민간 제안",IF(OR($D21="제안사(회사)",$D21="제안사계열사/특수관계인"),$G21,""),"") -> #REF!
I22: =IF(OR(ISBLANK(H22),0),"",$G$51*H22) | K22: =IF(OR(ISBLANK(J22),0),"",$G$51*J22) | M22: =IF(OR(ISBLANK(L22),0),"",$G$51*L22) | O22: =IF(OR(ISBLANK(N22),0),"",$G$51*N22) | Q22: =IF(OR($D22="일반기업",$D22="연기금",$D22="공제회",$D22="은행",$D22="보험사"),1,0) -> 0 | R22: =IF('1.1.제안펀드'!#REF!="후순위 보강", IF(SUMPRODUCT(OFFSET(출자예상내역,0,14,ROWS(출자예상내역),1)*1,OFFSET(출자예상내역,0,3,ROWS(출자예상내역),1))*0.08>$Q$51,$Q22*$G22/SUMPRODUCT(OFFSET(출자예상내역,0,14,ROWS(출자예상내역),1)*1,OFFSET(출자예상내역,0,3,ROWS(출자예상내역),1)),""), "") -> #REF! | S22: =IFERROR(#REF!/$G22,"") | T22: =IF('1.1.제안펀드'!#REF!="민간 제안",IF(OR($D22="제안사(회사)",$D22="제안사계열사/특수관계인"),$G22,""),"") -> #REF!
I23: =IF(OR(ISBLANK(H23),0),"",$G$51*H23) | K23: =IF(OR(ISBLANK(J23),0),"",$G$51*J23) | M23: =IF(OR(ISBLANK(L23),0),"",$G$51*L23) | O23: =IF(OR(ISBLANK(N23),0),"",$G$51*N23) | Q23: =IF(OR($D23="일반기업",$D23="연기금",$D23="공제회",$D23="은행",$D23="보험사"),1,0) -> 0 | R23: =IF('1.1.제안펀드'!#REF!="후순위 보강", IF(SUMPRODUCT(OFFSET(출자예상내역,0,14,ROWS(출자예상내역),1)*1,OFFSET(출자예상내역,0,3,ROWS(출자예상내역),1))*0.08>$Q$51,$Q23*$G23/SUMPRODUCT(OFFSET(출자예상내역,0,14,ROWS(출자예상내역),1)*1,OFFSET(출자예상내역,0,3,ROWS(출자예상내역),1)),""), "") -> #REF! | S23: =IFERROR(#REF!/$G23,"") | T23: =IF('1.1.제안펀드'!#REF!="민간 제안",IF(OR($D23="제안사(회사)",$D23="제안사계열사/특수관계인"),$G23,""),"") -> #REF!
I24: =IF(OR(ISBLANK(H24),0),"",$G$51*H24) | K24: =IF(OR(ISBLANK(J24),0),"",$G$51*J24) | M24: =IF(OR(ISBLANK(L24),0),"",$G$51*L24) | O24: =IF(OR(ISBLANK(N24),0),"",$G$51*N24) | Q24: =IF(OR($D24="일반기업",$D24="연기금",$D24="공제회",$D24="은행",$D24="보험사"),1,0) -> 0 | R24: =IF('1.1.제안펀드'!#REF!="후순위 보강", IF(SUMPRODUCT(OFFSET(출자예상내역,0,14,ROWS(출자예상내역),1)*1,OFFSET(출자예상내역,0,3,ROWS(출자예상내역),1))*0.08>$Q$51,$Q24*$G24/SUMPRODUCT(OFFSET(출자예상내역,0,14,ROWS(출자예상내역),1)*1,OFFSET(출자예상내역,0,3,ROWS(출자예상내역),1)),""), "") -> #REF! | S24: =IFERROR(#REF!/$G24,"") | T24: =IF('1.1.제안펀드'!#REF!="민간 제안",IF(OR($D24="제안사(회사)",$D24="제안사계열사/특수관계인"),$G24,""),"") -> #REF!
I25: =IF(OR(ISBLANK(H25),0),"",$G$51*H25) | K25: =IF(OR(ISBLANK(J25),0),"",$G$51*J25) | M25: =IF(OR(ISBLANK(L25),0),"",$G$51*L25) | O25: =IF(OR(ISBLANK(N25),0),"",$G$51*N25) | Q25: =IF(OR($D25="일반기업",$D25="연기금",$D25="공제회",$D25="은행",$D25="보험사"),1,0) -> 0 | R25: =IF('1.1.제안펀드'!#REF!="후순위 보강", IF(SUMPRODUCT(OFFSET(출자예상내역,0,14,ROWS(출자예상내역),1)*1,OFFSET(출자예상내역,0,3,ROWS(출자예상내역),1))*0.08>$Q$51,$Q25*$G25/SUMPRODUCT(OFFSET(출자예상내역,0,14,ROWS(출자예상내역),1)*1,OFFSET(출자예상내역,0,3,ROWS(출자예상내역),1)),""), "") -> #REF! | S25: =IFERROR(#REF!/$G25,"") | T25: =IF('1.1.제안펀드'!#REF!="민간 제안",IF(OR($D25="제안사(회사)",$D25="제안사계열사/특수관계인"),$G25,""),"") -> #REF!
I26: =IF(OR(ISBLANK(H26),0),"",$G$51*H26) | K26: =IF(OR(ISBLANK(J26),0),"",$G$51*J26) | M26: =IF(OR(ISBLANK(L26),0),"",$G$51*L26) | O26: =IF(OR(ISBLANK(N26),0),"",$G$51*N26) | Q26: =IF(OR($D26="일반기업",$D26="연기금",$D26="공제회",$D26="은행",$D26="보험사"),1,0) -> 0 | R26: =IF('1.1.제안펀드'!#REF!="후순위 보강", IF(SUMPRODUCT(OFFSET(출자예상내역,0,14,ROWS(출자예상내역),1)*1,OFFSET(출자예상내역,0,3,ROWS(출자예상내역),1))*0.08>$Q$51,$Q26*$G26/SUMPRODUCT(OFFSET(출자예상내역,0,14,ROWS(출자예상내역),1)*1,OFFSET(출자예상내역,0,3,ROWS(출자예상내역),1)),""), "") -> #REF! | S26: =IFERROR(#REF!/$G26,"") | T26: =IF('1.1.제안펀드'!#REF!="민간 제안",IF(OR($D26="제안사(회사)",$D26="제안사계열사/특수관계인"),$G26,""),"") -> #REF!
I27: =IF(OR(ISBLANK(H27),0),"",$G$51*H27) | K27: =IF(OR(ISBLANK(J27),0),"",$G$51*J27) | M27: =IF(OR(ISBLANK(L27),0),"",$G$51*L27) | O27: =IF(OR(ISBLANK(N27),0),"",$G$51*N27) | Q27: =IF(OR($D27="일반기업",$D27="연기금",$D27="공제회",$D27="은행",$D27="보험사"),1,0) -> 0 | R27: =IF('1.1.제안펀드'!#REF!="후순위 보강", IF(SUMPRODUCT(OFFSET(출자예상내역,0,14,ROWS(출자예상내역),1)*1,OFFSET(출자예상내역,0,3,ROWS(출자예상내역),1))*0.08>$Q$51,$Q27*$G27/SUMPRODUCT(OFFSET(출자예상내역,0,14,ROWS(출자예상내역),1)*1,OFFSET(출자예상내역,0,3,ROWS(출자예상내역),1)),""), "") -> #REF! | S27: =IFERROR(#REF!/$G27,"") | T27: =IF('1.1.제안펀드'!#REF!="민간 제안",IF(OR($D27="제안사(회사)",$D27="제안사계열사/특수관계인"),$G27,""),"") -> #REF!
I28: =IF(OR(ISBLANK(H28),0),"",$G$51*H28) | K28: =IF(OR(ISBLANK(J28),0),"",$G$51*J28) | M28: =IF(OR(ISBLANK(L28),0),"",$G$51*L28) | O28: =IF(OR(ISBLANK(N28),0),"",$G$51*N28) | Q28: =IF(OR($D28="일반기업",$D28="연기금",$D28="공제회",$D28="은행",$D28="보험사"),1,0) -> 0 | R28: =IF('1.1.제안펀드'!#REF!="후순위 보강", IF(SUMPRODUCT(OFFSET(출자예상내역,0,14,ROWS(출자예상내역),1)*1,OFFSET(출자예상내역,0,3,ROWS(출자예상내역),1))*0.08>$Q$51,$Q28*$G28/SUMPRODUCT(OFFSET(출자예상내역,0,14,ROWS(출자예상내역),1)*1,OFFSET(출자예상내역,0,3,ROWS(출자예상내역),1)),""), "") -> #REF! | S28: =IFERROR(#REF!/$G28,"") | T28: =IF('1.1.제안펀드'!#REF!="민간 제안",IF(OR($D28="제안사(회사)",$D28="제안사계열사/특수관계인"),$G28,""),"") -> #REF!
I29: =IF(OR(ISBLANK(H29),0),"",$G$51*H29) | K29: =IF(OR(ISBLANK(J29),0),"",$G$51*J29) | M29: =IF(OR(ISBLANK(L29),0),"",$G$51*L29) | O29: =IF(OR(ISBLANK(N29),0),"",$G$51*N29) | Q29: =IF(OR($D29="일반기업",$D29="연기금",$D29="공제회",$D29="은행",$D29="보험사"),1,0) -> 0 | R29: =IF('1.1.제안펀드'!#REF!="후순위 보강", IF(SUMPRODUCT(OFFSET(출자예상내역,0,14,ROWS(출자예상내역),1)*1,OFFSET(출자예상내역,0,3,ROWS(출자예상내역),1))*0.08>$Q$51,$Q29*$G29/SUMPRODUCT(OFFSET(출자예상내역,0,14,ROWS(출자예상내역),1)*1,OFFSET(출자예상내역,0,3,ROWS(출자예상내역),1)),""), "") -> #REF! | S29: =IFERROR(#REF!/$G29,"") | T29: =IF('1.1.제안펀드'!#REF!="민간 제안",IF(OR($D29="제안사(회사)",$D29="제안사계열사/특수관계인"),$G29,""),"") -> #REF!
I30: =IF(OR(ISBLANK(H30),0),"",$G$51*H30) | K30: =IF(OR(ISBLANK(J30),0),"",$G$51*J30) | M30: =IF(OR(ISBLANK(L30),0),"",$G$51*L30) | O30: =IF(OR(ISBLANK(N30),0),"",$G$51*N30) | Q30: =IF(OR($D30="일반기업",$D30="연기금",$D30="공제회",$D30="은행",$D30="보험사"),1,0) -> 0 | R30: =IF('1.1.제안펀드'!#REF!="후순위 보강", IF(SUMPRODUCT(OFFSET(출자예상내역,0,14,ROWS(출자예상내역),1)*1,OFFSET(출자예상내역,0,3,ROWS(출자예상내역),1))*0.08>$Q$51,$Q30*$G30/SUMPRODUCT(OFFSET(출자예상내역,0,14,ROWS(출자예상내역),1)*1,OFFSET(출자예상내역,0,3,ROWS(출자예상내역),1)),""), "") -> #REF! | S30: =IFERROR(#REF!/$G30,"") | T30: =IF('1.1.제안펀드'!#REF!="민간 제안",IF(OR($D30="제안사(회사)",$D30="제안사계열사/특수관계인"),$G30,""),"") -> #REF!
I31: =IF(OR(ISBLANK(H31),0),"",$G$51*H31) | K31: =IF(OR(ISBLANK(J31),0),"",$G$51*J31) | M31: =IF(OR(ISBLANK(L31),0),"",$G$51*L31) | O31: =IF(OR(ISBLANK(N31),0),"",$G$51*N31) | Q31: =IF(OR($D31="일반기업",$D31="연기금",$D31="공제회",$D31="은행",$D31="보험사"),1,0) -> 0 | R31: =IF('1.1.제안펀드'!#REF!="후순위 보강", IF(SUMPRODUCT(OFFSET(출자예상내역,0,14,ROWS(출자예상내역),1)*1,OFFSET(출자예상내역,0,3,ROWS(출자예상내역),1))*0.08>$Q$51,$Q31*$G31/SUMPRODUCT(OFFSET(출자예상내역,0,14,ROWS(출자예상내역),1)*1,OFFSET(출자예상내역,0,3,ROWS(출자예상내역),1)),""), "") -> #REF! | S31: =IFERROR(#REF!/$G31,"") | T31: =IF('1.1.제안펀드'!#REF!="민간 제안",IF(OR($D31="제안사(회사)",$D31="제안사계열사/특수관계인"),$G31,""),"") -> #REF!
I32: =IF(OR(ISBLANK(H32),0),"",$G$51*H32) | K32: =IF(OR(ISBLANK(J32),0),"",$G$51*J32) | M32: =IF(OR(ISBLANK(L32),0),"",$G$51*L32) | O32: =IF(OR(ISBLANK(N32),0),"",$G$51*N32) | Q32: =IF(OR($D32="일반기업",$D32="연기금",$D32="공제회",$D32="은행",$D32="보험사"),1,0) -> 0 | R32: =IF('1.1.제안펀드'!#REF!="후순위 보강", IF(SUMPRODUCT(OFFSET(출자예상내역,0,14,ROWS(출자예상내역),1)*1,OFFSET(출자예상내역,0,3,ROWS(출자예상내역),1))*0.08>$Q$51,$Q32*$G32/SUMPRODUCT(OFFSET(출자예상내역,0,14,ROWS(출자예상내역),1)*1,OFFSET(출자예상내역,0,3,ROWS(출자예상내역),1)),""), "") -> #REF! | S32: =IFERROR(#REF!/$G32,"") | T32: =IF('1.1.제안펀드'!#REF!="민간 제안",IF(OR($D32="제안사(회사)",$D32="제안사계열사/특수관계인"),$G32,""),"") -> #REF!
... I50: =IF(OR(ISBLANK(H50),0),"",$G$51*H50) | K50: =IF(OR(ISBLANK(J50),0),"",$G$51*J50) | M50: =IF(OR(ISBLANK(L50),0),"",$G$51*L50) | O50: =IF(OR(ISBLANK(N50),0),"",$G$51*N50) | Q50: =IF(OR($D50="일반기업",$D50="연기금",$D50="공제회",$D50="은행",$D50="보험사"),1,0) -> 0 | R50: =IF('1.1.제안펀드'!#REF!="후순위 보강", IF(SUMPRODUCT(OFFSET(출자예상내역,0,14,ROWS(출자예상내역),1)*1,OFFSET(출자예상내역,0,3,ROWS(출자예상내역),1))*0.08>$Q$51,$Q50*$G50/SUMPRODUCT(OFFSET(출자예상내역,0,14,ROWS(출자예상내역),1)*1,OFFSET(출자예상내역,0,3,ROWS(출자예상내역),1)),""), "") -> #REF! | S50: =IFERROR(#REF!/$G50,"") | T50: =IF('1.1.제안펀드'!#REF!="민간 제안",IF(OR($D50="제안사(회사)",$D50="제안사계열사/특수관계인"),$G50,""),"") -> #REF!
D51: 계 | G51: =SUM(G11:G50) -> 38800 | H51: =SUM(H11:H50) -> 0 | I51: =SUM(I11:I50) -> 0 | J51: =SUM(J11:J50) -> 0 | K51: =SUM(K11:K50) -> 0 | L51: =SUM(L11:L50) -> 0 | M51: =SUM(M11:M50) -> 0 | N51: =SUM(N11:N50) -> 0 | O51: =SUM(O11:O50) -> 0 | P51: =IF(G51='1.1.제안펀드'!J11,"","차이 확인필요") -> 차이 확인필요 | Q51: =IF('1.1.제안펀드'!#REF!="후순위 보강", IF('1.1.제안펀드'!$L$11=20000,2800,IF('1.1.제안펀드'!$L$11=30000,4000,4600)), "") -> #REF! | R51: =IF('1.1.제안펀드'!#REF!="후순위 보강", IF(SUMPRODUCT(OFFSET(출자예상내역,0,14,ROWS(출자예상내역),1)*1,OFFSET(출자예상내역,0,3,ROWS(출자예상내역),1))*0.08>$Q$51,"후순위 한도 초과",""), "") -> #REF! | T51: =IF('1.1.제안펀드'!#REF!="민간 제안",(SUMIF(F11:F50,"LOC",G11:G50)+SUMIF(F11:F50,"운용사",G11:G50)-SUM(T11:T50)+MIN(SUM(T11:T50),CHOOSE(IF(G11=20000,1,IF(G11=30000,2,3)),50000,75000,87500)*20%))/CHOOSE(IF(G11=20000,1,IF(G11=30000,2,3)),50000,75000,87500),"") -> #REF!
O52: =IF(OR(ISBLANK(N52),0),"",G52*N52)
O53: =IF(OR(ISBLANK(N53),0),"",G53*N53)
O54: =IF(OR(ISBLANK(N54),0),"",G54*N54)
O55: =IF(OR(ISBLANK(N55),0),"",G55*N55)
O56: =IF(OR(ISBLANK(N56),0),"",G56*N56)
O57: =IF(OR(ISBLANK(N57),0),"",G57*N57)
O58: =IF(OR(ISBLANK(N58),0),"",G58*N58)
O59: =IF(OR(ISBLANK(N59),0),"",G59*N59)
O60: =IF(OR(ISBLANK(N60),0),"",G60*N60)
O61: =IF(OR(ISBLANK(N61),0),"",G61*N61)
O62: =IF(OR(ISBLANK(N62),0),"",G62*N62)
O63: =IF(OR(ISBLANK(N63),0),"",G63*N63)
...

Sheet 2.1.제안사 개요
A1: RFPID | B1: GPID | C1: GPNAME | D1: CompanyNo | E1: CompanySSN | F1: CEO | G1: GPType | H1: FoundationYMD | I1: FundMngBegYMD | J1: FundBegRegisterYMD | K1: ZipCode | L1: Addr | M1: Addr2 | N1: HeadCount | O1: FundFundMgrHC | P1: ComFundMgrHC | Q1: ContactPersonName | R1: ContactPersonBuName | S1: ContactPersonJobTitle | T1: ContactPersonTelNo | U1: ContactPersonFaxNo | V1: ContactPersonMBTLTelNo | W1: ContactPersonEmail
C3: 기본정보 | H3: 업력 | K3: 주소 | N3: 인원 | Q3: 담당자
A4: 모집단위ID | B4: 운용사ID | C4: 제안사명 | D4: 법인등록번호 | E4: 사업자등록번호 | F4: 대표자명 | G4: 제안사유형 | H4: 설립일 | I4: 펀드운용업무 시작일 | J4: 운용펀드 최초결성일 | K4: 우편번호 | L4: 주소 | M4: 주소상세 | N4: 전체 인원수 | O4: 펀드운용 담당 인력수 | P4: 고유계정투자담당인력수 | Q4: 성명 | R4: 부서 | S4: 직위 | T4: 전화 | U4: 팩스 | V4: 휴대전화번호 | W4: Email
C11: 가인베스트먼트㈜ | D11: 000000-0000000 | E11: 000-00-00000 | F11: 홍길동 | G11: 중소기업창업투자회사 | H11: 36892 | I11: 40178 | J11: 40207 | K11: 000-000 | L11: 서울 영등포구 여의도동 | M11: 여의나루로 76 XXXX투자운용 | N11: 50 | O11: 25 | P11: 20 | Q11: 홍길동 | R11: 관리부 | S11: 부장 | T11: 000-0000-0000 | U11: 000-0000-0000 | V11: 000-0000-0000 | W11: 000@0000.oo.oo
C14: 청산완료 펀드 (전체펀드건) | L14: 운용(결성)예정/운용중/청산중 펀드 (전체펀드건) | U14: 고유계정 투자 (전체투자건) | AC14: 펀드계정 투자 (전체투자건)
C15: 펀드수 | D15: 약정총액 | E15: 납입총액 | F15: 투자총액 | G15: 회수총액 | H15: 출자자앞 분배총액 | I15: 성과보수 지급총액 | J15: 납입총액 가중평균 펀드 수익률 (IRR) | K15: 펀드 수익률 (Multiple) | L15: 펀드수 | M15: 약정총액 | N15: 납입총액 | O15: 투자총액 | P15: 회수총액 | Q15: 출자자앞분배총액 | R15: 성과보수 지급총액 | S15: 펀드 순자산 | T15: 추가투자 예상금액 | U15: 투자건수 | V15: 투자건수 (회수료) | W15: 투자총액 | X15: 회수총액 | Y15: 미회수 투자자산투자원금 총액 | Z15: 미회수 투자자산 가치총액 | AA15: 투자금액 가중평균 수익률 | AB15: 투자금액 가중평균수익률 (회수료) | AC15: 투자건수 | AD15: 투자건수 (회수료) | AE15: 투자총액 | AF15: 회수총액 | AG15: 미회수 투자자산투자원금 총액 | AH15: 미회수 투자자산가치총액 | AI15: 투자금액 가중수익률 | AJ15: 투자금액 가중평균 수익률 (회수료)
C16: =SUMPRODUCT( (OFFSET(제안사_펀드현황,0,2,ROWS(제안사_펀드현황),1)="청산료")*1 ) -> 2 | D16: =SUMPRODUCT( (OFFSET(제안사_펀드현황,0,2,ROWS(제안사_펀드현황),1)="청산료")*1, OFFSET(제안사_펀드현황,0,10,ROWS(제안사_펀드현황),1) ) -> 13000 | E16: =SUMPRODUCT( (OFFSET(제안사_펀드현황,0,2,ROWS(제안사_펀드현황),1)="청산료")*1, OFFSET(제안사_펀드현황,0,11,ROWS(제안사_펀드현황),1) ) -> 13000 | F16: =SUMPRODUCT( (OFFSET(제안사_펀드현황,0,2,ROWS(제안사_펀드현황),1)="청산료")*1, OFFSET(제안사_펀드현황,0,23,ROWS(제안사_펀드현황),1) ) -> 14999.991 | G16: =SUMPRODUCT( (OFFSET(제안사_펀드현황,0,2,ROWS(제안사_펀드현황),1)="청산료")*1, OFFSET(제안사_펀드현황,0,24,ROWS(제안사_펀드현황),1) ) -> 6450 | H16: =SUMPRODUCT( (OFFSET(제안사_펀드현황,0,2,ROWS(제안사_펀드현황),1)="청산료")*1, OFFSET(제안사_펀드현황,0,27,ROWS(제안사_펀드현황),1) ) -> 20290 | I16: =SUMPRODUCT( (OFFSET(제안사_펀드현황,0,2,ROWS(제안사_펀드현황),1)="청산료")*1, OFFSET(제안사_펀드현황,0,28,ROWS(제안사_펀드현황),1) ) -> 0 | J16: =SUMPRODUCT( (OFFSET(제안사_펀드현황,0,2,ROWS(제안사_펀드현황),1)="청산료")*1, OFFSET(제안사_펀드현황,0,11,ROWS(제안사_펀드현황),1), OFFSET(제안사_펀드현황,0,20,ROWS(제안사_펀드현황),1) )/E16 -> 0.10959221 | K16: =(H16+I16)/E16 -> 1.5607692 | L16: =SUMPRODUCT( (OFFSET(제안사_펀드현황,0,2,ROWS(제안사_펀드현황),1)<>"청산료")*1, (OFFSET(제안사_펀드현황,0,2,ROWS(제안사_펀드현황),1)<>"")*1 ) -> 1 | M16: =SUMPRODUCT( (OFFSET(제안사_펀드현황,0,2,ROWS(제안사_펀드현황),1)<>"청산료")*1, (OFFSET(제안사_펀드현황,0,2,ROWS(제안사_펀드현황),1)<>"")*1, OFFSET(제안사_펀드현황,0,10,ROWS(제안사_펀드현황),1) ) -> 10000 | N16: =SUMPRODUCT( (OFFSET(제안사_펀드현황,0,2,ROWS(제안사_펀드현황),1)<>"청산료")*1, (OFFSET(제안사_펀드현황,0,2,ROWS(제안사_펀드현황),1)<>"")*1, OFFSET(제안사_펀드현황,0,11,ROWS(제안사_펀드현황),1) ) -> 10000 | O16: =SUMPRODUCT( (OFFSET(제안사_펀드현황,0,2,ROWS(제안사_펀드현황),1)<>"청산료")*1, (OFFSET(제안사_펀드현황,0,2,ROWS(제안사_펀드현황),1)<>"")*1, OFFSET(제안사_펀드현황,0,23,ROWS(제안사_펀드현황),1) ) -> 4000 | P16: =SUMPRODUCT( (OFFSET(제안사_펀드현황,0,2,ROWS(제안사_펀드현황),1)<>"청산료")*1, (OFFSET(제안사_펀드현황,0,2,ROWS(제안사_펀드현황),1)<>"")*1, OFFSET(제안사_펀드현황,0,24,ROWS(제안사_펀드현황),1) ) -> 0 | Q16: =SUMPRODUCT( (OFFSET(제안사_펀드현황,0,2,ROWS(제안사_펀드현황),1)<>"청산료")*1, (OFFSET(제안사_펀드현황,0,2,ROWS(제안사_펀드현황),1)<>"")*1, OFFSET(제안사_펀드현황,0,27,ROWS(제안사_펀드현황),1) ) -> 9600 | R16: =SUMPRODUCT( (OFFSET(제안사_펀드현황,0,2,ROWS(제안사_펀드현황),1)<>"청산료")*1, (OFFSET(제안사_펀드현황,0,2,ROWS(제안사_펀드현황),1)<>"")*1, OFFSET(제안사_펀드현황,0,28,ROWS(제안사_펀드현황),1) ) -> 0 | S16: =SUMPRODUCT( (OFFSET(제안사_펀드현황,0,2,ROWS(제안사_펀드현황),1)<>"청산료")*1, (OFFSET(제안사_펀드현황,0,2,ROWS(제안사_펀드현황),1)<>"")*1, OFFSET(제안사_펀드현황,0,33,ROWS(제안사_펀드현황),1) ) -> 2020 | T16: =SUMPRODUCT( (OFFSET(제안사_펀드현황,0,2,ROWS(제안사_펀드현황),1)<>"청산료")*1, (OFFSET(제안사_펀드현황,0,2,ROWS(제안사_펀드현황),1)<>"")*1, OFFSET(제안사_펀드현황,0,34,ROWS(제안사_펀드현황),1) ) -> 0 | U16: =SUMPRODUCT( (OFFSET(제안사_투자현황,0,0,ROWS(제안사_투자현황),1)="고유계정")*1 ) -> 2 | V16: =SUMPRODUCT( (OFFSET(제안사_투자현황,0,0,ROWS(제안사_투자현황),1)="고유계정")*1, (OFFSET(제안사_투자현황,0,10,ROWS(제안사_투자현황),1)="회수료")*1 ) -> 2 | W16: =SUMPRODUCT( (OFFSET(제안사_투자현황,0,0,ROWS(제안사_투자현황),1)="고유계정")*1, OFFSET(제안사_투자현황,0,9,ROWS(제안사_투자현황),1) ) -> 2000 | X16: =SUMPRODUCT( (OFFSET(제안사_투자현황,0,0,ROWS(제안사_투자현황),1)="고유계정")*1, OFFSET(제안사_투자현황,0,14,ROWS(제안사_투자현황),1) ) -> 0 | Y16: =SUMPRODUCT( (OFFSET(제안사_투자현황,0,0,ROWS(제안사_투자현황),1)="고유계정")*1, OFFSET(제안사_투자현황,0,19,ROWS(제안사_투자현황),1) ) -> 0 | Z16: =SUMPRODUCT( (OFFSET(제안사_투자현황,0,0,ROWS(제안사_투자현황),1)="고유계정")*1, OFFSET(제안사_투자현황,0,20,ROWS(제안사_투자현황),1) ) -> 0 | AA16: =IF(W16=0,"N/A", SUMPRODUCT( (OFFSET(제안사_투자현황,0,0,ROWS(제안사_투자현황),1)="고유계정")*1, OFFSET(제안사_투자현황,0,9,ROWS(제안사_투자현황),1), OFFSET(제안사_투자현황,0,11,ROWS(제안사_투자현황),1) ) / W16) -> -0.5 | AB16: =IF( SUMPRODUCT( (OFFSET(제안사_투자현황,0,0,ROWS(제안사_투자현황),1)="고유계정")*1, OFFSET(제안사_투자현황,0,9,ROWS(제안사_투자현황),1), (OFFSET(제안사_투자현황,0,10,ROWS(제안사_투자현황),1)="회수료")*1) = 0, "N/A", SUMPRODUCT( (OFFSET(제안사_투자현황,0,0,ROWS(제안사_투자현황),1)="고유계정")*1, OFFSET(제안사_투자현황,0,9,ROWS(제안사_투자현황),1), (OFFSET(제안사_투자현황,0,10,ROWS(제안사_투자현황),1)="회수료")*1, OFFSET(제안사_투자현황,0,11,ROWS(제안사_투자현황),1) ) / SUMPRODUCT( (OFFSET(제안사_투자현황,0,0,ROWS(제안사_투자현황),1)="고유계정")*1, OFFSET(제안사_투자현황,0,9,ROWS(제안사_투자현황),1), (OFFSET(제안사_투자현황,0,10,ROWS(제안사_투자현황),1)="회수료")*1) ) -> -0.5 | AC16: =SUMPRODUCT( (OFFSET(제안사_투자현황,0,0,ROWS(제안사_투자현황),1)="펀드계정")*1 ) -> 8 | AD16: =SUMPRODUCT( (OFFSET(제안사_투자현황,0,0,ROWS(제안사_투자현황),1)="펀드계정")*1, (OFFSET(제안사_투자현황,0,10,ROWS(제안사_투자현황),1)="회수료")*1 ) -> 2 | AE16: =SUMPRODUCT( (OFFSET(제안사_투자현황,0,0,ROWS(제안사_투자현황),1)="펀드계정")*1, OFFSET(제안사_투자현황,0,9,ROWS(제안사_투자현황),1) ) -> 18999.991 | AF16: =SUMPRODUCT( (OFFSET(제안사_투자현황,0,0,ROWS(제안사_투자현황),1)="펀드계정")*1, OFFSET(제안사_투자현황,0,14,ROWS(제안사_투자현황),1) ) -> 6450 | AG16: =SUMPRODUCT( (OFFSET(제안사_투자현황,0,0,ROWS(제안사_투자현황),1)="펀드계정")*1, OFFSET(제안사_투자현황,0,19,ROWS(제안사_투자현황),1) ) -> 13899.992 | AH16: =SUMPRODUCT( (OFFSET(제안사_투자현황,0,0,ROWS(제안사_투자현황),1)="펀드계정")*1, OFFSET(제안사_투자현황,0,20,ROWS(제안사_투자현황),1) ) -> 13439.569 | AI16: =IF(AE16=0,"N/A", SUMPRODUCT( (OFFSET(제안사_투자현황,0,0,ROWS(제안사_투자현황),1)="펀드계정")*1, OFFSET(제안사_투자현황,0,9,ROWS(제안사_투자현황),1), OFFSET(제안사_투자현황,0,11,ROWS(제안사_투자현황),1) ) / AE16) -> 0.0063157893 | AJ16: =IF( SUMPRODUCT( (OFFSET(제안사_투자현황,0,0,ROWS(제안사_투자현황),1)="펀드계정")*1, OFFSET(제안사_투자현황,0,9,ROWS(제안사_투자현황),1), (OFFSET(제안사_투자현황,0,10,ROWS(제안사_투자현황),1)="회수료")*1) = 0, "N/A", SUMPRODUCT( (OFFSET(제안사_투자현황,0,0,ROWS(제안사_투자현황),1)="펀드계정")*1, OFFSET(제안사_투자현황,0,9,ROWS(제안사_투자현황),1), (OFFSET(제안사_투자현황,0,10,ROWS(제안사_투자현황),1)="회수료")*1, OFFSET(제안사_투자현황,0,11,ROWS(제안사_투자현황),1) ) / SUMPRODUCT( (OFFSET(제안사_투자현황,0,0,ROWS(제안사_투자현황),1)="펀드계정")*1, OFFSET(제안사_투자현황,0,9,ROWS(제안사_투자현황),1), (OFFSET(제안사_투자현황,0,10,ROWS(제안사_투자현황),1)="회수료")*1) ) -> 0.029999992
C19: 최초결성운용펀드명칭 | E19: 최초결성운용펀드개요 | K19: 최초결성운용펀드규모 | M19: 최초결성운용펀드 존속기간
C20: 최초결성 운용펀드명 | D20: 펀드 사업자 등록번호 | E20: 펀드 상태 | F20: 펀드법적유형 | G20: 펀드유형 (투자대상확정여부) | H20: 펀드결성목적 또는 주요투자대상 | I20: 투자기업의 주된 법인유형 | J20: 펀드의 주된 투자유형 | K20: 약정 총액 | L20: 납입 총액 | M20: 결성(예정)일 | N20: 투자기간 종료(예정)일 | O20: 해산(예정)일 | P20: 기간(연)
C21: 펀드1호 | D21: 000-00-00000 | E21: 청산료 | F21: 벤처투자조합 | G21: 블라인드펀드 | H21: 벤처/중소/중견기업에 대한 투자 | I21: 국내설립법인 또는 해외현지법인 | J21: 주식 또는 주식연계채권 | K21: 2000 | L21: 2000 | M21: =J11 -> 40207 | N21: 40572 | O21: 40937 | P21: =IF(ISBLANK(M21),"",DATEDIF(M21,O21,"d")/365) -> 2
C24: 주요주주 현황
C25: 주주명 | D25: 지분율(%) | E25: 최대주주와의 관계 | H25: 비고
C36: 합계 | D36: 1

Sheet 2.2.제안사 재무현황
A1: RFPID | B1: GPID | C1: FYearEndYMD | D1: Assets | E1: CurrentAssets | F1: Liabilities | G1: CurrentLiabilities | H1: Equity | I1: CapitalStock | J1: Sales | K1: COS | L1: NetIncome | M1: CurrentRatio | N1: DebtRatio | O1: CapitalDeficitRatio | P1: OperatingProfitRatio | Q1: ReturnOnEquity
A4: 모집단위ID | B4: 운용사ID | C4: (가)결산일자 | D4: 총자산 | E4: 유동자산 | F4: 총부채 | G4: 유동부채 | H4: 자기자본(자본총계) | I4: 자본금+자본잉여금 | J4: 영업수익 | K4: 영업비용 | L4: 당기순이익 | M4: 유동비율 | N4: 부채비율 | O4: 자본충실률 | P4: 영업수지율 | Q4: 자기자본순이익률
C11: 44196 | M11: =E11/G11 -> #DIV/0! | N11: =F11/H11 -> #DIV/0! | O11: =H11/I11 -> #DIV/0! | P11: =J11/K11 -> #DIV/0! | Q11: =L11/H11 -> #DIV/0!
C12: 43830 | M12: =E12/G12 -> #DIV/0! | N12: =F12/H12 -> #DIV/0! | O12: =H12/I12 -> #DIV/0! | P12: =J12/K12 -> #DIV/0! | Q12: =L12/H12 -> #DIV/0!
C13: 43465 | M13: =E13/G13 -> #DIV/0! | N13: =F13/H13 -> #DIV/0! | O13: =H13/I13 -> #DIV/0! | P13: =J13/K13 -> #DIV/0! | Q13: =L13/H13 -> #DIV/0!

Sheet 2.3.제안사 펀드현황
A1: RFPID | B1: GPID | C1: Seq | D1: FundName | E1: FundCompanySSN | F1: FundStatusDesc | G1: FundTypeDesc | H1: IsInvtComFixedDesc | L1: MainInvestTargetDesc | N1: FundContractAmt | O1: FundPayInAmt | P1: RegisterYMD | Q1: InvestEndYMD | R1: PropFundSettleYMD | T1: PropFundUsefulYears | U1: HurdleRate | V1: RFPContingentFeeDesc | W1: RFPManagingFeeDesc | X1: FundIRR | Y1: FundMultiple | Z1: InvtComCount | AA1: InvestAmt | AB1: CollectAmt | AC1: InvestBalBV | AD1: InvestBalEvalAmt | AE1: PayOutAmt | AF1: ContingentFeeAmt | AG1: PropManagingFeeAmt | AH1: OtherExpenseAmt | AI1: OtherAssetAmt | AJ1: OtherDebtAmt | AK1: FundNetAmt | AL1: AddInvestPlanAmt | AM1: CoreFundMgrName1 | AN1: CoreFundMgrBegYMD1 | AO1: CoreFundMgrEndYMD1 | AP1: IsCoreFundMgrWorking1 | AQ1: CoreFundMgrName2 | AR1: CoreFundMgrBegYMD2 | AS1: CoreFundMgrEndYMD2 | AT1: IsCoreFundMgrWorking2 | AU1: CoreFundMgrName3 | AV1: CoreFundMgrBegYMD3 | AW1: CoreFundMgrEndYMD3 | AX1: IsCoreFundMgrWorking3 | AY1: CoreFundMgrChangeNo | BB1: GPName | BC1: GPContractAmt | BD1: PropGPLossCoverAmt | BE1: JointGPName1 | BF1: JointGPPayInAmt1 | BG1: JointGPLossCoverAmt1 | BH1: JointGPName2 | BI1: JointGPPayInAmt2 | BJ1: JointGPLossCoverAmt2 | BK1: LPName1 | BL1: LPPayInAmt1 | BM1: LPName2 | BN1: LPPayInAmt2 | BO1: LPName3 | BP1: LPPayInAmt3 | BQ1: OtherLPPayInAmt
D3: 펀드명칭 | F3: 펀드개요 | N3: 펀드규모 | P3: 펀드 존속기간 | U3: 보수 | X3: 펀드수익률 | Z3: 투자 및 회수 | AC3: 미회수투자자산 | AE3: 분배 및 비용 | AI3: 예금 등 투자자산 이외 자산총액 | AJ3: 미지급등 부채총액 | AK3: 펀드 순자산 | AL3: 추가투자 예상금액 | AM3: 핵심운용인력1 | AQ3: 핵심운용인력2 | AU3: 핵심운용인력3 | AY3: 핵심운용인력 유지율 | BB3: 제안사출자 | BE3: 공동운용사1출자 | BH3: 공동운용사2출자 | BK3: 투자자1 출자 | BM3: 투자자2 출자 | BO3: 투자자3 출자 | BQ3: 기타투자자 출자 약정액
A4: 모집단위ID | B4: 운용사ID | C4: 일련번호 | D4: 펀드명 | E4: 펀드 사업자 등록번호 | F4: 펀드 상태 | G4: 펀드법적유형 | H4: 펀드유형(투자대상확정여부) | I4: 펀드결성목적 또는 주요투자대상 | J4: 펀드결성목적 또는 주요투자대상 간략한 설명 | K4: 투자기업의 주된 법인유형 | L4: 펀드의 주된 투자유형 | M4: 성장금융 위탁펀드 여부 | N4: 약정 총액 | O4: 납입 총액 | P4: 결성(예정)일 | Q4: 투자기간 종료(예정)일 | R4: 해산(예정)일 | S4: 청산(예정)일 | T4: 기간(연) | U4: 기준 수익률 | V4: 성과보수 | W4: 관리보수 | X4: IRR | Y4: Multiple | Z4: 투자건수 | AA4: 투자 총액 | AB4: 회수 총액 | AC4: 투자 원금 총액 | AD4: 가치 총액 | AE4: 출자자앞 분배총액 | AF4: 성과보수지급총액 | AG4: 관리보수 지급총액 | AH4: 기타비용 지급총액 | AM4: 성명 | AN4: 시작일 | AO4: 종료일 | AP4: 재직여부 | AQ4: 성명 | AR4: 시작일 | AS4: 종료일 | AT4: 재직여부 | AU4: 성명 | AV4: 시작일 | AW4: 종료일 | AX4: 재직여부 | AY4: 펀드설립시 핵심운용인력수 | AZ4: 핵심운용인력 유출횟수 | BA4: 유지율 | BB4: 제안사명 | BC4: 약정액 | BD4: 우선손실 충당액 | BE4: 운용사명 | BF4: 약정액 | BG4: 우선손실 충당액 | BH4: 운용사명 | BI4: 약정액 | BJ4: 우선손실 충당액 | BK4: 출자자명 | BL4: 약정액 | BM4: 출자자명 | BN4: 약정액 | BO4: 출자자명 | BP4: 약정액
D5: 0 | E5: 1 | F5: 2 | G5: 3 | H5: 4 | I5: 5 | J5: 6 | K5: 7 | L5: 8 | M5: 9 | N5: 10 | O5: 11 | P5: 12 | Q5: 13 | R5: 14 | S5: 15 | T5: 16 | U5: 17 | V5: 18 | W5: 19 | X5: 20 | Y5: 21 | Z5: 22 | AA5: 23 | AB5: 24 | AC5: 25 | AD5: 26 | AE5: 27 | AF5: 28 | AG5: 29 | AH5: 30 | AI5: 31 | AJ5: 32 | AK5: 33 | AL5: 34 | AM5: 35 | AN5: 36 | AO5: 37 | AP5: 38 | AQ5: 39 | AR5: 40 | AS5: 41 | AT5: 42 | AU5: 43 | AV5: 44 | AW5: 45 | AX5: 46 | AY5: 47 | AZ5: 48 | BA5: 49 | BB5: 50 | BC5: 51 | BD5: 52 | BE5: 53 | BF5: 54 | BG5: 55 | BH5: 56 | BI5: 57 | BJ5: 58 | BK5: 59 | BL5: 60 | BM5: 61 | BN5: 62 | BO5: 63 | BP5: 64 | BQ5: 65
D11: 펀드1호 | E11: 000-00-00000 | F11: 청산료 | G11: 중소기업창업투자조합 | H11: 블라인드펀드 | I11: 벤처/중소/중견기업에 대한 투자 | J11: 국내 소재부품장비 중소중견기업 투자 | K11: 국내설립법인 또는 해외현지법인 | L11: 주식 또는 주식연계채권 | M11: YES | N11: 3000 | O11: 3000 | P11: 39448 | Q11: 40909 | R11: 41640 | S11: 42005 | T11: =IF(ISBLANK(P11),"",DATEDIF(P11,R11,"d")/365) -> 6.0054795 | U11: 0.1 | V11: 초과수익의 20% | W11: 초기3년 약정액의 3.0%, 잔여기간 투자잔액의 3.0% | X11: =IF(ISBLANK($D11), "", IF( ISERROR( XIRR( OFFSET(펀드_거래,MATCH($D11,OFFSET(펀드_거래,0,0,ROWS(펀드_거래),1),0)-1,2,COUNTIF(펀드_거래,$D11),1), OFFSET(펀드_거래,MATCH($D11,OFFSET(펀드_거래,0,0,ROWS(펀드_거래),1),0)-1,3,COUNTIF(펀드_거래,$D11),1) ) ), "N/A", XIRR( OFFSET(펀드_거래,MATCH($D11,OFFSET(펀드_거래,0,0,ROWS(펀드_거래),1),0)-1,2,COUNTIF(펀드_거래,$D11),1), OFFSET(펀드_거래,MATCH($D11,OFFSET(펀드_거래,0,0,ROWS(펀드_거래),1),0)-1,3,COUNTIF(펀드_거래,$D11),1), IF(SUM(OFFSET(펀드_거래,MATCH($D11,OFFSET(펀드_거래,0,0,ROWS(펀드_거래),1),0)-1,2,COUNTIF(펀드_거래,$D11),1))>0, 1%, -1%) ) ) ) -> 0.19785229 | Y11: =IF( ISBLANK($D11), "", IF(ISNUMBER(O11), (AD11+AE11+AF11+AI11-AJ11)/O11, "N/A") ) -> 6.5916811 | Z11: =IF( ISBLANK($D11), "", SUMPRODUCT( (OFFSET(제안사_투자현황,0,1,ROWS(제안사_투자현황),1)=$D11)*1, ISTEXT(OFFSET(제안사_투자현황,0,3,ROWS(제안사_투자현황),1))*1 ) ) -> 3 | AA11: =IF( ISBLANK($D11), "0", SUMPRODUCT( (OFFSET(제안사_투자현황,0,1,ROWS(제안사_투자현황),1)=$D11)*1, OFFSET(제안사_투자현황,0,9,ROWS(제안사_투자현황),1)) ) -> 5999.9919 | AB11: =IF( ISBLANK($D11), "", SUMPRODUCT( (OFFSET(제안사_투자현황,0,1,ROWS(제안사_투자현황),1)=$D11)*1, OFFSET(제안사_투자현황,0,14,ROWS(제안사_투자현황),1)) ) -> 4000 | AC11: =IF( ISBLANK($D11), "", SUMPRODUCT( (OFFSET(제안사_투자현황,0,1,ROWS(제안사_투자현황),1)=$D11)*1, OFFSET(제안사_투자현황,0,19,ROWS(제안사_투자현황),1)) ) -> 2999.9919 | AD11: =IF( ISBLANK($D11), "", SUMPRODUCT( (OFFSET(제안사_투자현황,0,1,ROWS(제안사_투자현황),1)=$D11)*1, OFFSET(제안사_투자현황,0,20,ROWS(제안사_투자현황),1)) ) -> 3075.0434 | AE11: =IF( ISBLANK($D11), "", SUMPRODUCT( (OFFSET(펀드_거래,0,0,ROWS(펀드_거래),1)=$D11)*1, (OFFSET(펀드_거래,0,1,ROWS(펀드_거래),1)="현금분배")*1, OFFSET(펀드_거래,0,2,ROWS(펀드_거래),1)/1000000 ) + SUMPRODUCT( (OFFSET(펀드_거래,0,0,ROWS(펀드_거래),1)=$D11)*1, (OFFSET(펀드_거래,0,1,ROWS(펀드_거래),1)="현물분배")*1, OFFSET(펀드_거래,0,2,ROWS(펀드_거래),1)/1000000 ) ) -> 16700 | AF11: =IF( ISBLANK($D11), "", SUMPRODUCT( (OFFSET(펀드_거래,0,0,ROWS(펀드_거래),1)=$D11)*1, (OFFSET(펀드_거래,0,1,ROWS(펀드_거래),1)="성과보수")*1, OFFSET(펀드_거래,0,2,ROWS(펀드_거래),1)/1000000) ) -> 0 | AK11: =IF( ISERROR(AD11+AI11-AJ11), "", AD11+AI11-AJ11 ) -> 3075.0434 | AY11: =SUMIF('4.2.펀드 인력변경 이력'!A:A,D11,'4.2.펀드 인력변경 이력'!F:F) -> 3 | AZ11: 3 | BA11: =IF(D11="","",IF(AZ11=0,3,IF(AY11/AZ11>3,3,AY11/AZ11))) -> 1
D12: 펀드2호 | E12: 000-00-00001 | F12: 청산료 | G12: 기업구조조정조합 | H12: 블라인드펀드 | I12: 해외기업에 대한 투자 | J12: 아시아 지역 투자 | K12: 외국법인 | L12: 주식 또는 주식연계채권 | M12: NO | N12: 10000 | O12: 10000 | P12: 39448 | Q12: 41275 | R12: 42005 | S12: 42370 | T12: =IF(ISBLANK(P12),"",DATEDIF(P12,R12,"d")/365) -> 7.0054795 | U12: 0.1 | V12: 초과수익의 20% | W12: 투자잔액의 3.0% | X12: =IF(ISBLANK($D12), "", IF( ISERROR( XIRR( OFFSET(펀드_거래,MATCH($D12,OFFSET(펀드_거래,0,0,ROWS(펀드_거래),1),0)-1,2,COUNTIF(펀드_거래,$D12),1), OFFSET(펀드_거래,MATCH($D12,OFFSET(펀드_거래,0,0,ROWS(펀드_거래),1),0)-1,3,COUNTIF(펀드_거래,$D12),1) ) ), "N/A", XIRR( OFFSET(펀드_거래,MATCH($D12,OFFSET(펀드_거래,0,0,ROWS(펀드_거래),1),0)-1,2,COUNTIF(펀드_거래,$D12),1), OFFSET(펀드_거래,MATCH($D12,OFFSET(펀드_거래,0,0,ROWS(펀드_거래),1),0)-1,3,COUNTIF(펀드_거래,$D12),1), IF(SUM(OFFSET(펀드_거래,MATCH($D12,OFFSET(펀드_거래,0,0,ROWS(펀드_거래),1),0)-1,2,COUNTIF(펀드_거래,$D12),1))>0, 1%, -1%) ) ) ) -> 0.083114181 | Y12: =IF( ISBLANK($D12), "", IF(ISNUMBER(O12), (AD12+AE12+AF12+AI12-AJ12)/O12, "N/A") ) -> 1.1934526 | Z12: =IF( ISBLANK($D12), "", SUMPRODUCT( (OFFSET(제안사_투자현황,0,1,ROWS(제안사_투자현황),1)=$D12)*1, ISTEXT(OFFSET(제안사_투자현황,0,3,ROWS(제안사_투자현황),1))*1 ) ) -> 3 | AA12: =IF( ISBLANK($D12), "0", SUMPRODUCT( (OFFSET(제안사_투자현황,0,1,ROWS(제안사_투자현황),1)=$D12)*1, OFFSET(제안사_투자현황,0,9,ROWS(제안사_투자현황),1)) ) -> 8999.999 | AB12: =IF( ISBLANK($D12), "", SUMPRODUCT( (OFFSET(제안사_투자현황,0,1,ROWS(제안사_투자현황),1)=$D12)*1, OFFSET(제안사_투자현황,0,14,ROWS(제안사_투자현황),1)) ) -> 2450 | AC12: =IF( ISBLANK($D12), "", SUMPRODUCT( (OFFSET(제안사_투자현황,0,1,ROWS(제안사_투자현황),1)=$D12)*1, OFFSET(제안사_투자현황,0,19,ROWS(제안사_투자현황),1)) ) -> 6900 | AD12: =IF( ISBLANK($D12), "", SUMPRODUCT( (OFFSET(제안사_투자현황,0,1,ROWS(제안사_투자현황),1)=$D12)*1, OFFSET(제안사_투자현황,0,20,ROWS(제안사_투자현황),1)) ) -> 8344.5257 | AE12: =IF( ISBLANK($D12), "", SUMPRODUCT( (OFFSET(펀드_거래,0,0,ROWS(펀드_거래),1)=$D12)*1, (OFFSET(펀드_거래,0,1,ROWS(펀드_거래),1)="현금분배")*1, OFFSET(펀드_거래,0,2,ROWS(펀드_거래),1)/1000000 ) + SUMPRODUCT( (OFFSET(펀드_거래,0,0,ROWS(펀드_거래),1)=$D12)*1, (OFFSET(펀드_거래,0,1,ROWS(펀드_거래),1)="현물분배")*1, OFFSET(펀드_거래,0,2,ROWS(펀드_거래),1)/1000000 ) ) -> 3590 | AF12: =IF( ISBLANK($D12), "", SUMPRODUCT( (OFFSET(펀드_거래,0,0,ROWS(펀드_거래),1)=$D12)*1, (OFFSET(펀드_거래,0,1,ROWS(펀드_거래),1)="성과보수")*1, OFFSET(펀드_거래,0,2,ROWS(펀드_거래),1)/1000000) ) -> 0 | AK12: =IF( ISERROR(AD12+AI12-AJ12), "", AD12+AI12-AJ12 ) -> 8344.5257 | AY12: =SUMIF('4.2.펀드 인력변경 이력'!A:A,D12,'4.2.펀드 인력변경 이력'!F:F) -> 3 | AZ12: 0 | BA12: =IF(D12="","",IF(AZ12=0,3,IF(AY12/AZ12>3,3,AY12/AZ12))) -> 3
D13: 펀드3호 | E13: 000-00-00002 | F13: 운용중 | G13: 중소기업창업투자조합 | H13: 블라인드펀드 | I13: 벤처/중소/중견기업에 대한 투자 | J13: LP지분 인수 | K13: 국내설립법인 또는 해외현지법인 | L13: 기타 | M13: NO | N13: 10000 | O13: 10000 | P13: 40179 | Q13: 41640 | R13: 43831 | S13: 44197 | T13: =IF(ISBLANK(P13),"",DATEDIF(P13,R13,"d")/365) -> 10.005479 | U13: 0.1 | V13: 초과수익의 20% | W13: 투자잔액의 2.5% | X13: =IF(ISBLANK($D13), "", IF( ISERROR( XIRR( OFFSET(펀드_거래,MATCH($D13,OFFSET(펀드_거래,0,0,ROWS(펀드_거래),1),0)-1,2,COUNTIF(펀드_거래,$D13),1), OFFSET(펀드_거래,MATCH($D13,OFFSET(펀드_거래,0,0,ROWS(펀드_거래),1),0)-1,3,COUNTIF(펀드_거래,$D13),1) ) ), "N/A", XIRR( OFFSET(펀드_거래,MATCH($D13,OFFSET(펀드_거래,0,0,ROWS(펀드_거래),1),0)-1,2,COUNTIF(펀드_거래,$D13),1), OFFSET(펀드_거래,MATCH($D13,OFFSET(펀드_거래,0,0,ROWS(펀드_거래),1),0)-1,3,COUNTIF(펀드_거래,$D13),1), IF(SUM(OFFSET(펀드_거래,MATCH($D13,OFFSET(펀드_거래,0,0,ROWS(펀드_거래),1),0)-1,2,COUNTIF(펀드_거래,$D13),1))>0, 1%, -1%) ) ) ) -> 0.063119569 | Y13: =IF( ISBLANK($D13), "", IF(ISNUMBER(O13), (AD13+AE13+AF13+AI13-AJ13)/O13, "N/A") ) -> 1.162 | Z13: =IF( ISBLANK($D13), "", SUMPRODUCT( (OFFSET(제안사_투자현황,0,1,ROWS(제안사_투자현황),1)=$D13)*1, ISTEXT(OFFSET(제안사_투자현황,0,3,ROWS(제안사_투자현황),1))*1 ) ) -> 2 | AA13: =IF( ISBLANK($D13), "0", SUMPRODUCT( (OFFSET(제안사_투자현황,0,1,ROWS(제안사_투자현황),1)=$D13)*1, OFFSET(제안사_투자현황,0,9,ROWS(제안사_투자현황),1)) ) -> 4000 | AB13: =IF( ISBLANK($D13), "", SUMPRODUCT( (OFFSET(제안사_투자현황,0,1,ROWS(제안사_투자현황),1)=$D13)*1, OFFSET(제안사_투자현황,0,14,ROWS(제안사_투자현황),1)) ) -> 0 | AC13: =IF( ISBLANK($D13), "", SUMPRODUCT( (OFFSET(제안사_투자현황,0,1,ROWS(제안사_투자현황),1)=$D13)*1, OFFSET(제안사_투자현황,0,19,ROWS(제안사_투자현황),1)) ) -> 4000 | AD13: =IF( ISBLANK($D13), "", SUMPRODUCT( (OFFSET(제안사_투자현황,0,1,ROWS(제안사_투자현황),1)=$D13)*1, OFFSET(제안사_투자현황,0,20,ROWS(제안사_투자현황),1)) ) -> 2020 | AE13: =IF( ISBLANK($D13), "", SUMPRODUCT( (OFFSET(펀드_거래,0,0,ROWS(펀드_거래),1)=$D13)*1, (OFFSET(펀드_거래,0,1,ROWS(펀드_거래),1)="현금분배")*1, OFFSET(펀드_거래,0,2,ROWS(펀드_거래),1)/1000000 ) + SUMPRODUCT( (OFFSET(펀드_거래,0,0,ROWS(펀드_거래),1)=$D13)*1, (OFFSET(펀드_거래,0,1,ROWS(펀드_거래),1)="현물분배")*1, OFFSET(펀드_거래,0,2,ROWS(펀드_거래),1)/1000000 ) ) -> 9600 | AF13: =IF( ISBLANK($D13), "", SUMPRODUCT( (OFFSET(펀드_거래,0,0,ROWS(펀드_거래),1)=$D13)*1, (OFFSET(펀드_거래,0,1,ROWS(펀드_거래),1)="성과보수")*1, OFFSET(펀드_거래,0,2,ROWS(펀드_거래),1)/1000000) ) -> 0 | AK13: =IF( ISERROR(AD13+AI13-AJ13), "", AD13+AI13-AJ13 ) -> 2020 | AY13: =SUMIF('4.2.펀드 인력변경 이력'!A:A,D13,'4.2.펀드 인력변경 이력'!F:F) -> 3 | AZ13: =SUMIF('4.2.펀드 인력변경 이력'!A:A,D13,'4.2.펀드 인력변경 이력'!G:G) -> 1 | BA13: =IF(D13="","",IF(AZ13=0,3,IF(AY13/AZ13>3,3,AY13/AZ13))) -> 3
T14: =IF(ISBLANK(P14),"",DATEDIF(P14,R14,"d")/365) | X14: =IF(ISBLANK($D14), "", IF( ISERROR( XIRR( OFFSET(펀드_거래,MATCH($D14,OFFSET(펀드_거래,0,0,ROWS(펀드_거래),1),0)-1,2,COUNTIF(펀드_거래,$D14),1), OFFSET(펀드_거래,MATCH($D14,OFFSET(펀드_거래,0,0,ROWS(펀드_거래),1),0)-1,3,COUNTIF(펀드_거래,$D14),1) ) ), "N/A", XIRR( OFFSET(펀드_거래,MATCH($D14,OFFSET(펀드_거래,0,0,ROWS(펀드_거래),1),0)-1,2,COUNTIF(펀드_거래,$D14),1), OFFSET(펀드_거래,MATCH($D14,OFFSET(펀드_거래,0,0,ROWS(펀드_거래),1),0)-1,3,COUNTIF(펀드_거래,$D14),1), IF(SUM(OFFSET(펀드_거래,MATCH($D14,OFFSET(펀드_거래,0,0,ROWS(펀드_거래),1),0)-1,2,COUNTIF(펀드_거래,$D14),1))>0, 1%, -1%) ) ) ) | Y14: =IF( ISBLANK($D14), "", IF(ISNUMBER(O14), (AD14+AE14+AF14+AI14-AJ14)/O14, "N/A") ) | Z14: =IF( ISBLANK($D14), "", SUMPRODUCT( (OFFSET(제안사_투자현황,0,1,ROWS(제안사_투자현황),1)=$D14)*1, ISTEXT(OFFSET(제안사_투자현황,0,3,ROWS(제안사_투자현황),1))*1 ) ) | AA14: =IF( ISBLANK($D14), "0", SUMPRODUCT( (OFFSET(제안사_투자현황,0,1,ROWS(제안사_투자현황),1)=$D14)*1, OFFSET(제안사_투자현황,0,9,ROWS(제안사_투자현황),1)) ) -> 0 | AB14: =IF( ISBLANK($D14), "", SUMPRODUCT( (OFFSET(제안사_투자현황,0,1,ROWS(제안사_투자현황),1)=$D14)*1, OFFSET(제안사_투자현황,0,14,ROWS(제안사_투자현황),1)) ) | AC14: =IF( ISBLANK($D14), "", SUMPRODUCT( (OFFSET(제안사_투자현황,0,1,ROWS(제안사_투자현황),1)=$D14)*1, OFFSET(제안사_투자현황,0,19,ROWS(제안사_투자현황),1)) ) | AD14: =IF( ISBLANK($D14), "", SUMPRODUCT( (OFFSET(제안사_투자현황,0,1,ROWS(제안사_투자현황),1)=$D14)*1, OFFSET(제안사_투자현황,0,20,ROWS(제안사_투자현황),1)) ) | AE14: =IF( ISBLANK($D14), "", SUMPRODUCT( (OFFSET(펀드_거래,0,0,ROWS(펀드_거래),1)=$D14)*1, (OFFSET(펀드_거래,0,1,ROWS(펀드_거래),1)="현금분배")*1, OFFSET(펀드_거래,0,2,ROWS(펀드_거래),1)/1000000 ) + SUMPRODUCT( (OFFSET(펀드_거래,0,0,ROWS(펀드_거래),1)=$D14)*1, (OFFSET(펀드_거래,0,1,ROWS(펀드_거래),1)="현물분배")*1, OFFSET(펀드_거래,0,2,ROWS(펀드_거래),1)/1000000 ) ) | AF14: =IF( ISBLANK($D14), "", SUMPRODUCT( (OFFSET(펀드_거래,0,0,ROWS(펀드_거래),1)=$D14)*1, (OFFSET(펀드_거래,0,1,ROWS(펀드_거래),1)="성과보수")*1, OFFSET(펀드_거래,0,2,ROWS(펀드_거래),1)/1000000) ) | AK14: =IF( ISERROR(AD14+AI14-AJ14), "", AD14+AI14-AJ14 ) | AY14: =SUMIF('4.2.펀드 인력변경 이력'!A:A,D14,'4.2.펀드 인력변경 이력'!F:F) -> 0 | AZ14: =SUMIF('4.2.펀드 인력변경 이력'!A:A,D14,'4.2.펀드 인력변경 이력'!G:G) -> 0 | BA14: =IF(D14="","",IF(AZ14=0,3,IF(AY14/AZ14>3,3,AY14/AZ14)))
T15: =IF(ISBLANK(P15),"",DATEDIF(P15,R15,"d")/365) | X15: =IF(ISBLANK($D15), "", IF( ISERROR( XIRR( OFFSET(펀드_거래,MATCH($D15,OFFSET(펀드_거래,0,0,ROWS(펀드_거래),1),0)-1,2,COUNTIF(펀드_거래,$D15),1), OFFSET(펀드_거래,MATCH($D15,OFFSET(펀드_거래,0,0,ROWS(펀드_거래),1),0)-1,3,COUNTIF(펀드_거래,$D15),1) ) ), "N/A", XIRR( OFFSET(펀드_거래,MATCH($D15,OFFSET(펀드_거래,0,0,ROWS(펀드_거래),1),0)-1,2,COUNTIF(펀드_거래,$D15),1), OFFSET(펀드_거래,MATCH($D15,OFFSET(펀드_거래,0,0,ROWS(펀드_거래),1),0)-1,3,COUNTIF(펀드_거래,$D15),1), IF(SUM(OFFSET(펀드_거래,MATCH($D15,OFFSET(펀드_거래,0,0,ROWS(펀드_거래),1),0)-1,2,COUNTIF(펀드_거래,$D15),1))>0, 1%, -1%) ) ) ) | Y15: =IF( ISBLANK($D15), "", IF(ISNUMBER(O15), (AD15+AE15+AF15+AI15-AJ15)/O15, "N/A") ) | Z15: =IF( ISBLANK($D15), "", SUMPRODUCT( (OFFSET(제안사_투자현황,0,1,ROWS(제안사_투자현황),1)=$D15)*1, ISTEXT(OFFSET(제안사_투자현황,0,3,ROWS(제안사_투자현황),1))*1 ) ) | AA15: =IF( ISBLANK($D15), "0", SUMPRODUCT( (OFFSET(제안사_투자현황,0,1,ROWS(제안사_투자현황),1)=$D15)*1, OFFSET(제안사_투자현황,0,9,ROWS(제안사_투자현황),1)) ) -> 0 | AB15: =IF( ISBLANK($D15), "", SUMPRODUCT( (OFFSET(제안사_투자현황,0,1,ROWS(제안사_투자현황),1)=$D15)*1, OFFSET(제안사_투자현황,0,14,ROWS(제안사_투자현황),1)) ) | AC15: =IF( ISBLANK($D15), "", SUMPRODUCT( (OFFSET(제안사_투자현황,0,1,ROWS(제안사_투자현황),1)=$D15)*1, OFFSET(제안사_투자현황,0,19,ROWS(제안사_투자현황),1)) ) | AD15: =IF( ISBLANK($D15), "", SUMPRODUCT( (OFFSET(제안사_투자현황,0,1,ROWS(제안사_투자현황),1)=$D15)*1, OFFSET(제안사_투자현황,0,20,ROWS(제안사_투자현황),1)) ) | AE15: =IF( ISBLANK($D15), "", SUMPRODUCT( (OFFSET(펀드_거래,0,0,ROWS(펀드_거래),1)=$D15)*1, (OFFSET(펀드_거래,0,1,ROWS(펀드_거래),1)="현금분배")*1, OFFSET(펀드_거래,0,2,ROWS(펀드_거래),1)/1000000 ) + SUMPRODUCT( (OFFSET(펀드_거래,0,0,ROWS(펀드_거래),1)=$D15)*1, (OFFSET(펀드_거래,0,1,ROWS(펀드_거래),1)="현물분배")*1, OFFSET(펀드_거래,0,2,ROWS(펀드_거래),1)/1000000 ) ) | AF15: =IF( ISBLANK($D15), "", SUMPRODUCT( (OFFSET(펀드_거래,0,0,ROWS(펀드_거래),1)=$D15)*1, (OFFSET(펀드_거래,0,1,ROWS(펀드_거래),1)="성과보수")*1, OFFSET(펀드_거래,0,2,ROWS(펀드_거래),1)/1000000) ) | AK15: =IF( ISERROR(AD15+AI15-AJ15), "", AD15+AI15-AJ15 ) | AY15: =SUMIF('4.2.펀드 인력변경 이력'!A:A,D15,'4.2.펀드 인력변경 이력'!F:F) -> 0 | AZ15: =SUMIF('4.2.펀드 인력변경 이력'!A:A,D15,'4.2.펀드 인력변경 이력'!G:G) -> 0 | BA15: =IF(D15="","",IF(AZ15=0,3,IF(AY15/AZ15>3,3,AY15/AZ15)))
T16: =IF(ISBLANK(P16),"",DATEDIF(P16,R16,"d")/365) | X16: =IF(ISBLANK($D16), "", IF( ISERROR( XIRR( OFFSET(펀드_거래,MATCH($D16,OFFSET(펀드_거래,0,0,ROWS(펀드_거래),1),0)-1,2,COUNTIF(펀드_거래,$D16),1), OFFSET(펀드_거래,MATCH($D16,OFFSET(펀드_거래,0,0,ROWS(펀드_거래),1),0)-1,3,COUNTIF(펀드_거래,$D16),1) ) ), "N/A", XIRR( OFFSET(펀드_거래,MATCH($D16,OFFSET(펀드_거래,0,0,ROWS(펀드_거래),1),0)-1,2,COUNTIF(펀드_거래,$D16),1), OFFSET(펀드_거래,MATCH($D16,OFFSET(펀드_거래,0,0,ROWS(펀드_거래),1),0)-1,3,COUNTIF(펀드_거래,$D16),1), IF(SUM(OFFSET(펀드_거래,MATCH($D16,OFFSET(펀드_거래,0,0,ROWS(펀드_거래),1),0)-1,2,COUNTIF(펀드_거래,$D16),1))>0, 1%, -1%) ) ) ) | Y16: =IF( ISBLANK($D16), "", IF(ISNUMBER(O16), (AD16+AE16+AF16+AI16-AJ16)/O16, "N/A") ) | Z16: =IF( ISBLANK($D16), "", SUMPRODUCT( (OFFSET(제안사_투자현황,0,1,ROWS(제안사_투자현황),1)=$D16)*1, ISTEXT(OFFSET(제안사_투자현황,0,3,ROWS(제안사_투자현황),1))*1 ) ) | AA16: =IF( ISBLANK($D16), "0", SUMPRODUCT( (OFFSET(제안사_투자현황,0,1,ROWS(제안사_투자현황),1)=$D16)*1, OFFSET(제안사_투자현황,0,9,ROWS(제안사_투자현황),1)) ) -> 0 | AB16: =IF( ISBLANK($D16), "", SUMPRODUCT( (OFFSET(제안사_투자현황,0,1,ROWS(제안사_투자현황),1)=$D16)*1, OFFSET(제안사_투자현황,0,14,ROWS(제안사_투자현황),1)) ) | AC16: =IF( ISBLANK($D16), "", SUMPRODUCT( (OFFSET(제안사_투자현황,0,1,ROWS(제안사_투자현황),1)=$D16)*1, OFFSET(제안사_투자현황,0,19,ROWS(제안사_투자현황),1)) ) | AD16: =IF( ISBLANK($D16), "", SUMPRODUCT( (OFFSET(제안사_투자현황,0,1,ROWS(제안사_투자현황),1)=$D16)*1, OFFSET(제안사_투자현황,0,20,ROWS(제안사_투자현황),1)) ) | AE16: =IF( ISBLANK($D16), "", SUMPRODUCT( (OFFSET(펀드_거래,0,0,ROWS(펀드_거래),1)=$D16)*1, (OFFSET(펀드_거래,0,1,ROWS(펀드_거래),1)="현금분배")*1, OFFSET(펀드_거래,0,2,ROWS(펀드_거래),1)/1000000 ) + SUMPRODUCT( (OFFSET(펀드_거래,0,0,ROWS(펀드_거래),1)=$D16)*1, (OFFSET(펀드_거래,0,1,ROWS(펀드_거래),1)="현물분배")*1, OFFSET(펀드_거래,0,2,ROWS(펀드_거래),1)/1000000 ) ) | AF16: =IF( ISBLANK($D16), "", SUMPRODUCT( (OFFSET(펀드_거래,0,0,ROWS(펀드_거래),1)=$D16)*1, (OFFSET(펀드_거래,0,1,ROWS(펀드_거래),1)="성과보수")*1, OFFSET(펀드_거래,0,2,ROWS(펀드_거래),1)/1000000) ) | AK16: =IF( ISERROR(AD16+AI16-AJ16), "", AD16+AI16-AJ16 ) | AY16: =SUMIF('4.2.펀드 인력변경 이력'!A:A,D16,'4.2.펀드 인력변경 이력'!F:F) -> 0 | AZ16: =SUMIF('4.2.펀드 인력변경 이력'!A:A,D16,'4.2.펀드 인력변경 이력'!G:G) -> 0 | BA16: =IF(D16="","",IF(AZ16=0,3,IF(AY16/AZ16>3,3,AY16/AZ16)))
T17: =IF(ISBLANK(P17),"",DATEDIF(P17,R17,"d")/365) | X17: =IF(ISBLANK($D17), "", IF( ISERROR( XIRR( OFFSET(펀드_거래,MATCH($D17,OFFSET(펀드_거래,0,0,ROWS(펀드_거래),1),0)-1,2,COUNTIF(펀드_거래,$D17),1), OFFSET(펀드_거래,MATCH($D17,OFFSET(펀드_거래,0,0,ROWS(펀드_거래),1),0)-1,3,COUNTIF(펀드_거래,$D17),1) ) ), "N/A", XIRR( OFFSET(펀드_거래,MATCH($D17,OFFSET(펀드_거래,0,0,ROWS(펀드_거래),1),0)-1,2,COUNTIF(펀드_거래,$D17),1), OFFSET(펀드_거래,MATCH($D17,OFFSET(펀드_거래,0,0,ROWS(펀드_거래),1),0)-1,3,COUNTIF(펀드_거래,$D17),1), IF(SUM(OFFSET(펀드_거래,MATCH($D17,OFFSET(펀드_거래,0,0,ROWS(펀드_거래),1),0)-1,2,COUNTIF(펀드_거래,$D17),1))>0, 1%, -1%) ) ) ) | Y17: =IF( ISBLANK($D17), "", IF(ISNUMBER(O17), (AD17+AE17+AF17+AI17-AJ17)/O17, "N/A") ) | Z17: =IF( ISBLANK($D17), "", SUMPRODUCT( (OFFSET(제안사_투자현황,0,1,ROWS(제안사_투자현황),1)=$D17)*1, ISTEXT(OFFSET(제안사_투자현황,0,3,ROWS(제안사_투자현황),1))*1 ) ) | AA17: =IF( ISBLANK($D17), "0", SUMPRODUCT( (OFFSET(제안사_투자현황,0,1,ROWS(제안사_투자현황),1)=$D17)*1, OFFSET(제안사_투자현황,0,9,ROWS(제안사_투자현황),1)) ) -> 0 | AB17: =IF( ISBLANK($D17), "", SUMPRODUCT( (OFFSET(제안사_투자현황,0,1,ROWS(제안사_투자현황),1)=$D17)*1, OFFSET(제안사_투자현황,0,14,ROWS(제안사_투자현황),1)) ) | AC17: =IF( ISBLANK($D17), "", SUMPRODUCT( (OFFSET(제안사_투자현황,0,1,ROWS(제안사_투자현황),1)=$D17)*1, OFFSET(제안사_투자현황,0,19,ROWS(제안사_투자현황),1)) ) | AD17: =IF( ISBLANK($D17), "", SUMPRODUCT( (OFFSET(제안사_투자현황,0,1,ROWS(제안사_투자현황),1)=$D17)*1, OFFSET(제안사_투자현황,0,20,ROWS(제안사_투자현황),1)) ) | AE17: =IF( ISBLANK($D17), "", SUMPRODUCT( (OFFSET(펀드_거래,0,0,ROWS(펀드_거래),1)=$D17)*1, (OFFSET(펀드_거래,0,1,ROWS(펀드_거래),1)="현금분배")*1, OFFSET(펀드_거래,0,2,ROWS(펀드_거래),1)/1000000 ) + SUMPRODUCT( (OFFSET(펀드_거래,0,0,ROWS(펀드_거래),1)=$D17)*1, (OFFSET(펀드_거래,0,1,ROWS(펀드_거래),1)="현물분배")*1, OFFSET(펀드_거래,0,2,ROWS(펀드_거래),1)/1000000 ) ) | AF17: =IF( ISBLANK($D17), "", SUMPRODUCT( (OFFSET(펀드_거래,0,0,ROWS(펀드_거래),1)=$D17)*1, (OFFSET(펀드_거래,0,1,ROWS(펀드_거래),1)="성과보수")*1, OFFSET(펀드_거래,0,2,ROWS(펀드_거래),1)/1000000) ) | AK17: =IF( ISERROR(AD17+AI17-AJ17), "", AD17+AI17-AJ17 ) | AY17: =SUMIF('4.2.펀드 인력변경 이력'!A:A,D17,'4.2.펀드 인력변경 이력'!F:F) -> 0 | AZ17: =SUMIF('4.2.펀드 인력변경 이력'!A:A,D17,'4.2.펀드 인력변경 이력'!G:G) -> 0 | BA17: =IF(D17="","",IF(AZ17=0,3,IF(AY17/AZ17>3,3,AY17/AZ17)))
T18: =IF(ISBLANK(P18),"",DATEDIF(P18,R18,"d")/365) | X18: =IF(ISBLANK($D18), "", IF( ISERROR( XIRR( OFFSET(펀드_거래,MATCH($D18,OFFSET(펀드_거래,0,0,ROWS(펀드_거래),1),0)-1,2,COUNTIF(펀드_거래,$D18),1), OFFSET(펀드_거래,MATCH($D18,OFFSET(펀드_거래,0,0,ROWS(펀드_거래),1),0)-1,3,COUNTIF(펀드_거래,$D18),1) ) ), "N/A", XIRR( OFFSET(펀드_거래,MATCH($D18,OFFSET(펀드_거래,0,0,ROWS(펀드_거래),1),0)-1,2,COUNTIF(펀드_거래,$D18),1), OFFSET(펀드_거래,MATCH($D18,OFFSET(펀드_거래,0,0,ROWS(펀드_거래),1),0)-1,3,COUNTIF(펀드_거래,$D18),1), IF(SUM(OFFSET(펀드_거래,MATCH($D18,OFFSET(펀드_거래,0,0,ROWS(펀드_거래),1),0)-1,2,COUNTIF(펀드_거래,$D18),1))>0, 1%, -1%) ) ) ) | Y18: =IF( ISBLANK($D18), "", IF(ISNUMBER(O18), (AD18+AE18+AF18+AI18-AJ18)/O18, "N/A") ) | Z18: =IF( ISBLANK($D18), "", SUMPRODUCT( (OFFSET(제안사_투자현황,0,1,ROWS(제안사_투자현황),1)=$D18)*1, ISTEXT(OFFSET(제안사_투자현황,0,3,ROWS(제안사_투자현황),1))*1 ) ) | AA18: =IF( ISBLANK($D18), "0", SUMPRODUCT( (OFFSET(제안사_투자현황,0,1,ROWS(제안사_투자현황),1)=$D18)*1, OFFSET(제안사_투자현황,0,9,ROWS(제안사_투자현황),1)) ) -> 0 | AB18: =IF( ISBLANK($D18), "", SUMPRODUCT( (OFFSET(제안사_투자현황,0,1,ROWS(제안사_투자현황),1)=$D18)*1, OFFSET(제안사_투자현황,0,14,ROWS(제안사_투자현황),1)) ) | AC18: =IF( ISBLANK($D18), "", SUMPRODUCT( (OFFSET(제안사_투자현황,0,1,ROWS(제안사_투자현황),1)=$D18)*1, OFFSET(제안사_투자현황,0,19,ROWS(제안사_투자현황),1)) ) | AD18: =IF( ISBLANK($D18), "", SUMPRODUCT( (OFFSET(제안사_투자현황,0,1,ROWS(제안사_투자현황),1)=$D18)*1, OFFSET(제안사_투자현황,0,20,ROWS(제안사_투자현황),1)) ) | AE18: =IF( ISBLANK($D18), "", SUMPRODUCT( (OFFSET(펀드_거래,0,0,ROWS(펀드_거래),1)=$D18)*1, (OFFSET(펀드_거래,0,1,ROWS(펀드_거래),1)="현금분배")*1, OFFSET(펀드_거래,0,2,ROWS(펀드_거래),1)/1000000 ) + SUMPRODUCT( (OFFSET(펀드_거래,0,0,ROWS(펀드_거래),1)=$D18)*1, (OFFSET(펀드_거래,0,1,ROWS(펀드_거래),1)="현물분배")*1, OFFSET(펀드_거래,0,2,ROWS(펀드_거래),1)/1000000 ) ) | AF18: =IF( ISBLANK($D18), "", SUMPRODUCT( (OFFSET(펀드_거래,0,0,ROWS(펀드_거래),1)=$D18)*1, (OFFSET(펀드_거래,0,1,ROWS(펀드_거래),1)="성과보수")*1, OFFSET(펀드_거래,0,2,ROWS(펀드_거래),1)/1000000) ) | AK18: =IF( ISERROR(AD18+AI18-AJ18), "", AD18+AI18-AJ18 ) | AY18: =SUMIF('4.2.펀드 인력변경 이력'!A:A,D18,'4.2.펀드 인력변경 이력'!F:F) -> 0 | AZ18: =SUMIF('4.2.펀드 인력변경 이력'!A:A,D18,'4.2.펀드 인력변경 이력'!G:G) -> 0 | BA18: =IF(D18="","",IF(AZ18=0,3,IF(AY18/AZ18>3,3,AY18/AZ18)))
T19: =IF(ISBLANK(P19),"",DATEDIF(P19,R19,"d")/365) | X19: =IF(ISBLANK($D19), "", IF( ISERROR( XIRR( OFFSET(펀드_거래,MATCH($D19,OFFSET(펀드_거래,0,0,ROWS(펀드_거래),1),0)-1,2,COUNTIF(펀드_거래,$D19),1), OFFSET(펀드_거래,MATCH($D19,OFFSET(펀드_거래,0,0,ROWS(펀드_거래),1),0)-1,3,COUNTIF(펀드_거래,$D19),1) ) ), "N/A", XIRR( OFFSET(펀드_거래,MATCH($D19,OFFSET(펀드_거래,0,0,ROWS(펀드_거래),1),0)-1,2,COUNTIF(펀드_거래,$D19),1), OFFSET(펀드_거래,MATCH($D19,OFFSET(펀드_거래,0,0,ROWS(펀드_거래),1),0)-1,3,COUNTIF(펀드_거래,$D19),1), IF(SUM(OFFSET(펀드_거래,MATCH($D19,OFFSET(펀드_거래,0,0,ROWS(펀드_거래),1),0)-1,2,COUNTIF(펀드_거래,$D19),1))>0, 1%, -1%) ) ) ) | Y19: =IF( ISBLANK($D19), "", IF(ISNUMBER(O19), (AD19+AE19+AF19+AI19-AJ19)/O19, "N/A") ) | Z19: =IF( ISBLANK($D19), "", SUMPRODUCT( (OFFSET(제안사_투자현황,0,1,ROWS(제안사_투자현황),1)=$D19)*1, ISTEXT(OFFSET(제안사_투자현황,0,3,ROWS(제안사_투자현황),1))*1 ) ) | AA19: =IF( ISBLANK($D19), "0", SUMPRODUCT( (OFFSET(제안사_투자현황,0,1,ROWS(제안사_투자현황),1)=$D19)*1, OFFSET(제안사_투자현황,0,9,ROWS(제안사_투자현황),1)) ) -> 0 | AB19: =IF( ISBLANK($D19), "", SUMPRODUCT( (OFFSET(제안사_투자현황,0,1,ROWS(제안사_투자현황),1)=$D19)*1, OFFSET(제안사_투자현황,0,14,ROWS(제안사_투자현황),1)) ) | AC19: =IF( ISBLANK($D19), "", SUMPRODUCT( (OFFSET(제안사_투자현황,0,1,ROWS(제안사_투자현황),1)=$D19)*1, OFFSET(제안사_투자현황,0,19,ROWS(제안사_투자현황),1)) ) | AD19: =IF( ISBLANK($D19), "", SUMPRODUCT( (OFFSET(제안사_투자현황,0,1,ROWS(제안사_투자현황),1)=$D19)*1, OFFSET(제안사_투자현황,0,20,ROWS(제안사_투자현황),1)) ) | AE19: =IF( ISBLANK($D19), "", SUMPRODUCT( (OFFSET(펀드_거래,0,0,ROWS(펀드_거래),1)=$D19)*1, (OFFSET(펀드_거래,0,1,ROWS(펀드_거래),1)="현금분배")*1, OFFSET(펀드_거래,0,2,ROWS(펀드_거래),1)/1000000 ) + SUMPRODUCT( (OFFSET(펀드_거래,0,0,ROWS(펀드_거래),1)=$D19)*1, (OFFSET(펀드_거래,0,1,ROWS(펀드_거래),1)="현물분배")*1, OFFSET(펀드_거래,0,2,ROWS(펀드_거래),1)/1000000 ) ) | AF19: =IF( ISBLANK($D19), "", SUMPRODUCT( (OFFSET(펀드_거래,0,0,ROWS(펀드_거래),1)=$D19)*1, (OFFSET(펀드_거래,0,1,ROWS(펀드_거래),1)="성과보수")*1, OFFSET(펀드_거래,0,2,ROWS(펀드_거래),1)/1000000) ) | AK19: =IF( ISERROR(AD19+AI19-AJ19), "", AD19+AI19-AJ19 ) | AY19: =SUMIF('4.2.펀드 인력변경 이력'!A:A,D19,'4.2.펀드 인력변경 이력'!F:F) -> 0 | AZ19: =SUMIF('4.2.펀드 인력변경 이력'!A:A,D19,'4.2.펀드 인력변경 이력'!G:G) -> 0 | BA19: =IF(D19="","",IF(AZ19=0,3,IF(AY19/AZ19>3,3,AY19/AZ19)))
T20: =IF(ISBLANK(P20),"",DATEDIF(P20,R20,"d")/365) | X20: =IF(ISBLANK($D20), "", IF( ISERROR( XIRR( OFFSET(펀드_거래,MATCH($D20,OFFSET(펀드_거래,0,0,ROWS(펀드_거래),1),0)-1,2,COUNTIF(펀드_거래,$D20),1), OFFSET(펀드_거래,MATCH($D20,OFFSET(펀드_거래,0,0,ROWS(펀드_거래),1),0)-1,3,COUNTIF(펀드_거래,$D20),1) ) ), "N/A", XIRR( OFFSET(펀드_거래,MATCH($D20,OFFSET(펀드_거래,0,0,ROWS(펀드_거래),1),0)-1,2,COUNTIF(펀드_거래,$D20),1), OFFSET(펀드_거래,MATCH($D20,OFFSET(펀드_거래,0,0,ROWS(펀드_거래),1),0)-1,3,COUNTIF(펀드_거래,$D20),1), IF(SUM(OFFSET(펀드_거래,MATCH($D20,OFFSET(펀드_거래,0,0,ROWS(펀드_거래),1),0)-1,2,COUNTIF(펀드_거래,$D20),1))>0, 1%, -1%) ) ) ) | Y20: =IF( ISBLANK($D20), "", IF(ISNUMBER(O20), (AD20+AE20+AF20+AI20-AJ20)/O20, "N/A") ) | Z20: =IF( ISBLANK($D20), "", SUMPRODUCT( (OFFSET(제안사_투자현황,0,1,ROWS(제안사_투자현황),1)=$D20)*1, ISTEXT(OFFSET(제안사_투자현황,0,3,ROWS(제안사_투자현황),1))*1 ) ) | AA20: =IF( ISBLANK($D20), "0", SUMPRODUCT( (OFFSET(제안사_투자현황,0,1,ROWS(제안사_투자현황),1)=$D20)*1, OFFSET(제안사_투자현황,0,9,ROWS(제안사_투자현황),1)) ) -> 0 | AB20: =IF( ISBLANK($D20), "", SUMPRODUCT( (OFFSET(제안사_투자현황,0,1,ROWS(제안사_투자현황),1)=$D20)*1, OFFSET(제안사_투자현황,0,14,ROWS(제안사_투자현황),1)) ) | AC20: =IF( ISBLANK($D20), "", SUMPRODUCT( (OFFSET(제안사_투자현황,0,1,ROWS(제안사_투자현황),1)=$D20)*1, OFFSET(제안사_투자현황,0,19,ROWS(제안사_투자현황),1)) ) | AD20: =IF( ISBLANK($D20), "", SUMPRODUCT( (OFFSET(제안사_투자현황,0,1,ROWS(제안사_투자현황),1)=$D20)*1, OFFSET(제안사_투자현황,0,20,ROWS(제안사_투자현황),1)) ) | AE20: =IF( ISBLANK($D20), "", SUMPRODUCT( (OFFSET(펀드_거래,0,0,ROWS(펀드_거래),1)=$D20)*1, (OFFSET(펀드_거래,0,1,ROWS(펀드_거래),1)="현금분배")*1, OFFSET(펀드_거래,0,2,ROWS(펀드_거래),1)/1000000 ) + SUMPRODUCT( (OFFSET(펀드_거래,0,0,ROWS(펀드_거래),1)=$D20)*1, (OFFSET(펀드_거래,0,1,ROWS(펀드_거래),1)="현물분배")*1, OFFSET(펀드_거래,0,2,ROWS(펀드_거래),1)/1000000 ) ) | AF20: =IF( ISBLANK($D20), "", SUMPRODUCT( (OFFSET(펀드_거래,0,0,ROWS(펀드_거래),1)=$D20)*1, (OFFSET(펀드_거래,0,1,ROWS(펀드_거래),1)="성과보수")*1, OFFSET(펀드_거래,0,2,ROWS(펀드_거래),1)/1000000) ) | AK20: =IF( ISERROR(AD20+AI20-AJ20), "", AD20+AI20-AJ20 ) | AY20: =SUMIF('4.2.펀드 인력변경 이력'!A:A,D20,'4.2.펀드 인력변경 이력'!F:F) -> 0 | AZ20: =SUMIF('4.2.펀드 인력변경 이력'!A:A,D20,'4.2.펀드 인력변경 이력'!G:G) -> 0 | BA20: =IF(D20="","",IF(AZ20=0,3,IF(AY20/AZ20>3,3,AY20/AZ20)))
T21: =IF(ISBLANK(P21),"",DATEDIF(P21,R21,"d")/365) | X21: =IF(ISBLANK($D21), "", IF( ISERROR( XIRR( OFFSET(펀드_거래,MATCH($D21,OFFSET(펀드_거래,0,0,ROWS(펀드_거래),1),0)-1,2,COUNTIF(펀드_거래,$D21),1), OFFSET(펀드_거래,MATCH($D21,OFFSET(펀드_거래,0,0,ROWS(펀드_거래),1),0)-1,3,COUNTIF(펀드_거래,$D21),1) ) ), "N/A", XIRR( OFFSET(펀드_거래,MATCH($D21,OFFSET(펀드_거래,0,0,ROWS(펀드_거래),1),0)-1,2,COUNTIF(펀드_거래,$D21),1), OFFSET(펀드_거래,MATCH($D21,OFFSET(펀드_거래,0,0,ROWS(펀드_거래),1),0)-1,3,COUNTIF(펀드_거래,$D21),1), IF(SUM(OFFSET(펀드_거래,MATCH($D21,OFFSET(펀드_거래,0,0,ROWS(펀드_거래),1),0)-1,2,COUNTIF(펀드_거래,$D21),1))>0, 1%, -1%) ) ) ) | Y21: =IF( ISBLANK($D21), "", IF(ISNUMBER(O21), (AD21+AE21+AF21+AI21-AJ21)/O21, "N/A") ) | Z21: =IF( ISBLANK($D21), "", SUMPRODUCT( (OFFSET(제안사_투자현황,0,1,ROWS(제안사_투자현황),1)=$D21)*1, ISTEXT(OFFSET(제안사_투자현황,0,3,ROWS(제안사_투자현황),1))*1 ) ) | AA21: =IF( ISBLANK($D21), "0", SUMPRODUCT( (OFFSET(제안사_투자현황,0,1,ROWS(제안사_투자현황),1)=$D21)*1, OFFSET(제안사_투자현황,0,9,ROWS(제안사_투자현황),1)) ) -> 0 | AB21: =IF( ISBLANK($D21), "", SUMPRODUCT( (OFFSET(제안사_투자현황,0,1,ROWS(제안사_투자현황),1)=$D21)*1, OFFSET(제안사_투자현황,0,14,ROWS(제안사_투자현황),1)) ) | AC21: =IF( ISBLANK($D21), "", SUMPRODUCT( (OFFSET(제안사_투자현황,0,1,ROWS(제안사_투자현황),1)=$D21)*1, OFFSET(제안사_투자현황,0,19,ROWS(제안사_투자현황),1)) ) | AD21: =IF( ISBLANK($D21), "", SUMPRODUCT( (OFFSET(제안사_투자현황,0,1,ROWS(제안사_투자현황),1)=$D21)*1, OFFSET(제안사_투자현황,0,20,ROWS(제안사_투자현황),1)) ) | AE21: =IF( ISBLANK($D21), "", SUMPRODUCT( (OFFSET(펀드_거래,0,0,ROWS(펀드_거래),1)=$D21)*1, (OFFSET(펀드_거래,0,1,ROWS(펀드_거래),1)="현금분배")*1, OFFSET(펀드_거래,0,2,ROWS(펀드_거래),1)/1000000 ) + SUMPRODUCT( (OFFSET(펀드_거래,0,0,ROWS(펀드_거래),1)=$D21)*1, (OFFSET(펀드_거래,0,1,ROWS(펀드_거래),1)="현물분배")*1, OFFSET(펀드_거래,0,2,ROWS(펀드_거래),1)/1000000 ) ) | AF21: =IF( ISBLANK($D21), "", SUMPRODUCT( (OFFSET(펀드_거래,0,0,ROWS(펀드_거래),1)=$D21)*1, (OFFSET(펀드_거래,0,1,ROWS(펀드_거래),1)="성과보수")*1, OFFSET(펀드_거래,0,2,ROWS(펀드_거래),1)/1000000) ) | AK21: =IF( ISERROR(AD21+AI21-AJ21), "", AD21+AI21-AJ21 ) | AY21: =SUMIF('4.2.펀드 인력변경 이력'!A:A,D21,'4.2.펀드 인력변경 이력'!F:F) -> 0 | AZ21: =SUMIF('4.2.펀드 인력변경 이력'!A:A,D21,'4.2.펀드 인력변경 이력'!G:G) -> 0 | BA21: =IF(D21="","",IF(AZ21=0,3,IF(AY21/AZ21>3,3,AY21/AZ21)))
